BEGIN:VCALENDAR
VERSION:2.0
PRODID:-//Minnesota Humanities Center - ECPv6.15.20//NONSGML v1.0//EN
CALSCALE:GREGORIAN
METHOD:PUBLISH
X-ORIGINAL-URL:https://www.mnhum.org
X-WR-CALDESC:Events for Minnesota Humanities Center
REFRESH-INTERVAL;VALUE=DURATION:PT1H
X-Robots-Tag:noindex
X-PUBLISHED-TTL:PT1H
BEGIN:VTIMEZONE
TZID:America/Chicago
BEGIN:DAYLIGHT
TZOFFSETFROM:-0600
TZOFFSETTO:-0500
TZNAME:CDT
DTSTART:20230312T080000
END:DAYLIGHT
BEGIN:STANDARD
TZOFFSETFROM:-0500
TZOFFSETTO:-0600
TZNAME:CST
DTSTART:20231105T070000
END:STANDARD
BEGIN:DAYLIGHT
TZOFFSETFROM:-0600
TZOFFSETTO:-0500
TZNAME:CDT
DTSTART:20240310T080000
END:DAYLIGHT
BEGIN:STANDARD
TZOFFSETFROM:-0500
TZOFFSETTO:-0600
TZNAME:CST
DTSTART:20241103T070000
END:STANDARD
BEGIN:DAYLIGHT
TZOFFSETFROM:-0600
TZOFFSETTO:-0500
TZNAME:CDT
DTSTART:20250309T080000
END:DAYLIGHT
BEGIN:STANDARD
TZOFFSETFROM:-0500
TZOFFSETTO:-0600
TZNAME:CST
DTSTART:20251102T070000
END:STANDARD
END:VTIMEZONE
BEGIN:VEVENT
DTSTART;VALUE=DATE:20240620
DTEND;VALUE=DATE:20240813
DTSTAMP:20260420T215445
CREATED:20231218T202255Z
LAST-MODIFIED:20250814T174120Z
UID:10000399-1718841600-1723507199@www.mnhum.org
SUMMARY:North Branch - We Are Water MN
DESCRIPTION:The We Are Water MN traveling exhibit examines water issues statewide and in local communities through personal stories\, histories\, and scientific information. It strengthens Minnesotans’ relationships with water\, exposes visitors to new perspectives\, and increases participation in water stewardship activities. \nHost Partner: Chisago County \nWant to know more about We Are Water MN?\nLearn more about the We Are Water MN exhibit\, partnership\, and programs. \nLearn More
URL:https://www.mnhum.org/event/north-branch-we-are-water-mn/
LOCATION:North Branch Area Library\, 6355 379th St.\, North Branch\, MN\, 55056\, United States
CATEGORIES:Civic Renewal,Exhibit,Free,Kid Friendly,We Are Water MN
ATTACH;FMTTYPE=image/jpeg:https://www.mnhum.org/wp-content/uploads/2022/04/event_we_are_water.jpg
ORGANIZER;CN="Rachel Busse-Aswar":MAILTO:rachel@mnhum.org
END:VEVENT
BEGIN:VEVENT
DTSTART;TZID=America/Chicago:20240728T130000
DTEND;TZID=America/Chicago:20240728T163000
DTSTAMP:20260420T215445
CREATED:20240610T154903Z
LAST-MODIFIED:20240610T154903Z
UID:10000428-1722171600-1722184200@www.mnhum.org
SUMMARY:St. Paul – Headscarf Story Circle Gathering – The Nibi Walk
DESCRIPTION:The Minnesota Humanities Center (MHC) is excited to host Headscarf Story Circle – a series of offerings that recognizes the strength and resiliency of women. Join us as we gather together through the shared connection of the headscarf and its complexity. Guests are encouraged to wear a headscarf or head dress that is symbolic of anything from a fashion statement\, cultural identity\, health related\, or memories\, and beliefs. \nThe July 28 Headscarf Story Circle Gathering will feature the Nibi Walk and its healing connectedness to women. Join us for this remarkable immersive experience guided by Sharon Day\, leader of Nibi Walks and Executive Director of the Indigenous People’s Task Force. This special Nibi Walk has been tailored to include a short physical walk from the Minnesota Humanities Center (MHC) over to Lake Phalen where the water ritual will take place and then participants will return to MHC for reflections. Please dress for the weather and wear comfortable walking shoes. The walk from MHC to Lake Phalen will be 5-8 minutes. To prepare and understand with greater respect\, please visit the Nibi Walk website. \nTo learn more about Headscarf Story Circle\, watch our program video. \n \nRegistration\nThere is no cost to attend this event\, but registration is required.  \nRegistration Questions: registrations@mnhum.org  \nRegister Now
URL:https://www.mnhum.org/event/headscarf-story-circle-nibi-walk/
LOCATION:Minnesota Humanities Event Center\, 987 Ivy Avenue East\, Saint Paul\, MN\, 55106\, United States
CATEGORIES:Free,Headscarf Story Circle,Immersive Experiences,Public Programs
ATTACH;FMTTYPE=image/png:https://www.mnhum.org/wp-content/uploads/2024/06/event_headscarf_nibi_walk.png
ORGANIZER;CN="Rose McGee":MAILTO:rose@mnhum.org
END:VEVENT
END:VCALENDAR