BEGIN:VCALENDAR
VERSION:2.0
PRODID:-//Minnesota Humanities Center - ECPv6.15.20//NONSGML v1.0//EN
CALSCALE:GREGORIAN
METHOD:PUBLISH
X-ORIGINAL-URL:https://www.mnhum.org
X-WR-CALDESC:Events for Minnesota Humanities Center
REFRESH-INTERVAL;VALUE=DURATION:PT1H
X-Robots-Tag:noindex
X-PUBLISHED-TTL:PT1H
BEGIN:VTIMEZONE
TZID:America/Chicago
BEGIN:DAYLIGHT
TZOFFSETFROM:-0600
TZOFFSETTO:-0500
TZNAME:CDT
DTSTART:20230312T080000
END:DAYLIGHT
BEGIN:STANDARD
TZOFFSETFROM:-0500
TZOFFSETTO:-0600
TZNAME:CST
DTSTART:20231105T070000
END:STANDARD
BEGIN:DAYLIGHT
TZOFFSETFROM:-0600
TZOFFSETTO:-0500
TZNAME:CDT
DTSTART:20240310T080000
END:DAYLIGHT
BEGIN:STANDARD
TZOFFSETFROM:-0500
TZOFFSETTO:-0600
TZNAME:CST
DTSTART:20241103T070000
END:STANDARD
BEGIN:DAYLIGHT
TZOFFSETFROM:-0600
TZOFFSETTO:-0500
TZNAME:CDT
DTSTART:20250309T080000
END:DAYLIGHT
BEGIN:STANDARD
TZOFFSETFROM:-0500
TZOFFSETTO:-0600
TZNAME:CST
DTSTART:20251102T070000
END:STANDARD
END:VTIMEZONE
BEGIN:VEVENT
DTSTART;VALUE=DATE:20241010
DTEND;VALUE=DATE:20241208
DTSTAMP:20260420T162747
CREATED:20231218T204034Z
LAST-MODIFIED:20250814T174054Z
UID:10000401-1728518400-1733615999@www.mnhum.org
SUMMARY:Shakopee - We Are Water MN
DESCRIPTION:The We Are Water MN traveling exhibit examines water issues statewide and in local communities through personal stories\, histories\, and scientific information. It strengthens Minnesotans’ relationships with water\, exposes visitors to new perspectives\, and increases participation in water stewardship activities. \nHost Partner: Hocokata Ti at Shakopee Mdewakanton Sioux Community \nWant to know more about We Are Water MN?\nLearn more about the We Are Water MN exhibit\, partnership\, and programs. \nLearn More
URL:https://www.mnhum.org/event/shakopee-we-are-water-mn/
LOCATION:Hocokata Ti\, 2300 Tiwahe Circle\, Shakopee\, MN\, 55372\, United States
CATEGORIES:Civic Renewal,Exhibit,Free,Kid Friendly,We Are Water MN
ATTACH;FMTTYPE=image/jpeg:https://www.mnhum.org/wp-content/uploads/2022/04/event_we_are_water.jpg
ORGANIZER;CN="Rachel Busse-Aswar":MAILTO:rachel@mnhum.org
END:VEVENT
BEGIN:VEVENT
DTSTART;VALUE=DATE:20241122
DTEND;VALUE=DATE:20241124
DTSTAMP:20260420T162747
CREATED:20230928T152223Z
LAST-MODIFIED:20241107T173115Z
UID:10000391-1732233600-1732406399@www.mnhum.org
SUMMARY:St. Paul - Minnesota English Learner Education (MELEd) Fall Conference
DESCRIPTION:The annual MELEd Fall Conference will be held November 22-23\, 2024 at the Saint Paul RiverCentre. The Minnesota English Learner Education Conference is a partnership between MinneTESOL and the Minnesota Department of Education. Educators come together to celebrate\, share information\, learn from and with each other\, and network across Minnesota for ESL\, Dual Language and Bilingual Education\, and Migrant Education. \nThe Minnesota Humanities Center will be tabling and presenting two sessions at the conference: \n\nCulturally Rich Resources for All Learners – Friday\, November 22\, 10:15-11:00 a.m.\nAmplifying Student Voice through the Latino Poetry Anthology\, Places We Call Home – Saturday\, November 23\, 2:00-2:45 p.m.\n\nRegistration\nRegistration Questions: admin@minnetesol.org \nRegister Now
URL:https://www.mnhum.org/event/meled-fall-conference/
LOCATION:Saint Paul RiverCentre\, 175 Kellogg Blvd\, St. Paul\, MN\, 55102\, United States
CATEGORIES:K-12 Education,Professional Development
ATTACH;FMTTYPE=image/jpeg:https://www.mnhum.org/wp-content/uploads/2023/09/event_meled_fall_conference.jpg
ORGANIZER;CN="Eden Bart":MAILTO:eden@mnhum.org
END:VEVENT
END:VCALENDAR