BEGIN:VCALENDAR
VERSION:2.0
PRODID:-//Minnesota Humanities Center - ECPv6.15.20//NONSGML v1.0//EN
CALSCALE:GREGORIAN
METHOD:PUBLISH
X-ORIGINAL-URL:https://www.mnhum.org
X-WR-CALDESC:Events for Minnesota Humanities Center
REFRESH-INTERVAL;VALUE=DURATION:PT1H
X-Robots-Tag:noindex
X-PUBLISHED-TTL:PT1H
BEGIN:VTIMEZONE
TZID:America/Chicago
BEGIN:DAYLIGHT
TZOFFSETFROM:-0600
TZOFFSETTO:-0500
TZNAME:CDT
DTSTART:20240310T080000
END:DAYLIGHT
BEGIN:STANDARD
TZOFFSETFROM:-0500
TZOFFSETTO:-0600
TZNAME:CST
DTSTART:20241103T070000
END:STANDARD
BEGIN:DAYLIGHT
TZOFFSETFROM:-0600
TZOFFSETTO:-0500
TZNAME:CDT
DTSTART:20250309T080000
END:DAYLIGHT
BEGIN:STANDARD
TZOFFSETFROM:-0500
TZOFFSETTO:-0600
TZNAME:CST
DTSTART:20251102T070000
END:STANDARD
BEGIN:DAYLIGHT
TZOFFSETFROM:-0600
TZOFFSETTO:-0500
TZNAME:CDT
DTSTART:20260308T080000
END:DAYLIGHT
BEGIN:STANDARD
TZOFFSETFROM:-0500
TZOFFSETTO:-0600
TZNAME:CST
DTSTART:20261101T070000
END:STANDARD
END:VTIMEZONE
BEGIN:VEVENT
DTSTART;VALUE=DATE:20250424
DTEND;VALUE=DATE:20250617
DTSTAMP:20260420T080811
CREATED:20250401T145209Z
LAST-MODIFIED:20250814T173923Z
UID:10000496-1745452800-1750118399@www.mnhum.org
SUMMARY:Ely - We Are Water MN
DESCRIPTION:The We Are Water MN traveling exhibit examines water issues statewide and in local communities through personal stories\, histories\, and scientific information. It strengthens Minnesotans’ relationships with water\, exposes visitors to new perspectives\, and increases participation in water stewardship activities. \nHost Partner: Ely Folk School \nWant to know more about We Are Water MN?\nLearn more about the We Are Water MN exhibit\, partnership\, and programs. \nLearn More
URL:https://www.mnhum.org/event/ely-we-are-water-mn/
LOCATION:Ely Area Community Hub\, 760 Miners Drive E\, Ely\, MN\, 55731\, United States
CATEGORIES:Civic Renewal,Exhibit,Free,Greater Minnesota,Kid Friendly,Public Programs,We Are Water MN
ATTACH;FMTTYPE=image/jpeg:https://www.mnhum.org/wp-content/uploads/2022/04/event_we_are_water.jpg
ORGANIZER;CN="Rachel Busse-Aswar":MAILTO:rachel@mnhum.org
END:VEVENT
BEGIN:VEVENT
DTSTART;TZID=America/Chicago:20250523T080000
DTEND;TZID=America/Chicago:20250523T200000
DTSTAMP:20260420T080811
CREATED:20250522T185905Z
LAST-MODIFIED:20250522T185905Z
UID:10000513-1747987200-1748030400@www.mnhum.org
SUMMARY:Minneapolis - Remembrance Day - Commemorating George Floyd
DESCRIPTION:Join Minnesota Humanities Center for the second annual Day of Remembrance (DOR)—a community-centered event dedicated to honoring the legacy of George Floyd\, five years after his tragic murder\, and recognizing the global movement it ignited. \nMarking five years since that pivotal moment\, DOR is a full day of reflection\, healing\, and unity. The event includes four key components: \n8:00am Interfaith Prayer Gathering at Minneapolis City Hall \n9:00am Remembrance Brunch (sold out ticketed event) – panel discussion facilitated by MHC’s CEO\, Kevin Lindsey \n12:30pm Moment of Silence at George Floyd Square \n5:00pm Art Highlights\, Art Heals\, Art Activates at the Minneapolis Institute of Art \nFor complete details\, please visit the Win Back website.
URL:https://www.mnhum.org/event/minneapolis-remembrance-day-commemorating-george-floyd/
LOCATION:MN
ATTACH;FMTTYPE=image/jpeg:https://www.mnhum.org/wp-content/uploads/2025/05/event_george_floyd_day_of_remembrance.jpg
ORGANIZER;CN="MayKao Fredericks":MAILTO:maykao@mnhum.org
END:VEVENT
END:VCALENDAR