BEGIN:VCALENDAR
VERSION:2.0
PRODID:-//Minnesota Humanities Center - ECPv6.15.20//NONSGML v1.0//EN
CALSCALE:GREGORIAN
METHOD:PUBLISH
X-WR-CALNAME:Minnesota Humanities Center
X-ORIGINAL-URL:https://www.mnhum.org
X-WR-CALDESC:Events for Minnesota Humanities Center
REFRESH-INTERVAL;VALUE=DURATION:PT1H
X-Robots-Tag:noindex
X-PUBLISHED-TTL:PT1H
BEGIN:VTIMEZONE
TZID:America/Chicago
BEGIN:DAYLIGHT
TZOFFSETFROM:-0600
TZOFFSETTO:-0500
TZNAME:CDT
DTSTART:20240310T080000
END:DAYLIGHT
BEGIN:STANDARD
TZOFFSETFROM:-0500
TZOFFSETTO:-0600
TZNAME:CST
DTSTART:20241103T070000
END:STANDARD
BEGIN:DAYLIGHT
TZOFFSETFROM:-0600
TZOFFSETTO:-0500
TZNAME:CDT
DTSTART:20250309T080000
END:DAYLIGHT
BEGIN:STANDARD
TZOFFSETFROM:-0500
TZOFFSETTO:-0600
TZNAME:CST
DTSTART:20251102T070000
END:STANDARD
BEGIN:DAYLIGHT
TZOFFSETFROM:-0600
TZOFFSETTO:-0500
TZNAME:CDT
DTSTART:20260308T080000
END:DAYLIGHT
BEGIN:STANDARD
TZOFFSETFROM:-0500
TZOFFSETTO:-0600
TZNAME:CST
DTSTART:20261101T070000
END:STANDARD
END:VTIMEZONE
BEGIN:VEVENT
DTSTART;VALUE=DATE:20250814
DTEND;VALUE=DATE:20251007
DTSTAMP:20260420T061156
CREATED:20250422T212604Z
LAST-MODIFIED:20250814T173627Z
UID:10000505-1755129600-1759795199@www.mnhum.org
SUMMARY:Henderson - We Are Water MN
DESCRIPTION:The We Are Water MN traveling exhibit examines water issues statewide and in local communities through personal stories\, histories\, and scientific information. It strengthens Minnesotans’ relationships with water\, exposes visitors to new perspectives\, and increases participation in water stewardship activities. \nHost Partner: Ney Nature Center \nWant to know more about We Are Water MN?\nLearn more about the We Are Water MN exhibit\, partnership\, and programs. \nLearn More
URL:https://www.mnhum.org/event/henderson-we-are-water-mn/
LOCATION:Ney Nature Center\, 28238 Nature Center Ln\, Henderson\, MN\, 56044\, United States
CATEGORIES:Civic Renewal,Exhibit,Free,Kid Friendly,Public Programs,We Are Water MN
ATTACH;FMTTYPE=image/jpeg:https://www.mnhum.org/wp-content/uploads/2022/04/event_we_are_water.jpg
ORGANIZER;CN="Rachel Busse-Aswar":MAILTO:rachel@mnhum.org
END:VEVENT
BEGIN:VEVENT
DTSTART;TZID=America/Chicago:20250822T173000
DTEND;TZID=America/Chicago:20250822T200000
DTSTAMP:20260420T061156
CREATED:20250729T210708Z
LAST-MODIFIED:20250729T210708Z
UID:10000538-1755883800-1755892800@www.mnhum.org
SUMMARY:Maplewood - Feeding Our Soul: The Essence of Asian Joy
DESCRIPTION:As part of our Feeding Our Souls: The Essence of Cultural Joy series\, the Minnesota Humanities Center invites you to an engaging Night Market Pop-Up experience celebrating the stories\, sounds\, and street foods that bring communities and neighborhoods together. \nNight markets can be traced back to China\, where they provided locals with quick meals and joyful entertainment after a long day’s work\, similar to a cultural “happy hour.” From Asia to the Americas\, these nocturnal bazaars offer goods\, stories\, traditions\, and flavors deeply rooted in local identity. \nJoin us for a curated program featuring Asian food\, music\, live performance\, and laughter featuring Saymoukda Duangphouxay Vongsay and Eve Vang. You’ll also hear personal reflections from a beloved food truck chef. \nGuests will have the opportunity to write and share short reflections or spoken word inspired by their favorite street food memories\, with a chance to win prizes provided by our venue host\, Pan Asian Center. \nCome hungry\, food truck meals and beverages will be available for purchase. \nCome for the food\, stay for the laughter and feed your soul. \n5:30 p.m. – 8:00 p.m. – Food Trucks Open\n6:00 p.m. – 8:00 p.m. – Performances and Open Mic \nRegistration\nSo that we can deliver the best event experience\, registration is encouraged. \nRegistration Questions: registrations@mnhum.org  \nRegister Now
URL:https://www.mnhum.org/event/maplewood-feeding-our-soul-the-essence-of-asian-joy/
LOCATION:Pan Asian Center\, 3001 White Bear Ave\, Maplewood\, 55109\, United States
CATEGORIES:Feeding Our Souls,Free,Immersive Experiences
ATTACH;FMTTYPE=image/png:https://www.mnhum.org/wp-content/uploads/2025/07/event_fos_night_market_2025.png
ORGANIZER;CN="MayKao Fredericks":MAILTO:maykao@mnhum.org
END:VEVENT
END:VCALENDAR