BEGIN:VCALENDAR
VERSION:2.0
PRODID:-//Minnesota Humanities Center - ECPv6.15.20//NONSGML v1.0//EN
CALSCALE:GREGORIAN
METHOD:PUBLISH
X-WR-CALNAME:Minnesota Humanities Center
X-ORIGINAL-URL:https://www.mnhum.org
X-WR-CALDESC:Events for Minnesota Humanities Center
REFRESH-INTERVAL;VALUE=DURATION:PT1H
X-Robots-Tag:noindex
X-PUBLISHED-TTL:PT1H
BEGIN:VTIMEZONE
TZID:America/Chicago
BEGIN:DAYLIGHT
TZOFFSETFROM:-0600
TZOFFSETTO:-0500
TZNAME:CDT
DTSTART:20240310T080000
END:DAYLIGHT
BEGIN:STANDARD
TZOFFSETFROM:-0500
TZOFFSETTO:-0600
TZNAME:CST
DTSTART:20241103T070000
END:STANDARD
BEGIN:DAYLIGHT
TZOFFSETFROM:-0600
TZOFFSETTO:-0500
TZNAME:CDT
DTSTART:20250309T080000
END:DAYLIGHT
BEGIN:STANDARD
TZOFFSETFROM:-0500
TZOFFSETTO:-0600
TZNAME:CST
DTSTART:20251102T070000
END:STANDARD
BEGIN:DAYLIGHT
TZOFFSETFROM:-0600
TZOFFSETTO:-0500
TZNAME:CDT
DTSTART:20260308T080000
END:DAYLIGHT
BEGIN:STANDARD
TZOFFSETFROM:-0500
TZOFFSETTO:-0600
TZNAME:CST
DTSTART:20261101T070000
END:STANDARD
END:VTIMEZONE
BEGIN:VEVENT
DTSTART;TZID=America/Chicago:20251106T113000
DTEND;TZID=America/Chicago:20251106T133000
DTSTAMP:20260420T020052
CREATED:20250910T204840Z
LAST-MODIFIED:20250911T143644Z
UID:10000573-1762428600-1762435800@www.mnhum.org
SUMMARY:St. Paul - 2025 Event Center Annual Open House
DESCRIPTION:Gather your colleagues and friends and stop in to tour our warm and elegant event spaces\, then have lunch on us! You will network with other planners\, and enjoy a sampling in-house catering options from our incredible chef. \nSurrounded by parkland yet minutes from downtown St. Paul\, you’ll feel connected to the city but free of its distractions. We have lots of natural light flooding our flexible meeting spaces and have 15 cozy private overnight lodging rooms onsite. Our historic Event Center invites both lively discussion and quiet reflection\, providing the perfect setting for a successful event! \nRegistration\nThe open house is free to attend\, but registration is strongly encouraged. \nRegister Now
URL:https://www.mnhum.org/event/st-paul-2025-event-center-annual-open-house/
LOCATION:Minnesota Humanities Event Center\, 987 Ivy Avenue East\, Saint Paul\, MN\, 55106\, United States
CATEGORIES:Free,Open House
ATTACH;FMTTYPE=image/jpeg:https://www.mnhum.org/wp-content/uploads/2025/09/event_annual_open_house_2025.jpg
ORGANIZER;CN="Nicole McMahon":MAILTO:nicole@mnhum.org
END:VEVENT
BEGIN:VEVENT
DTSTART;TZID=America/Chicago:20251106T180000
DTEND;TZID=America/Chicago:20251106T193000
DTSTAMP:20260420T020052
CREATED:20251017T220708Z
LAST-MODIFIED:20251104T172005Z
UID:10000600-1762452000-1762457400@www.mnhum.org
SUMMARY:Red Wing - Art and War: A Conversation
DESCRIPTION:Join the Minnesota Humanities Center and Anderson Center for a moderated conversation with artists who either focus on the representation of war and armed conflict in their art\, or who have created art that addressed these subjects. Artists will discuss their creative output\, what it means to interpret experiences of warfare\, what happens in the act of interpretation and artistic creation\, and what the viewing public can learn from interaction with and communal discussion of these works. \nAbout the Artists\nMary Horgan is an artist and retired Staff Sergeant (U.S. Army). Among multiple activations\, she served in the Iraq War in 2006. Horgan’s art confronts the harsh realities of war and the honorable pursuit of peace for all. Since retiring\, art has become her tool for healing\, peace\, and resistance. Horgan’s work includes the memorial to women Veterans\, “You Will Not Erase Us\,” commissioned by the City of Ramsey in Minnesota. She also creates a range of two and three-dimensional art pieces that explore themes of conflict\, survival\, resistance\, nature\, beauty\, and truth-telling. \nBesides her artistic work\, Horgan is a mother and grandmother\, and caretaker of animals and gardens. She is passionate about our nation’s democracy and creates work rooted in justice\, resilience\, and deep personal truth and recovery. \nJustin Newhall is an American artist currently based in Minneapolis. His work has been exhibited at Museum of Contemporary Photography (Chicago)\, Walker Art Center (Minneapolis)\, Royal Academy of Arts (London)\, Galerie Lichtblick (Cologne)\, Museum of Art at Rhode Island School of Design (Providence)\, Tehran Museum of Contemporary Art\, and Jen Bekman Gallery (New York)\, among others. \nNewhall is the recipient of artist fellowships from the McKnight Foundation\, Minnesota State Arts Board\, and Jerome Foundation. His work is represented in public and private collections\, including the Museum of Contemporary Photography\, Walker Art Center\, and George Eastman House (New York). \nMegan Rye is a visual artist and teacher. She was born in Seoul\, South Korea in 1975\, and currently lives in Minneapolis. Through paintings\, drawings\, photography\, and artists books\, Rye uses visual storytelling to explore themes of migration\, citizenship\, remembrance\, war\, and democracy. Rye’s first significant body of work\, “I Will Follow You Into the Dark\,” was a series of paintings based on photographs Rye’s brother took while serving in Iraq. This project debuted at the Minneapolis Institute of Art (2007)\, and was Rye’s first solo exhibit in New York City at Forum Gallery (2011). The aftermath of the Iraq War continues to reverberate\, and the paintings have been studied and exhibited widely\, including a recent exhibition at the Kunsthalle Emden (Germany). \nRye’s work has been sustained by significant support from the Bush Foundation\, McKnight Foundation\, Jerome Foundation\, and the Minnesota State Arts Board. \nAbout the Moderator\nMonica Moses Haller is an artist whose work spans photography\, writing\, sound\, and focuses on personal details that explore violence and possibilities within social and environmental systems. She has received fellowships from the Guggenheim Foundation\, McKnight Foundation\, Jerome Foundation\, and the National Endowment for the Arts\, among others. Moses Haller has exhibited and lectured at locations including Centre Pompidou\, Paris; the Leipziger Baumwollspinnerei\, Leipzig; and the Minneapolis Institute of Art. Her artist books are collected by intuitions ranging from the Tate Modern\, London\, to MOMA\, New York. Moses Haller works internationally and is based in her hometown of Minneapolis\, where she is an associate professor at the University of Minnesota\, Department of Art. \nThis program is presented in partnership with Anderson Center at Tower View\, a Red Wing-based arts and humanities organization that celebrates the imagination and support the development of new arts and ideas through residencies\, studios\, and public engagement. \nRegistration\nThis event is free to attend. Registration is encouraged. Light refreshments will be served at the event. \nRegistration Questions: registrations@mnhum.org  \nRegister Now
URL:https://www.mnhum.org/event/red-wing-art-and-war-a-conversation/
LOCATION:Anderson Center at Tower View\, 163 Tower View Drive\, Red Wing\, MN\, 55066\, United States
CATEGORIES:Free,Many Fronts,Public Programming
ATTACH;FMTTYPE=image/png:https://www.mnhum.org/wp-content/uploads/2025/10/event_art_and_war_2025.png
ORGANIZER;CN="Colin Nelson-Dusek":MAILTO:colin@mnhum.org
END:VEVENT
END:VCALENDAR