BEGIN:VCALENDAR
VERSION:2.0
PRODID:-//Minnesota Humanities Center - ECPv6.15.20//NONSGML v1.0//EN
CALSCALE:GREGORIAN
METHOD:PUBLISH
X-WR-CALNAME:Minnesota Humanities Center
X-ORIGINAL-URL:https://www.mnhum.org
X-WR-CALDESC:Events for Minnesota Humanities Center
REFRESH-INTERVAL;VALUE=DURATION:PT1H
X-Robots-Tag:noindex
X-PUBLISHED-TTL:PT1H
BEGIN:VTIMEZONE
TZID:America/Chicago
BEGIN:DAYLIGHT
TZOFFSETFROM:-0600
TZOFFSETTO:-0500
TZNAME:CDT
DTSTART:20240310T080000
END:DAYLIGHT
BEGIN:STANDARD
TZOFFSETFROM:-0500
TZOFFSETTO:-0600
TZNAME:CST
DTSTART:20241103T070000
END:STANDARD
BEGIN:DAYLIGHT
TZOFFSETFROM:-0600
TZOFFSETTO:-0500
TZNAME:CDT
DTSTART:20250309T080000
END:DAYLIGHT
BEGIN:STANDARD
TZOFFSETFROM:-0500
TZOFFSETTO:-0600
TZNAME:CST
DTSTART:20251102T070000
END:STANDARD
BEGIN:DAYLIGHT
TZOFFSETFROM:-0600
TZOFFSETTO:-0500
TZNAME:CDT
DTSTART:20260308T080000
END:DAYLIGHT
BEGIN:STANDARD
TZOFFSETFROM:-0500
TZOFFSETTO:-0600
TZNAME:CST
DTSTART:20261101T070000
END:STANDARD
BEGIN:DAYLIGHT
TZOFFSETFROM:-0600
TZOFFSETTO:-0500
TZNAME:CDT
DTSTART:20270314T080000
END:DAYLIGHT
BEGIN:STANDARD
TZOFFSETFROM:-0500
TZOFFSETTO:-0600
TZNAME:CST
DTSTART:20271107T070000
END:STANDARD
END:VTIMEZONE
BEGIN:VEVENT
DTSTART;VALUE=DATE:20251122
DTEND;VALUE=DATE:20260202
DTSTAMP:20260420T002906
CREATED:20250422T212609Z
LAST-MODIFIED:20251118T220410Z
UID:10000506-1763769600-1769990399@www.mnhum.org
SUMMARY:Bloomington - We Are Water MN
DESCRIPTION:The We Are Water MN traveling exhibit examines water issues statewide and in local communities through personal stories\, histories\, and scientific information. It strengthens Minnesotans’ relationships with water\, exposes visitors to new perspectives\, and increases participation in water stewardship activities. \nHost Partner: Minnesota Valley National Wildlife Refuge \nWant to know more about We Are Water MN?\nLearn more about the We Are Water MN exhibit\, partnership\, and programs. \nLearn More
URL:https://www.mnhum.org/event/bloomington-we-are-water-mn/
LOCATION:Bloomington Education and Visitor Center\, 3815 American Blvd E\, Bloomington\, MN\, 55425\, United States
CATEGORIES:Civic Renewal,Exhibit,Free,Kid Friendly,Public Programs,We Are Water MN
ATTACH;FMTTYPE=image/jpeg:https://www.mnhum.org/wp-content/uploads/2022/04/event_we_are_water.jpg
ORGANIZER;CN="Rachel Busse-Aswar":MAILTO:rachel@mnhum.org
END:VEVENT
BEGIN:VEVENT
DTSTART;TZID=America/Chicago:20251203T080000
DTEND;TZID=America/Chicago:20251203T160000
DTSTAMP:20260420T002906
CREATED:20251104T220056Z
LAST-MODIFIED:20251113T135659Z
UID:10000601-1764748800-1764777600@www.mnhum.org
SUMMARY:St. Paul - From Mountains to Lakes: The Museums We Carry
DESCRIPTION:Across mountains\, oceans\, generations\, and borders\, the Hmong people have carried songs\, textiles\, and rituals that tell the stories of their identity for hundreds of years. Elders serve as living museums\, passing knowledge from one generation to the next. Yet what happens when that transfer is disrupted\, when younger generations reach for knowledge through the internet or AI\, without understanding that Hmong truths live in many forms\, shaped by clan\, dialect\, nationalism\, and landscapes across the globe? \nFrom Mountains to Lakes: The Museums We Carry is a daylong retreat that brings together Hmong cultural bearers\, educators\, and community leaders to examine the dangers of cultural extinction and explore collective ways to preserve identity. Held at the Hoċokata Ti Cultural Center\, participants will engage in a guided learning experience led by members of the Shakopee Mdewakanton Sioux Community\, reflecting on how Indigenous peoples sustain culture\, language\, and identity across generations. The retreat concludes with a collective reflection on the challenges ahead and a call to action to carry these living museums forward together. \nAgenda: \n\n8:00am Check-in at Minnesota Humanities Center\, light continental breakfast will be served (8:00am – 8:45am)\n8:45am Load Bus\n9:00am Travel to Hocokata Ti Culture Center (Shakopee\, MN)\n9:45am Culture & Exhibit Tour (indoor & outdoor)\nNoon Indigenous Lunch & Culture Exchange Panel Discussion\n2:00pm Depart Hocokata Ti Culture Center and return to MHC\n3:00pm Reflection\n4:00pm Adjourn\n\nK-12 Educators will receive 4 clock hours. Participants are welcome to wear traditional clothing. \nRegistration\nRegistration for this event has SOLD OUT. \nRegistration Questions: registrations@mnhum.org
URL:https://www.mnhum.org/event/st-paul-from-mountains-to-lakes-the-museums-we-carry/
LOCATION:Minnesota Humanities Event Center\, 987 Ivy Avenue East\, Saint Paul\, MN\, 55106\, United States
CATEGORIES:CEUs/Clock Hours,Free,Immersive Experiences,Professional Development
ATTACH;FMTTYPE=image/png:https://www.mnhum.org/wp-content/uploads/2025/11/event_musuems_we_carry.png
ORGANIZER;CN="MayKao Fredericks":MAILTO:maykao@mnhum.org
END:VEVENT
END:VCALENDAR