BEGIN:VCALENDAR
VERSION:2.0
PRODID:-//Minnesota Humanities Center - ECPv6.15.20//NONSGML v1.0//EN
CALSCALE:GREGORIAN
METHOD:PUBLISH
X-ORIGINAL-URL:https://www.mnhum.org
X-WR-CALDESC:Events for Minnesota Humanities Center
REFRESH-INTERVAL;VALUE=DURATION:PT1H
X-Robots-Tag:noindex
X-PUBLISHED-TTL:PT1H
BEGIN:VTIMEZONE
TZID:America/Chicago
BEGIN:DAYLIGHT
TZOFFSETFROM:-0600
TZOFFSETTO:-0500
TZNAME:CDT
DTSTART:20250309T080000
END:DAYLIGHT
BEGIN:STANDARD
TZOFFSETFROM:-0500
TZOFFSETTO:-0600
TZNAME:CST
DTSTART:20251102T070000
END:STANDARD
BEGIN:DAYLIGHT
TZOFFSETFROM:-0600
TZOFFSETTO:-0500
TZNAME:CDT
DTSTART:20260308T080000
END:DAYLIGHT
BEGIN:STANDARD
TZOFFSETFROM:-0500
TZOFFSETTO:-0600
TZNAME:CST
DTSTART:20261101T070000
END:STANDARD
BEGIN:DAYLIGHT
TZOFFSETFROM:-0600
TZOFFSETTO:-0500
TZNAME:CDT
DTSTART:20270314T080000
END:DAYLIGHT
BEGIN:STANDARD
TZOFFSETFROM:-0500
TZOFFSETTO:-0600
TZNAME:CST
DTSTART:20271107T070000
END:STANDARD
END:VTIMEZONE
BEGIN:VEVENT
DTSTART;VALUE=DATE:20260224
DTEND;VALUE=DATE:20260421
DTSTAMP:20260419T201433
CREATED:20251222T205629Z
LAST-MODIFIED:20251222T205629Z
UID:10000609-1771891200-1776729599@www.mnhum.org
SUMMARY:Byron - We Are Water MN
DESCRIPTION:The We Are Water MN traveling exhibit examines water issues statewide and in local communities through personal stories\, histories\, and scientific information. It strengthens Minnesotans’ relationships with water\, exposes visitors to new perspectives\, and increases participation in water stewardship activities. \nHost Partner: Oxbow Park and Zollman Zoo \nWe Are Water MN is thrilled to make its 2026 debut at our very first zoo host site! Please visit the exhibit at the newly-renovated Zollman Zoo & Nature Center\, where you can learn more about water alongside the many animals that call it home. The Dr. Paul E. Zollman Zoo houses over 30 species of wild animals native to Minnesota\, so be sure to leave time for a visit to the otters and eagles! This stop on our We Are Water MN is also a fantastic opportunity to learn more about the unique Karst Geology of the Olmstead County area–don’t miss out on the chance to learn more about this unique geography! \nWant to make a day of out of your visit to the exhibit? Oxbow Park offers almost any outdoor enthusiast a chance to pursue their favorite activity such as hiking\, fishing\, snowshoeing\, and more. \nAbout We Are Water MN?\nWe are Water MN is a project of the Minnesota Pollution Control Agency and the Minnesota Humanities Center in partnership with the Minnesota Historical Society; the Board of Water and Soil Resources; the Minnesota Departments of Agriculture\, Health\, and Natural Resources; and University of Minnesota Extension. \nLearn more about the We Are Water MN exhibit\, partnership\, and programs. \nLearn More
URL:https://www.mnhum.org/event/byron-we-are-water-mn/
LOCATION:Oxbow Park and Zollman Zoo\, 5731 County Rd 105 NW\, Byron\, MN\, 55920\, United States
CATEGORIES:Civic Renewal,Exhibit,Free,Greater Minnesota,Kid Friendly,We Are Water MN
ATTACH;FMTTYPE=image/jpeg:https://www.mnhum.org/wp-content/uploads/2022/04/event_we_are_water.jpg
ORGANIZER;CN="Rachel Busse-Aswar":MAILTO:rachel@mnhum.org
END:VEVENT
BEGIN:VEVENT
DTSTART;TZID=America/Chicago:20260325T073000
DTEND;TZID=America/Chicago:20260325T083000
DTSTAMP:20260419T201433
CREATED:20251017T180528Z
LAST-MODIFIED:20251017T180528Z
UID:10000595-1774423800-1774427400@www.mnhum.org
SUMMARY:Online - Repeatable Routines: Building Formative Tasks for Social Studies\, Session Three
DESCRIPTION:Conclude the formative task series with a focus on sustainability. Participants will learn how to embed formative assessment routines into their teaching practice for long-term impact. \nThe Minnesota Department of Education\, in partnership with the Minnesota Humanities Center\, will host virtual and in-person sessions to support planning for and implementation of the 2021 K-12 Academic Standards in Social Studies\, held monthly during the 2025–26 school year. These sessions are open to anyone with building or district-level responsibilities for curriculum planning and development in all social studies content areas\, including curriculum directors\, department leads\, and teachers. Pre-registration is required for in-person sessions. \nVirtual sessions will have content similar to in-person sessions\, and whenever possible will feature the same speakers.  \nIn-person sessions will be an hour longer than virtual sessions and will allow time for supported collaborative work and networking.  \nWhile districts are encouraged to have a representative at each monthly session\, either in-person or virtual\, participants do not need to commit to attending all nine sessions. Participants are also welcome to attend either session type throughout the year\, as is best suited to their needs and schedule. \nK-12 educators will receive 1 clock hour. \nRegistration\nRegistration Questions: brittany.rawson-haeg@state.mn.us  \nRegister Now
URL:https://www.mnhum.org/event/online-repeatable-routines-building-formative-tasks-for-social-studies-session-three/
LOCATION:https://www.mnhum.org/event/online-repeatable-routines-building-formative-tasks-for-social-studies-session-three/
CATEGORIES:Free,K-12 Education,Online,Professional Development,Social Studies Curriculum Leaders Network
ATTACH;FMTTYPE=image/jpeg:https://www.mnhum.org/wp-content/uploads/2025/10/event_social_studies_standards.jpg
ORGANIZER;CN="Sung Ja Shin":MAILTO:sungja@mnhum.org
END:VEVENT
BEGIN:VEVENT
DTSTART;TZID=America/Chicago:20260325T173000
DTEND;TZID=America/Chicago:20260325T191500
DTSTAMP:20260419T201433
CREATED:20260112T213419Z
LAST-MODIFIED:20260317T140933Z
UID:10000615-1774459800-1774466100@www.mnhum.org
SUMMARY:Shoreview - Minnesota Writers Off the Page: Debra J. Stone
DESCRIPTION:To celebrate Women’s History Month\, Off the Page is pleased to feature author Debra J. Stone and her new book\, “The House on Rondo\,” which has been shortlisted for the MN Book Awards in the category of Middle Grade Literature. Debra will be in conversation with Terresa Hardaway\, discussing the history of the Rondo neighborhood\, what it means to be a writer\, and their hopes for the future of Rondo. Following the discussion\, audience members are invited to participate in a Q&A session\, and have further informal conversation with the featured speakers. Copies of “The House on Rondo” will be available for purchase\, and the evening will finish with a book signing. \nDebra J. Stone is a 2023-2025 Jerome Hill Arts Fellow in Literature\, essay\, poet and novel author. More of her work has been published by Blue Earth Review\, Indiana Review\, Green Mountains Review\, Under the Gum Tree\, and other literary journals. In 2021 her poem\, “year-of- staying–in place\,” was nominated Best of Net and Pushcart nominated. She is a board member of the Hennepin History Museum. Debra is married and resides in Minneapolis. \nTerresa Hardaway\, Ph.D.\, is an abolitionist\, design researcher\, author\, anti-racist facilitator\, creative director\, organizer\, and educator based in Minneapolis. She is Creative Director of Blackbird Revolt— a social justice-based design studio; an Associate Professor of Graphic Design; McKnight Presidential Fellow; the Director of Design Justice at the University of Minnesota’s College of Design; and the owner of Black Garnet Books. \nThis event is presented in partnership with Black Garnet Books\, an independent bookstore in Saint Paul\, MN\, that offers a curated selection of books and art by authors and illustrators of color in an environment that encourages learning\, joyful interaction\, and communal care for everyone who visits. This event is part of the Minnesota Writers Off the Page series\, bringing the inspirational voices of Minnesota’s authors directly to readers. This edition of Minnesota Writers Off the Page will be held at Emmet D. Williams Elementary School in Shoreview. \nRegistration\nThis event is free\, however registration is required. \nRegistration Questions: registrations@mnhum.org  \nRegister Now
URL:https://www.mnhum.org/event/shoreview-minnesota-writers-off-the-page-debra-j-stone/
LOCATION:Emmet D. Williams Elementary School\, 955 W County Rd D\, Shoreview\, 55126\, United States
CATEGORIES:Free,Minnesota Writers Off the Page,Public Programming
ATTACH;FMTTYPE=image/png:https://www.mnhum.org/wp-content/uploads/2026/01/event_mn_writers_debra_stone.png
ORGANIZER;CN="Corey China":MAILTO:corey@mnhum.org
END:VEVENT
END:VCALENDAR