BEGIN:VCALENDAR
VERSION:2.0
PRODID:-//Minnesota Humanities Center - ECPv6.15.20//NONSGML v1.0//EN
CALSCALE:GREGORIAN
METHOD:PUBLISH
X-ORIGINAL-URL:https://www.mnhum.org
X-WR-CALDESC:Events for Minnesota Humanities Center
REFRESH-INTERVAL;VALUE=DURATION:PT1H
X-Robots-Tag:noindex
X-PUBLISHED-TTL:PT1H
BEGIN:VTIMEZONE
TZID:America/Chicago
BEGIN:DAYLIGHT
TZOFFSETFROM:-0600
TZOFFSETTO:-0500
TZNAME:CDT
DTSTART:20230312T080000
END:DAYLIGHT
BEGIN:STANDARD
TZOFFSETFROM:-0500
TZOFFSETTO:-0600
TZNAME:CST
DTSTART:20231105T070000
END:STANDARD
BEGIN:DAYLIGHT
TZOFFSETFROM:-0600
TZOFFSETTO:-0500
TZNAME:CDT
DTSTART:20240310T080000
END:DAYLIGHT
BEGIN:STANDARD
TZOFFSETFROM:-0500
TZOFFSETTO:-0600
TZNAME:CST
DTSTART:20241103T070000
END:STANDARD
BEGIN:DAYLIGHT
TZOFFSETFROM:-0600
TZOFFSETTO:-0500
TZNAME:CDT
DTSTART:20250309T080000
END:DAYLIGHT
BEGIN:STANDARD
TZOFFSETFROM:-0500
TZOFFSETTO:-0600
TZNAME:CST
DTSTART:20251102T070000
END:STANDARD
END:VTIMEZONE
BEGIN:VEVENT
DTSTART;TZID=America/Chicago:20240201T083000
DTEND;TZID=America/Chicago:20240201T123000
DTSTAMP:20260421T110619
CREATED:20240117T200104Z
LAST-MODIFIED:20240117T200239Z
UID:10000346-1706776200-1706790600@www.mnhum.org
SUMMARY:St. Paul - Symposium on Voting Rights: Our Past\, Our Present\, Our Future
DESCRIPTION:Please join FairVote Minnesota\, the University of St. Thomas Racial Justice Initiative\, Macalester College\, the Hubert H. Humphrey School of Public Affairs\, and the African American Leadership Forum for a groundbreaking Symposium on Voting Rights: Our Past\, Our Present\, Our Future at the University of St. Thomas Anderson Student Center\, Woulfe Hall\, 2115 Summit Ave\, St Paul on Thursday\, Feb. 1\, 8:30 am-12:30 pm\, followed by a reception. \nThe symposium will convene a diverse and influential gathering of voting rights academics\, thought leaders\, students\, community members\, and political figures to engage in deep and meaningful conversations about the evolution of voting rights in Minnesota. We will tackle the challenges our democracy currently faces and explore critical reforms like ranked choice voting\, campaign finance\, redistricting\, countering disinformation\, and democratic participation\, among others––and work together to build a more representative and inclusive future for our state and our country. MHC’s CEO\, Kevin Lindsey\, will moderate the panel entitled “Democracy Under Threat: Rise of Extremism.” There will be plenty of opportunity for Q&A throughout the morning and mingling with fellow participants at the reception.  \nPanels will cover the evolution of voting rights and democratic participation\, threats to our democracy\, and the future of democracy reform in Minnesota and the country. Confirmed speakers and panelists include: Gov. Tim Walz\, Lt. Gov. Peggy Flanagan\, Secretary of State Steve Simon\, Attorney General Keith Ellison\, former Secretary of State Mark Ritchie\, University of St. Thomas President Rob Vischer\, St. Thomas Professor Yoruhu Williams\, Humphrey School Dean Nisha Botchwey\, Harvard Professor Danielle Allen\, Stanford Professor Larry Diamond\, MN House Majority Whip Athena Hollins\,  Rep. Cedrick Frazier\, Rep. Esther Agbaje\, and Rep. Emma Greenman.   \nRegistration\nThis event is free but registration is required. Registration conducted by FairVote Minnesota. \nRegister Now
URL:https://www.mnhum.org/event/symposium-on-voting-rights/
LOCATION:Anderson Student Center\, Woulfe Hall\, UST\, 2115 Summit Ave\, St. Paul\, 55105\, United States
CATEGORIES:Civic Renewal,Free,Public Programs
ATTACH;FMTTYPE=image/jpeg:https://www.mnhum.org/wp-content/uploads/2024/01/event_symposium_voting_rights.jpg
ORGANIZER;CN="Trygve Throntveit":MAILTO:trygve@mnhum.org
END:VEVENT
END:VCALENDAR