BEGIN:VCALENDAR
VERSION:2.0
PRODID:-//Minnesota Humanities Center - ECPv6.15.20//NONSGML v1.0//EN
CALSCALE:GREGORIAN
METHOD:PUBLISH
X-ORIGINAL-URL:https://www.mnhum.org
X-WR-CALDESC:Events for Minnesota Humanities Center
REFRESH-INTERVAL;VALUE=DURATION:PT1H
X-Robots-Tag:noindex
X-PUBLISHED-TTL:PT1H
BEGIN:VTIMEZONE
TZID:America/Chicago
BEGIN:DAYLIGHT
TZOFFSETFROM:-0600
TZOFFSETTO:-0500
TZNAME:CDT
DTSTART:20240310T080000
END:DAYLIGHT
BEGIN:STANDARD
TZOFFSETFROM:-0500
TZOFFSETTO:-0600
TZNAME:CST
DTSTART:20241103T070000
END:STANDARD
BEGIN:DAYLIGHT
TZOFFSETFROM:-0600
TZOFFSETTO:-0500
TZNAME:CDT
DTSTART:20250309T080000
END:DAYLIGHT
BEGIN:STANDARD
TZOFFSETFROM:-0500
TZOFFSETTO:-0600
TZNAME:CST
DTSTART:20251102T070000
END:STANDARD
BEGIN:DAYLIGHT
TZOFFSETFROM:-0600
TZOFFSETTO:-0500
TZNAME:CDT
DTSTART:20260308T080000
END:DAYLIGHT
BEGIN:STANDARD
TZOFFSETFROM:-0500
TZOFFSETTO:-0600
TZNAME:CST
DTSTART:20261101T070000
END:STANDARD
END:VTIMEZONE
BEGIN:VEVENT
DTSTART;TZID=America/Chicago:20250812T170000
DTEND;TZID=America/Chicago:20250812T203000
DTSTAMP:20260419T131537
CREATED:20250711T191404Z
LAST-MODIFIED:20250731T185039Z
UID:10000528-1755018000-1755030600@www.mnhum.org
SUMMARY:Braham - Sketches of Minnesota
DESCRIPTION:“Braham\, MN: Dynamic. Friendly. Engaged!”\nJoin the Minnesota Humanities Center\, Danger Boat Productions\, and Arc Retreat Community for the Sketches of Minnesota civic improv comedy tour! These free events use laughter and comedy to celebrate Minnesota communities\, promote dialogue\, bridge divides\, and help find ways to work constructively across differences in today’s political environment. \nBeginning with a catered meal\, these gatherings invite audience members to share what makes their town great\, what they think people get wrong about it\, what local divisions concern them\, and what future they imagine. An improv comedy troupe listens in on the conversations\, takes everything they heard from residents\, and brings it to life on stage through entirely unscripted improv comedy theater. \n\n5:00–6:00 PM: Doors open / Community hour\n6:00–7:15 PM: Dinner\n7:15–8:00 PM: Performances\n8:00–8:30 PM: Talkback\n\nHost Partner: Arc Retreat Community \nThe work of the Minnesota Humanities Center is to create a stronger Minnesota by increasing our understanding of the beauty\, wisdom and stories of its people. Through partnerships\, we facilitate the spaces\, like Sketches of Minnesota\, that seek to build connections and deepen understanding of ourselves and our communities in pursuit of a more just society. \nRegistration\nRegistration Questions: registrations@mnhum.org  \nRegister Now
URL:https://www.mnhum.org/event/braham-sketches-of-minnesota/
LOCATION:Braham Event Center\, 655 8th St SW\, Braham\, MN\, 55006\, United States
CATEGORIES:Civic Renewal,Free,Sketches of Minnesota
ATTACH;FMTTYPE=image/png:https://www.mnhum.org/wp-content/uploads/2025/07/event_sketches_mn_braham_area_2025.png
ORGANIZER;CN="Trygve Throntveit":MAILTO:trygve@mnhum.org
END:VEVENT
BEGIN:VEVENT
DTSTART;TZID=America/Chicago:20250814T170000
DTEND;TZID=America/Chicago:20250814T203000
DTSTAMP:20260419T131537
CREATED:20250711T200828Z
LAST-MODIFIED:20250731T185020Z
UID:10000529-1755190800-1755203400@www.mnhum.org
SUMMARY:New Ulm - Sketches of Minnesota
DESCRIPTION:“New Ulm: Come See What’s Brewing”\nJoin the Minnesota Humanities Center\, Danger Boat Productions\, and New Ulm Turner Hall for the Sketches of Minnesota civic improv comedy tour! These free events use laughter and comedy to celebrate Minnesota communities\, promote dialogue\, bridge divides\, and help find ways to work constructively across differences in today’s political environment. \nBeginning with a catered meal\, these gatherings invite audience members to share what makes their town great\, what they think people get wrong about it\, what local divisions concern them\, and what future they imagine. An improv comedy troupe listens in on the conversations\, takes everything they heard from residents\, and brings it to life on stage through entirely unscripted improv comedy theater. \n\n5:00–6:00 PM: Doors open / Community hour\n6:00–7:15 PM: Dinner\n7:15–8:00 PM: Performances\n8:00–8:30 PM: Talkback\n\nHost Partner: New Ulm Turner Hall \nThe work of the Minnesota Humanities Center is to create a stronger Minnesota by increasing our understanding of the beauty\, wisdom and stories of its people. Through partnerships\, we facilitate the spaces\, like Sketches of Minnesota\, that seek to build connections and deepen understanding of ourselves and our communities in pursuit of a more just society. \nRegistration\nRegistration Questions: registrations@mnhum.org \nRegister Now
URL:https://www.mnhum.org/event/new-ulm-sketches-of-minnesota/
LOCATION:New Ulm Turner Hall\, 102 S State St\, New Ulm\, MN\, 56073\, United States
CATEGORIES:Civic Renewal,Free,Greater Minnesota,Sketches of Minnesota
ATTACH;FMTTYPE=image/png:https://www.mnhum.org/wp-content/uploads/2025/07/event_sketches_mn_new_ulm_2025.png
ORGANIZER;CN="Trygve Throntveit":MAILTO:trygve@mnhum.org
END:VEVENT
BEGIN:VEVENT
DTSTART;TZID=America/Chicago:20250828T170000
DTEND;TZID=America/Chicago:20250828T203000
DTSTAMP:20260419T131537
CREATED:20250711T201326Z
LAST-MODIFIED:20250819T122927Z
UID:10000530-1756400400-1756413000@www.mnhum.org
SUMMARY:Rochester - Sketches of Minnesota
DESCRIPTION:Join the Minnesota Humanities Center\, Danger Boat Productions\, and Rochester Art Center for the Sketches of Minnesota civic improv comedy tour! These free events use laughter and comedy to celebrate Minnesota communities\, promote dialogue\, bridge divides\, and help find ways to work constructively across differences in today’s political environment. \nBeginning with a catered meal\, these gatherings invite audience members to share what makes their town great\, what they think people get wrong about it\, what local divisions concern them\, and what future they imagine. An improv comedy troupe listens in on the conversations\, takes everything they heard from residents\, and brings it to life on stage through entirely unscripted improv comedy theater. \n\n5:00–6:00 PM: Doors open / Community hour\n6:00–7:15 PM: Dinner\n7:15–8:00 PM: Performances\n8:00–8:30 PM: Talkback\n\nHost Partner: Rochester Art Center \nThe work of the Minnesota Humanities Center is to create a stronger Minnesota by increasing our understanding of the beauty\, wisdom and stories of its people. Through partnerships\, we facilitate the spaces\, like Sketches of Minnesota\, that seek to build connections and deepen understanding of ourselves and our communities in pursuit of a more just society. \nRegistration\nSketches of Minnesota on August 28 is at capacity. Please join our waitlist. If a spot becomes available\, we will contact you in the order received. \nRegistration Questions: registrations@mnhum.org \nJoin the Waitlist
URL:https://www.mnhum.org/event/rochester-sketches-of-minnesota/
LOCATION:Rochester Art Center\, 30 Civic Drive SE Ste 120\, Rochester\, MN\, 55904\, United States
CATEGORIES:Civic Renewal,Free,Greater Minnesota,Sketches of Minnesota
ATTACH;FMTTYPE=image/png:https://www.mnhum.org/wp-content/uploads/2025/07/event_sketches_mn_rochester_2025.png
ORGANIZER;CN="Trygve Throntveit":MAILTO:trygve@mnhum.org
END:VEVENT
BEGIN:VEVENT
DTSTART;TZID=America/Chicago:20250829T113000
DTEND;TZID=America/Chicago:20250829T123000
DTSTAMP:20260419T131537
CREATED:20250805T181937Z
LAST-MODIFIED:20250827T192030Z
UID:10000541-1756467000-1756470600@www.mnhum.org
SUMMARY:Minnesota State Fair - Sketches of Minnesota
DESCRIPTION:Join the Minnesota Humanities Center\, Danger Boat Productions\, and MPR for a special State Fair edition of Sketches of Minnesota civic improv comedy tour! These events use laughter and comedy to celebrate Minnesota communities\, promote dialogue\, bridge divides\, and help find ways to work constructively across differences in today’s political environment. This performance will be held at the MPR Stage at the corner of Judson and Nelson. \nHost Partner: MPR \nThe work of the Minnesota Humanities Center is to create a stronger Minnesota by increasing our understanding of the beauty\, wisdom and stories of its people. Through partnerships\, we facilitate the spaces\, like Sketches of Minnesota\, that seek to build connections and deepen understanding of ourselves and our communities in pursuit of a more just society. \nThis performance is free however paid admission to the Minnesota State Fair is required.
URL:https://www.mnhum.org/event/minnesota-state-fair-sketches-of-minnesota/
LOCATION:MPR Stage (Minnesota State Fair)\, Judson Ave and Nelson St\, St. Paul\, 55108-3003\, United States
CATEGORIES:Civic Renewal,Sketches of Minnesota
ATTACH;FMTTYPE=image/jpeg:https://www.mnhum.org/wp-content/uploads/2025/08/event_sketches_mn_state_fair_2025.jpg
ORGANIZER;CN="Trygve Throntveit":MAILTO:trygve@mnhum.org
END:VEVENT
END:VCALENDAR