BEGIN:VCALENDAR
VERSION:2.0
PRODID:-//Minnesota Humanities Center - ECPv6.15.20//NONSGML v1.0//EN
CALSCALE:GREGORIAN
METHOD:PUBLISH
X-WR-CALNAME:Minnesota Humanities Center
X-ORIGINAL-URL:https://www.mnhum.org
X-WR-CALDESC:Events for Minnesota Humanities Center
REFRESH-INTERVAL;VALUE=DURATION:PT1H
X-Robots-Tag:noindex
X-PUBLISHED-TTL:PT1H
BEGIN:VTIMEZONE
TZID:America/Chicago
BEGIN:DAYLIGHT
TZOFFSETFROM:-0600
TZOFFSETTO:-0500
TZNAME:CDT
DTSTART:20240310T080000
END:DAYLIGHT
BEGIN:STANDARD
TZOFFSETFROM:-0500
TZOFFSETTO:-0600
TZNAME:CST
DTSTART:20241103T070000
END:STANDARD
BEGIN:DAYLIGHT
TZOFFSETFROM:-0600
TZOFFSETTO:-0500
TZNAME:CDT
DTSTART:20250309T080000
END:DAYLIGHT
BEGIN:STANDARD
TZOFFSETFROM:-0500
TZOFFSETTO:-0600
TZNAME:CST
DTSTART:20251102T070000
END:STANDARD
BEGIN:DAYLIGHT
TZOFFSETFROM:-0600
TZOFFSETTO:-0500
TZNAME:CDT
DTSTART:20260308T080000
END:DAYLIGHT
BEGIN:STANDARD
TZOFFSETFROM:-0500
TZOFFSETTO:-0600
TZNAME:CST
DTSTART:20261101T070000
END:STANDARD
END:VTIMEZONE
BEGIN:VEVENT
DTSTART;TZID=America/Chicago:20251003T170000
DTEND;TZID=America/Chicago:20251003T203000
DTSTAMP:20260419T103254
CREATED:20250715T194609Z
LAST-MODIFIED:20251001T224012Z
UID:10000534-1759510800-1759523400@www.mnhum.org
SUMMARY:Fergus Falls - Sketches of Minnesota
DESCRIPTION:Join the Minnesota Humanities Center\, Danger Boat Productions\, and Otter Tail Lakes Country for the Sketches of Minnesota civic improv comedy tour! These free events use laughter and comedy to celebrate Minnesota communities\, promote dialogue\, bridge divides\, and help find ways to work constructively across differences in today’s political environment. \nBeginning with a catered meal\, these gatherings invite audience members to share what makes their town great\, what they think people get wrong about it\, what local divisions concern them\, and what future they imagine. An improv comedy troupe listens in on the conversations\, takes everything they heard from residents\, and brings it to life on stage through entirely unscripted improv comedy theater. \n\n5:00–6:00 PM: Doors open / Community hour at The Gathering Place (202 W Lincoln Ave. Fergus Falls) \n6:00–7:15 PM: Dinner Catered by Union Eatery\n7:15–8:00 PM: Performance at A Center for the Arts (124 W Lincoln Ave. Fergus Falls) \n8:00–8:30 PM: Talkback\n\nThe work of the Minnesota Humanities Center is to create a stronger Minnesota by increasing our understanding of the beauty\, wisdom\, and stories of its people. Through partnerships\, we facilitate the spaces\, like Sketches of Minnesota\, that seek to build connections and deepen understanding of ourselves and our communities in pursuit of a more just society. \nHost Partner: Fergus Falls Events Council \nRegistration\nThis event is free but registration is required. \nRegistration Questions: registrations@mnhum.org \nRegister Now
URL:https://www.mnhum.org/event/fergus-falls-sketches-of-minnesota/
LOCATION:A Center for the Arts\, 124 W Lincoln Ave\, Fergus Falls\, MN\, 56537\, United States
CATEGORIES:Civic Renewal,Free,Greater Minnesota,Sketches of Minnesota
ATTACH;FMTTYPE=image/png:https://www.mnhum.org/wp-content/uploads/2025/07/event_sketches_mn_fergus_falls_2025.png
ORGANIZER;CN="Angie Lynch":MAILTO:angie@mnhum.org
END:VEVENT
BEGIN:VEVENT
DTSTART;TZID=America/Chicago:20251011T170000
DTEND;TZID=America/Chicago:20251011T203000
DTSTAMP:20260419T103254
CREATED:20250715T194603Z
LAST-MODIFIED:20250916T210010Z
UID:10000535-1760202000-1760214600@www.mnhum.org
SUMMARY:Edge of the Wilderness - Sketches of Minnesota
DESCRIPTION:Join the Minnesota Humanities Center\, Danger Boat Productions\, and Edge Center for the Arts for the Sketches of Minnesota civic improv comedy tour! These free events use laughter and comedy to celebrate Minnesota communities\, promote dialogue\, bridge divides\, and help find ways to work constructively across differences in today’s political environment. \nBeginning with a catered meal\, these gatherings invite audience members to share what makes their town great\, what they think people get wrong about it\, what local divisions concern them\, and what future they imagine. An improv comedy troupe listens in on the conversations\, takes everything they heard from residents\, and brings it to life on stage through entirely unscripted improv comedy theater. \n\n5:00–6:00 PM: Doors open / Community hour\n6:00–7:15 PM: Dinner\n7:15–8:00 PM: Performances\n8:00–8:30 PM: Talkback\n\nHost Partner: Edge Center for the Arts \nThe work of the Minnesota Humanities Center is to create a stronger Minnesota by increasing our understanding of the beauty\, wisdom and stories of its people. Through partnerships\, we facilitate the spaces\, like Sketches of Minnesota\, that seek to build connections and deepen understanding of ourselves and our communities in pursuit of a more just society. \nRegistration\nThis event is free but registration is required. \nRegistration Questions: registrations@mnhum.org \nRegister Now
URL:https://www.mnhum.org/event/bigfork-sketches-of-minnesota/
LOCATION:Edge Center for the Arts\, 101 2nd Ave\, Bigfork\, MN\, 56628\, United States
CATEGORIES:Civic Renewal,Free,Greater Minnesota,Sketches of Minnesota
ATTACH;FMTTYPE=image/png:https://www.mnhum.org/wp-content/uploads/2025/07/event_sketches_mn_edge_wilderness_2025.png
ORGANIZER;CN="Angie Lynch":MAILTO:angie@mnhum.org
END:VEVENT
BEGIN:VEVENT
DTSTART;TZID=America/Chicago:20251018T170000
DTEND;TZID=America/Chicago:20251018T203000
DTSTAMP:20260419T103254
CREATED:20250715T194558Z
LAST-MODIFIED:20250916T210018Z
UID:10000536-1760806800-1760819400@www.mnhum.org
SUMMARY:Fosston - Sketches of Minnesota
DESCRIPTION:Join the Minnesota Humanities Center\, Danger Boat Productions\, and Firefly Center of Art and Wellbeing for the Sketches of Minnesota civic improv comedy tour! These free events use laughter and comedy to celebrate Minnesota communities\, promote dialogue\, bridge divides\, and help find ways to work constructively across differences in today’s political environment. \nBeginning with a catered meal\, these gatherings invite audience members to share what makes their town great\, what they think people get wrong about it\, what local divisions concern them\, and what future they imagine. An improv comedy troupe listens in on the conversations\, takes everything they heard from residents\, and brings it to life on stage through entirely unscripted improv comedy theater. \n\n5:00–6:00 PM: Doors open / Community hour\n6:00–7:15 PM: Dinner\n7:15–8:00 PM: Performances\n8:00–8:30 PM: Talkback\n\nHost Partner: Firefly Center of Art and Wellbeing \nThe work of the Minnesota Humanities Center is to create a stronger Minnesota by increasing our understanding of the beauty\, wisdom\, and stories of its people. Through partnerships\, we facilitate the spaces\, like Sketches of Minnesota\, that seek to build connections and deepen understanding of ourselves and our communities in pursuit of a more just society. \nRegistration\nThis event is free but registration is required. \nRegistration Questions: registrations@mnhum.org \nRegister Now
URL:https://www.mnhum.org/event/fosston-sketches-of-minnesota/
LOCATION:Firefly Center of Art and Wellbeing\, 102 S Kaiser Ave\, Fosston\, 56542\, United States
CATEGORIES:Civic Renewal,Free,Greater Minnesota,Sketches of Minnesota
ATTACH;FMTTYPE=image/png:https://www.mnhum.org/wp-content/uploads/2025/07/event_sketches_mn_fosston_2025.png
ORGANIZER;CN="Angie Lynch":MAILTO:angie@mnhum.org
END:VEVENT
BEGIN:VEVENT
DTSTART;TZID=America/Chicago:20251027T170000
DTEND;TZID=America/Chicago:20251027T203000
DTSTAMP:20260419T103254
CREATED:20250715T194640Z
LAST-MODIFIED:20251001T194649Z
UID:10000537-1761584400-1761597000@www.mnhum.org
SUMMARY:Ottertail - Sketches of Minnesota
DESCRIPTION:“Otter Tail County:  Bring out your inner otter in the land of 1\,048 lakes”\nJoin the Minnesota Humanities Center\, Danger Boat Productions\, and New York Mills Arts Retreat and Regional Cultural Center for the Sketches of Minnesota civic improv comedy tour! These free events use laughter and comedy to celebrate Minnesota communities\, promote dialogue\, bridge divides\, and help find ways to work constructively across differences in today’s political environment. \nBeginning with a catered meal\, these gatherings invite audience members to share what makes their town great\, what they think people get wrong about it\, what local divisions concern them\, and what future they imagine. An improv comedy troupe listens in on the conversations\, takes everything they heard from residents\, and brings it to life on stage through entirely unscripted improv comedy theater. \n\n5:00–6:00 PM: Doors open / Community hour\n6:00–7:15 PM: Dinner\n7:15–8:00 PM: Performances\n8:00–8:30 PM: Talkback\n\nHost Partner: New York Mills Arts Retreat and Regional Cultural Center \nThe work of the Minnesota Humanities Center is to create a stronger Minnesota by increasing our understanding of the beauty\, wisdom\, and stories of its people. Through partnerships\, we facilitate the spaces\, like Sketches of Minnesota\, that seek to build connections and deepen understanding of ourselves and our communities in pursuit of a more just society. \nRegistration\nThis event is free but registration is required. \nRegister Now
URL:https://www.mnhum.org/event/otter-tail-county-sketches-of-minnesota/
LOCATION:Thumper Pond Resort\, 300 Thumper Lodge Rd\, Ottertail\, MN\, 56571\, United States
CATEGORIES:Civic Renewal,Free,Greater Minnesota,Sketches of Minnesota
ATTACH;FMTTYPE=image/png:https://www.mnhum.org/wp-content/uploads/2025/07/event_sketches_mn_otter_tail_county_2025.png
ORGANIZER;CN="Angie Lynch":MAILTO:angie@mnhum.org
END:VEVENT
END:VCALENDAR