BEGIN:VCALENDAR
VERSION:2.0
PRODID:-//Minnesota Humanities Center - ECPv6.15.20//NONSGML v1.0//EN
CALSCALE:GREGORIAN
METHOD:PUBLISH
X-ORIGINAL-URL:https://www.mnhum.org
X-WR-CALDESC:Events for Minnesota Humanities Center
REFRESH-INTERVAL;VALUE=DURATION:PT1H
X-Robots-Tag:noindex
X-PUBLISHED-TTL:PT1H
BEGIN:VTIMEZONE
TZID:America/Chicago
BEGIN:DAYLIGHT
TZOFFSETFROM:-0600
TZOFFSETTO:-0500
TZNAME:CDT
DTSTART:20240310T080000
END:DAYLIGHT
BEGIN:STANDARD
TZOFFSETFROM:-0500
TZOFFSETTO:-0600
TZNAME:CST
DTSTART:20241103T070000
END:STANDARD
BEGIN:DAYLIGHT
TZOFFSETFROM:-0600
TZOFFSETTO:-0500
TZNAME:CDT
DTSTART:20250309T080000
END:DAYLIGHT
BEGIN:STANDARD
TZOFFSETFROM:-0500
TZOFFSETTO:-0600
TZNAME:CST
DTSTART:20251102T070000
END:STANDARD
BEGIN:DAYLIGHT
TZOFFSETFROM:-0600
TZOFFSETTO:-0500
TZNAME:CDT
DTSTART:20260308T080000
END:DAYLIGHT
BEGIN:STANDARD
TZOFFSETFROM:-0500
TZOFFSETTO:-0600
TZNAME:CST
DTSTART:20261101T070000
END:STANDARD
END:VTIMEZONE
BEGIN:VEVENT
DTSTART;TZID=America/Chicago:20250829T113000
DTEND;TZID=America/Chicago:20250829T123000
DTSTAMP:20260419T143529
CREATED:20250805T181937Z
LAST-MODIFIED:20250827T192030Z
UID:10000541-1756467000-1756470600@www.mnhum.org
SUMMARY:Minnesota State Fair - Sketches of Minnesota
DESCRIPTION:Join the Minnesota Humanities Center\, Danger Boat Productions\, and MPR for a special State Fair edition of Sketches of Minnesota civic improv comedy tour! These events use laughter and comedy to celebrate Minnesota communities\, promote dialogue\, bridge divides\, and help find ways to work constructively across differences in today’s political environment. This performance will be held at the MPR Stage at the corner of Judson and Nelson. \nHost Partner: MPR \nThe work of the Minnesota Humanities Center is to create a stronger Minnesota by increasing our understanding of the beauty\, wisdom and stories of its people. Through partnerships\, we facilitate the spaces\, like Sketches of Minnesota\, that seek to build connections and deepen understanding of ourselves and our communities in pursuit of a more just society. \nThis performance is free however paid admission to the Minnesota State Fair is required.
URL:https://www.mnhum.org/event/minnesota-state-fair-sketches-of-minnesota/
LOCATION:MPR Stage (Minnesota State Fair)\, Judson Ave and Nelson St\, St. Paul\, 55108-3003\, United States
CATEGORIES:Civic Renewal,Sketches of Minnesota
ATTACH;FMTTYPE=image/jpeg:https://www.mnhum.org/wp-content/uploads/2025/08/event_sketches_mn_state_fair_2025.jpg
ORGANIZER;CN="Trygve Throntveit":MAILTO:trygve@mnhum.org
END:VEVENT
END:VCALENDAR