BEGIN:VCALENDAR
VERSION:2.0
PRODID:-//Minnesota Humanities Center - ECPv6.15.20//NONSGML v1.0//EN
CALSCALE:GREGORIAN
METHOD:PUBLISH
X-ORIGINAL-URL:https://www.mnhum.org
X-WR-CALDESC:Events for Minnesota Humanities Center
REFRESH-INTERVAL;VALUE=DURATION:PT1H
X-Robots-Tag:noindex
X-PUBLISHED-TTL:PT1H
BEGIN:VTIMEZONE
TZID:America/Chicago
BEGIN:DAYLIGHT
TZOFFSETFROM:-0600
TZOFFSETTO:-0500
TZNAME:CDT
DTSTART:20230312T080000
END:DAYLIGHT
BEGIN:STANDARD
TZOFFSETFROM:-0500
TZOFFSETTO:-0600
TZNAME:CST
DTSTART:20231105T070000
END:STANDARD
BEGIN:DAYLIGHT
TZOFFSETFROM:-0600
TZOFFSETTO:-0500
TZNAME:CDT
DTSTART:20240310T080000
END:DAYLIGHT
BEGIN:STANDARD
TZOFFSETFROM:-0500
TZOFFSETTO:-0600
TZNAME:CST
DTSTART:20241103T070000
END:STANDARD
BEGIN:DAYLIGHT
TZOFFSETFROM:-0600
TZOFFSETTO:-0500
TZNAME:CDT
DTSTART:20250309T080000
END:DAYLIGHT
BEGIN:STANDARD
TZOFFSETFROM:-0500
TZOFFSETTO:-0600
TZNAME:CST
DTSTART:20251102T070000
END:STANDARD
END:VTIMEZONE
BEGIN:VEVENT
DTSTART;TZID=America/Chicago:20241204T100000
DTEND;TZID=America/Chicago:20241204T150000
DTSTAMP:20260420T023617
CREATED:20241030T193105Z
LAST-MODIFIED:20250418T142747Z
UID:10000461-1733306400-1733324400@www.mnhum.org
SUMMARY:Marshall - National History Day: Honoring Histories with Care
DESCRIPTION:Curious about National History Day and how to present historical content in ways that honor and respect diverse communities? Join the Minnesota Humanities Center\, in partnership with the Minnesota Historical Society\, for a workshop designed for 6-12th grade educators. This session will spotlight Minnesota’s Indigenous communities\, featuring an update from the Minnesota Department of Education on the recently passed Indigenous Education for All legislation\, a presentation from the National Native American Boarding School Healing Coalition on the history and legacy of residential boarding schools\, an introduction to National History Day by the Minnesota Historical Society\, and a curated overview of high-quality educator resources. Educators will gain practical strategies and resources to guide students in creating projects with honor\, respect\, and cultural sensitivity. \nEducators will receive a $75 stipend and 4.5 clock hours following their participation in the workshop. \nRegistration\nRegistration Questions: Dawn Christensen\, dawn.christensen@swsc.org \nRegister Now
URL:https://www.mnhum.org/event/marshall-national-history-day/
LOCATION:Southwest West Central Service Cooperative\, 1420 East College Drive\, Marshall\, MN\, 56258\, United States
CATEGORIES:Free,Greater Minnesota,K-12 Education,Professional Development
ATTACH;FMTTYPE=image/jpeg:https://www.mnhum.org/wp-content/uploads/2024/10/event_national_history_day.jpg
ORGANIZER;CN="Eden Bart":MAILTO:eden@mnhum.org
END:VEVENT
END:VCALENDAR