BEGIN:VCALENDAR
VERSION:2.0
PRODID:-//Minnesota Humanities Center - ECPv6.15.20//NONSGML v1.0//EN
CALSCALE:GREGORIAN
METHOD:PUBLISH
X-ORIGINAL-URL:https://www.mnhum.org
X-WR-CALDESC:Events for Minnesota Humanities Center
REFRESH-INTERVAL;VALUE=DURATION:PT1H
X-Robots-Tag:noindex
X-PUBLISHED-TTL:PT1H
BEGIN:VTIMEZONE
TZID:America/Chicago
BEGIN:DAYLIGHT
TZOFFSETFROM:-0600
TZOFFSETTO:-0500
TZNAME:CDT
DTSTART:20240310T080000
END:DAYLIGHT
BEGIN:STANDARD
TZOFFSETFROM:-0500
TZOFFSETTO:-0600
TZNAME:CST
DTSTART:20241103T070000
END:STANDARD
BEGIN:DAYLIGHT
TZOFFSETFROM:-0600
TZOFFSETTO:-0500
TZNAME:CDT
DTSTART:20250309T080000
END:DAYLIGHT
BEGIN:STANDARD
TZOFFSETFROM:-0500
TZOFFSETTO:-0600
TZNAME:CST
DTSTART:20251102T070000
END:STANDARD
BEGIN:DAYLIGHT
TZOFFSETFROM:-0600
TZOFFSETTO:-0500
TZNAME:CDT
DTSTART:20260308T080000
END:DAYLIGHT
BEGIN:STANDARD
TZOFFSETFROM:-0500
TZOFFSETTO:-0600
TZNAME:CST
DTSTART:20261101T070000
END:STANDARD
END:VTIMEZONE
BEGIN:VEVENT
DTSTART;TZID=America/Chicago:20250411T100000
DTEND;TZID=America/Chicago:20250411T120000
DTSTAMP:20260419T204947
CREATED:20250306T170810Z
LAST-MODIFIED:20250410T204347Z
UID:10000489-1744365600-1744372800@www.mnhum.org
SUMMARY:Online - Cultivating Cultural Understanding: Dakota & Ojibwe Educator Resources
DESCRIPTION:Join us for an engaging session highlighting the Minnesota Humanities Center’s impactful work supporting educators across the state. Learn about the meaningful Dakota and Ojibwe resources available to help teachers and schools deepen cultural understanding in the classroom. Participants will also explore a standards-aligned lesson focused on the “Why Treaties Matter” initiative\, offering valuable insights for integrating Indigenous perspectives into teaching. Don’t miss this opportunity to expand your knowledge and bring these important narratives into your classroom\, school\, and district! \nThis session will be hosted by Resource Training & Solutions\, one of nine Minnesota Service Cooperatives. \nRegistration\nThis event is free\, however registration is required. \nRegistration Questions: registrations@mnhum.org \nREGISTRATION FOR THIS EVENT HAS CLOSED
URL:https://www.mnhum.org/event/online-cultivating-cultural-understanding-dakota-ojibwe-educator-resources/
CATEGORIES:K-12 Education
ATTACH;FMTTYPE=image/jpeg:https://www.mnhum.org/wp-content/uploads/2022/06/event_why_treaties_matter.jpg
ORGANIZER;CN="Eden Bart":MAILTO:eden@mnhum.org
LOCATION:https://www.mnhum.org/event/online-cultivating-cultural-understanding-dakota-ojibwe-educator-resources/
END:VEVENT
BEGIN:VEVENT
DTSTART;TZID=America/Chicago:20250422T110000
DTEND;TZID=America/Chicago:20250422T133000
DTSTAMP:20260419T204947
CREATED:20240124T221858Z
LAST-MODIFIED:20250403T152054Z
UID:10000347-1745319600-1745328600@www.mnhum.org
SUMMARY:St. Paul - Spring Metro Indian Education Gathering
DESCRIPTION:Join us for the Spring Metro American Indian Education Gathering hosted at the Minnesota Humanities Center. Anyone connected to American Indian Education and/or American Indian students are welcome to attend. Lunch will be served potluck style. A main dish will be provided. Please register so we can plan accordingly and bring a side dish or dessert to share! \nAgenda\n\nUpdate from MDE American Indian Education\nPresentation from Gimiwan Dustin Burnette – Executive Director\, Midwest Indigenous Immersion Network\nNetworking\n\nIf you have a topic you would like to add to the agenda please contact Robin Nelson at rnelson4@isd622.org. \nAbout the Metro Indian Education Gathering\nThe Metro Indian Education Gathering is a group of urban American Indian Educators that come together on a regular basis\, 2-3 times a year to share ideas and discuss challenges while celebrating successes. We create a space for networking and access to people who can help navigate the rules and regulations governing American Indian Education programs. This group has been meeting since January 2013. \nRegistration\nRegistration Questions: registrations@mnhum.org  \nRegister Now
URL:https://www.mnhum.org/event/spring-metro-indian-education-gathering/
LOCATION:Minnesota Humanities Event Center\, 987 Ivy Avenue East\, Saint Paul\, MN\, 55106\, United States
CATEGORIES:Free,K-12 Education,Professional Development
ATTACH;FMTTYPE=image/png:https://www.mnhum.org/wp-content/uploads/2023/08/event_fall_metro_indian_ed.png
ORGANIZER;CN="Eden Bart":MAILTO:eden@mnhum.org
END:VEVENT
END:VCALENDAR