BEGIN:VCALENDAR
VERSION:2.0
PRODID:-//Minnesota Humanities Center - ECPv6.15.20//NONSGML v1.0//EN
CALSCALE:GREGORIAN
METHOD:PUBLISH
X-ORIGINAL-URL:https://www.mnhum.org
X-WR-CALDESC:Events for Minnesota Humanities Center
REFRESH-INTERVAL;VALUE=DURATION:PT1H
X-Robots-Tag:noindex
X-PUBLISHED-TTL:PT1H
BEGIN:VTIMEZONE
TZID:America/Chicago
BEGIN:DAYLIGHT
TZOFFSETFROM:-0600
TZOFFSETTO:-0500
TZNAME:CDT
DTSTART:20240310T080000
END:DAYLIGHT
BEGIN:STANDARD
TZOFFSETFROM:-0500
TZOFFSETTO:-0600
TZNAME:CST
DTSTART:20241103T070000
END:STANDARD
BEGIN:DAYLIGHT
TZOFFSETFROM:-0600
TZOFFSETTO:-0500
TZNAME:CDT
DTSTART:20250309T080000
END:DAYLIGHT
BEGIN:STANDARD
TZOFFSETFROM:-0500
TZOFFSETTO:-0600
TZNAME:CST
DTSTART:20251102T070000
END:STANDARD
BEGIN:DAYLIGHT
TZOFFSETFROM:-0600
TZOFFSETTO:-0500
TZNAME:CDT
DTSTART:20260308T080000
END:DAYLIGHT
BEGIN:STANDARD
TZOFFSETFROM:-0500
TZOFFSETTO:-0600
TZNAME:CST
DTSTART:20261101T070000
END:STANDARD
END:VTIMEZONE
BEGIN:VEVENT
DTSTART;TZID=America/Chicago:20250320T090000
DTEND;TZID=America/Chicago:20250320T170000
DTSTAMP:20260419T235431
CREATED:20250211T210900Z
LAST-MODIFIED:20250228T223424Z
UID:10000484-1742461200-1742490000@www.mnhum.org
SUMMARY:Prior Lake - Teaching American Indian Content to All - MIEA Conference
DESCRIPTION:Join the Minnesota Humanities Center at the 41st Annual Minnesota Indian Education Association (MIEA) Conference on Thursday\, March 20! MHC will be presenting the session “Teaching American Indian Content to All” from 9:15–10:15 and tabling in the vendor area throughout the day. Stop by our table to view MHC’s educator resources and learn more about our work with educators. \nPlease Note: The full MIEA Conference runs from March 18-21. Registration and payment through MIEA for the full conference are required to attend. \nLearn More \nAbout MIEA\nThe primary goal of MIEA is to create and uphold a robust communication network while fostering quality education and unity among American Indians. This objective serves to ensure the continuous flow of information and heightened awareness regarding both local and statewide educational endeavors. Specifically\, MIEA is dedicated to persistent awareness and proactive efforts that cater to the distinct educational and culturally specific needs of American Indian students across the state. Through these concerted actions\, MIEA aims to significantly contribute to the educational and cultural enrichment of American Indian communities.
URL:https://www.mnhum.org/event/teaching-american-indian-content-to-all-miea-conference/
LOCATION:Mystic Lake Center\, 2400 Mystic Lake Boulevard NW\, Prior Lake\, MN\, 55372\, United States
CATEGORIES:K-12 Education,Professional Development
ATTACH;FMTTYPE=image/jpeg:https://www.mnhum.org/wp-content/uploads/2025/02/event_miea_conference_2025.jpg
ORGANIZER;CN="Eden Bart":MAILTO:eden@mnhum.org
END:VEVENT
END:VCALENDAR