BEGIN:VCALENDAR
VERSION:2.0
PRODID:-//Minnesota Humanities Center - ECPv6.15.20//NONSGML v1.0//EN
CALSCALE:GREGORIAN
METHOD:PUBLISH
X-ORIGINAL-URL:https://www.mnhum.org
X-WR-CALDESC:Events for Minnesota Humanities Center
REFRESH-INTERVAL;VALUE=DURATION:PT1H
X-Robots-Tag:noindex
X-PUBLISHED-TTL:PT1H
BEGIN:VTIMEZONE
TZID:America/Chicago
BEGIN:DAYLIGHT
TZOFFSETFROM:-0600
TZOFFSETTO:-0500
TZNAME:CDT
DTSTART:20240310T080000
END:DAYLIGHT
BEGIN:STANDARD
TZOFFSETFROM:-0500
TZOFFSETTO:-0600
TZNAME:CST
DTSTART:20241103T070000
END:STANDARD
BEGIN:DAYLIGHT
TZOFFSETFROM:-0600
TZOFFSETTO:-0500
TZNAME:CDT
DTSTART:20250309T080000
END:DAYLIGHT
BEGIN:STANDARD
TZOFFSETFROM:-0500
TZOFFSETTO:-0600
TZNAME:CST
DTSTART:20251102T070000
END:STANDARD
BEGIN:DAYLIGHT
TZOFFSETFROM:-0600
TZOFFSETTO:-0500
TZNAME:CDT
DTSTART:20260308T080000
END:DAYLIGHT
BEGIN:STANDARD
TZOFFSETFROM:-0500
TZOFFSETTO:-0600
TZNAME:CST
DTSTART:20261101T070000
END:STANDARD
BEGIN:DAYLIGHT
TZOFFSETFROM:-0600
TZOFFSETTO:-0500
TZNAME:CDT
DTSTART:20270314T080000
END:DAYLIGHT
BEGIN:STANDARD
TZOFFSETFROM:-0500
TZOFFSETTO:-0600
TZNAME:CST
DTSTART:20271107T070000
END:STANDARD
END:VTIMEZONE
BEGIN:VEVENT
DTSTART;TZID=America/Chicago:20251204T073000
DTEND;TZID=America/Chicago:20251204T083000
DTSTAMP:20260424T073232
CREATED:20251002T150408Z
LAST-MODIFIED:20251002T150408Z
UID:10000584-1764833400-1764837000@www.mnhum.org
SUMMARY:Online - From Page to Practice: The Native American Lives Series in the Classroom
DESCRIPTION:Join us for an introductory professional development session on the Native American Lives Series—a vibrant new collection of biographies designed to support grades 1–8 educators in bringing Indigenous voices\, histories\, and perspectives into the classroom. This session will introduce the first four books in the series\, each centering the life and legacy of a Native changemaker. Developed with Native authors\, illustrators\, and editors\, these books provide culturally grounded content that supports both literacy development and inclusive social studies instruction. \nEducators will have the opportunity to: \n\nEngage with Minnesota Department of Education content specialists integrating indigenous content with current academic standards\nLearn about classroom ready resources and educator guides\nHear from series co-editor Heid E. Erdrich and highlights about the series\n\nK-8 Educators will receive 1 clock hour. \nRegistration\nThis event is free but registration is required. This session is also available at 4:00 p.m. on December 4\, 2025. \nRegistration Questions: registrations@mnhum.org \nRegister Now
URL:https://www.mnhum.org/event/online-from-page-to-practice-the-native-american-lives-series-in-the-classroom-morning/
CATEGORIES:K-12 Education,Native American Lives Series,Online,Professional Development
ATTACH;FMTTYPE=image/jpeg:https://www.mnhum.org/wp-content/uploads/2025/10/event_from_page_to_practice.jpg
ORGANIZER;CN="Corey China":MAILTO:corey@mnhum.org
LOCATION:https://www.mnhum.org/event/online-from-page-to-practice-the-native-american-lives-series-in-the-classroom-morning/
END:VEVENT
BEGIN:VEVENT
DTSTART;TZID=America/Chicago:20251204T160000
DTEND;TZID=America/Chicago:20251204T170000
DTSTAMP:20260424T073232
CREATED:20251002T150411Z
LAST-MODIFIED:20251002T150411Z
UID:10000585-1764864000-1764867600@www.mnhum.org
SUMMARY:Online - From Page to Practice: The Native American Lives Series in the Classroom
DESCRIPTION:Join us for an introductory professional development session on the Native American Lives Series—a vibrant new collection of biographies designed to support grades 1–8 educators in bringing Indigenous voices\, histories\, and perspectives into the classroom. This session will introduce the first four books in the series\, each centering the life and legacy of a Native changemaker. Developed with Native authors\, illustrators\, and editors\, these books provide culturally grounded content that supports both literacy development and inclusive social studies instruction. \nEducators will have the opportunity to: \n\nEngage with Minnesota Department of Education content specialists integrating indigenous content with current academic standards\nLearn about classroom ready resources and educator guides\nHear from series co-editor Heid E. Erdrich and highlights about the series\n\nK-8 Educators will receive 1 clock hour. \nRegistration\nThis event is free but registration is required. This session is also available at 7:30 a.m. on December 4\, 2025. \nRegistration Questions: registrations@mnhum.org \nRegister Now
URL:https://www.mnhum.org/event/online-from-page-to-practice-the-native-american-lives-series-in-the-classroom-evening/
CATEGORIES:K-12 Education,Native American Lives Series,Online,Professional Development
ATTACH;FMTTYPE=image/jpeg:https://www.mnhum.org/wp-content/uploads/2025/10/event_from_page_to_practice.jpg
ORGANIZER;CN="Corey China":MAILTO:corey@mnhum.org
LOCATION:https://www.mnhum.org/event/online-from-page-to-practice-the-native-american-lives-series-in-the-classroom-evening/
END:VEVENT
BEGIN:VEVENT
DTSTART;TZID=America/Chicago:20260115T183000
DTEND;TZID=America/Chicago:20260115T193000
DTSTAMP:20260424T073232
CREATED:20251203T195907Z
LAST-MODIFIED:20251203T195907Z
UID:10000604-1768501800-1768505400@www.mnhum.org
SUMMARY:Winona - Third Thursday MMAM and the Native American Lives Series - George Morrison: Modern Artist
DESCRIPTION:Join us at the Minnesota Marine Art Museum for a Third Thursday book event\, featuring the Native American Lives Series title\, “George Morrison: Modern Artist.” Author Staci Drouillard and illustrator Tashia Hart will share their stories about how this book project was created as well as shed light on the incredible career of George Morrison\, Grand Portage Anishinaabe artist\, the subject of a major solo exhibition at the Metropolitan Museum of Art. The Native American Lives Series\, a joint publishing effort between the Minnesota Humanities Center and Lerner publishing\, shares real life stories of Dakota and Ojibwe leaders\, artists\, activists\, and elders who have been influential for their communities and have shaped Minnesota and national history. The series co-editors\, Heid E. Erdrich and Gwen Nell Westerman share that “These children’s books are by\, for\, and about Dakota and Ojibwe people and will help Dakota\, Ojibwe\, and other Native American children imagine their own potential and help them see their cultures represented alongside biographies of American leaders in our society.” \nPresented in partnership with the Minnesota Marine Art Museum. \nRegistration\nRegistration through the Minnesota Marine Art Museum. Students may attend for free\, however registration is still required. \nRegistration Questions: hello@mmam.org  \nRegister Now
URL:https://www.mnhum.org/event/winona-third-thursday-mmam/
LOCATION:Minnesota Marine Art Museum\, 800 Riverview Drive\, Winona\, 55987\, United States
CATEGORIES:Greater Minnesota,K-12 Education,Native American Lives Series,Public Programs
ATTACH;FMTTYPE=image/png:https://www.mnhum.org/wp-content/uploads/2025/12/event_mmam_third_thursday.png
ORGANIZER;CN="Corey China":MAILTO:corey@mnhum.org
END:VEVENT
BEGIN:VEVENT
DTSTART;TZID=America/Chicago:20260408T073000
DTEND;TZID=America/Chicago:20260408T083000
DTSTAMP:20260424T073232
CREATED:20260311T181901Z
LAST-MODIFIED:20260311T181901Z
UID:10000636-1775633400-1775637000@www.mnhum.org
SUMMARY:Online - From Page to Practice: The Native American Lives Series in the Classroom
DESCRIPTION:Join us for an introductory professional development session on the Native American Lives Series—a vibrant new collection of biographies designed to support grades 1–8 educators in bringing Indigenous voices\, histories\, and perspectives into the classroom. This session will introduce the three newest titles in the series\, “George Morrison: Modern Artist\,” “Sharon Day: Water Walker\,” and “Marie Louise Bottineau Baldwin: Political Pathfinder.” Developed with Native authors\, illustrators\, and editors\, these books provide culturally grounded content that supports both literacy development and inclusive social studies instruction. \nEducators will: \n\nGain an overview of the entire series\nLearn about integrating indigenous content with current academic standards\nLearn about classroom ready resources and educator guides\nReceive 1 clock hour\n\nRegistration\nThis event is free\, however registration is required. \nRegistration Questions: registrations@mnhum.org  \nRegister Now
URL:https://www.mnhum.org/event/online-from-page-to-practice-the-native-american-lives-series-in-the-classroom/
CATEGORIES:Free,K-12 Education,Native American Lives Series
ATTACH;FMTTYPE=image/png:https://www.mnhum.org/wp-content/uploads/2026/03/event_page_practice_nals_classroom_2026.png
ORGANIZER;CN="Corey China":MAILTO:corey@mnhum.org
LOCATION:https://www.mnhum.org/event/online-from-page-to-practice-the-native-american-lives-series-in-the-classroom/
END:VEVENT
END:VCALENDAR