BEGIN:VCALENDAR
VERSION:2.0
PRODID:-//Minnesota Humanities Center - ECPv6.15.20//NONSGML v1.0//EN
CALSCALE:GREGORIAN
METHOD:PUBLISH
X-ORIGINAL-URL:https://www.mnhum.org
X-WR-CALDESC:Events for Minnesota Humanities Center
REFRESH-INTERVAL;VALUE=DURATION:PT1H
X-Robots-Tag:noindex
X-PUBLISHED-TTL:PT1H
BEGIN:VTIMEZONE
TZID:America/Chicago
BEGIN:DAYLIGHT
TZOFFSETFROM:-0600
TZOFFSETTO:-0500
TZNAME:CDT
DTSTART:20210314T080000
END:DAYLIGHT
BEGIN:STANDARD
TZOFFSETFROM:-0500
TZOFFSETTO:-0600
TZNAME:CST
DTSTART:20211107T070000
END:STANDARD
BEGIN:DAYLIGHT
TZOFFSETFROM:-0600
TZOFFSETTO:-0500
TZNAME:CDT
DTSTART:20220313T080000
END:DAYLIGHT
BEGIN:STANDARD
TZOFFSETFROM:-0500
TZOFFSETTO:-0600
TZNAME:CST
DTSTART:20221106T070000
END:STANDARD
BEGIN:DAYLIGHT
TZOFFSETFROM:-0600
TZOFFSETTO:-0500
TZNAME:CDT
DTSTART:20230312T080000
END:DAYLIGHT
BEGIN:STANDARD
TZOFFSETFROM:-0500
TZOFFSETTO:-0600
TZNAME:CST
DTSTART:20231105T070000
END:STANDARD
END:VTIMEZONE
BEGIN:VEVENT
DTSTART;VALUE=DATE:20220103
DTEND;VALUE=DATE:20220304
DTSTAMP:20260422T224207
CREATED:20220608T165025Z
LAST-MODIFIED:20250620T133604Z
UID:10000298-1641168000-1646351999@www.mnhum.org
SUMMARY:St. Cloud – Why Treaties Matter
DESCRIPTION:“Why Treaties Matter: Self-Government in the Dakota and Ojibwe Nations”—a traveling exhibit made in partnership with the Minnesota Indian Affairs Council and the Smithsonian’s National Museum of the American Indian—explores relationships between Dakota and Ojibwe Indian Nations and the U.S. government in this place we now call Minnesota.  \nWant to know more about Why Treaties Matter?\nLearn more about the Why Treaties Matter exhibit and partnership. \nLearn More
URL:https://www.mnhum.org/event/st-cloud-why-treaties-matter/
LOCATION:Stearns History Museum\, 235 South 33rd Avenue South\, St. Cloud\, MN\, 56301\, United States
CATEGORIES:Civic Renewal,Exhibit,Free,Greater Minnesota,Why Treaties Matter
ATTACH;FMTTYPE=image/jpeg:https://www.mnhum.org/wp-content/uploads/2022/06/event_why_treaties_matter.jpg
ORGANIZER;CN="Trygve Throntveit":MAILTO:trygve@mnhum.org
END:VEVENT
BEGIN:VEVENT
DTSTART;VALUE=DATE:20220303
DTEND;VALUE=DATE:20220426
DTSTAMP:20260422T224207
CREATED:20220608T160717Z
LAST-MODIFIED:20250814T174441Z
UID:10000290-1646265600-1650931199@www.mnhum.org
SUMMARY:Winona – We Are Water MN
DESCRIPTION:Free with Admission\nThe We Are Water MN traveling exhibit examines water issues statewide and in local communities through personal stories\, histories\, and scientific information. It strengthens Minnesotans’ relationships with water\, exposes visitors to new perspectives\, and increases participation in water stewardship activities. \nHost Partner: City of Winona \nWant to know more about We Are Water MN?\nLearn more about the We Are Water MN exhibit\, partnership\, and programs. \nLearn More
URL:https://www.mnhum.org/event/winona-we-are-water-mn/
LOCATION:Winona County Historical Society\, 160 Johnson Street\, Winona\, MN\, 55987\, United States
CATEGORIES:Exhibit,Free,Greater Minnesota,Kid Friendly,We Are Water MN
ATTACH;FMTTYPE=image/jpeg:https://www.mnhum.org/wp-content/uploads/2022/04/event_we_are_water.jpg
ORGANIZER;CN="Rachel Busse-Aswar":MAILTO:rachel@mnhum.org
END:VEVENT
BEGIN:VEVENT
DTSTART;TZID=America/Chicago:20220331T180000
DTEND;TZID=America/Chicago:20220331T200000
DTSTAMP:20260422T224207
CREATED:20220608T155311Z
LAST-MODIFIED:20220928T192450Z
UID:10000288-1648749600-1648756800@www.mnhum.org
SUMMARY:Minneapolis – Dialogues of War Listening Session: Somali Community (women focused)
DESCRIPTION:Join Marian Hassan for a Community Listening Session\, part of Minnesota Humanities Center’s program\, Dialogues of War. In this facilitated discussion\, participants will be led in meaningful dialogue to connect with others and share their perspectives as relates to their experiences with war and conflict. The Minnesota Humanities Center is committed to engaging audiences in new and deeper understandings of histories\, cultures\, borders\, boundaries\, and identities. We are expanding our understanding of war and conflict to hear how community members and families have been impacted by war whether integenerationally\, through immigration\, or refugee resettlement. \nThis Community Listening Session is being held for women of the Somali community. \nDinner will be provided; spaces are limited and there is no cost to attend this event. Attendees must be able to attend the full 2 hour session. \nRegistration\nRegistration Questions: registrations@mnhum.org \n \nREGISTRATION FOR THIS EVENT HAS CLOSED
URL:https://www.mnhum.org/event/dialogues-of-war-somali-women/
LOCATION:Franklin Library\, 1314 East Franklin Avenue\, Minneapolis\, MN\, 55404\, United States
CATEGORIES:Free,Public Programs,Refugees
ATTACH;FMTTYPE=image/jpeg:https://www.mnhum.org/wp-content/uploads/2022/06/event_dialogues_war_somali_community.jpg
ORGANIZER;CN="Corey China":MAILTO:corey@mnhum.org
END:VEVENT
END:VCALENDAR