BEGIN:VCALENDAR
VERSION:2.0
PRODID:-//Minnesota Humanities Center - ECPv6.15.20//NONSGML v1.0//EN
CALSCALE:GREGORIAN
METHOD:PUBLISH
X-ORIGINAL-URL:https://www.mnhum.org
X-WR-CALDESC:Events for Minnesota Humanities Center
REFRESH-INTERVAL;VALUE=DURATION:PT1H
X-Robots-Tag:noindex
X-PUBLISHED-TTL:PT1H
BEGIN:VTIMEZONE
TZID:America/Chicago
BEGIN:DAYLIGHT
TZOFFSETFROM:-0600
TZOFFSETTO:-0500
TZNAME:CDT
DTSTART:20220313T080000
END:DAYLIGHT
BEGIN:STANDARD
TZOFFSETFROM:-0500
TZOFFSETTO:-0600
TZNAME:CST
DTSTART:20221106T070000
END:STANDARD
BEGIN:DAYLIGHT
TZOFFSETFROM:-0600
TZOFFSETTO:-0500
TZNAME:CDT
DTSTART:20230312T080000
END:DAYLIGHT
BEGIN:STANDARD
TZOFFSETFROM:-0500
TZOFFSETTO:-0600
TZNAME:CST
DTSTART:20231105T070000
END:STANDARD
BEGIN:DAYLIGHT
TZOFFSETFROM:-0600
TZOFFSETTO:-0500
TZNAME:CDT
DTSTART:20240310T080000
END:DAYLIGHT
BEGIN:STANDARD
TZOFFSETFROM:-0500
TZOFFSETTO:-0600
TZNAME:CST
DTSTART:20241103T070000
END:STANDARD
END:VTIMEZONE
BEGIN:VEVENT
DTSTART;VALUE=DATE:20230622
DTEND;VALUE=DATE:20230815
DTSTAMP:20260421T230025
CREATED:20230524T184517Z
LAST-MODIFIED:20250814T174258Z
UID:10000362-1687392000-1692057599@www.mnhum.org
SUMMARY:Minneapolis - We Are Water MN
DESCRIPTION:The We Are Water MN traveling exhibit examines water issues statewide and in local communities through personal stories\, histories\, and scientific information. It strengthens Minnesotans’ relationships with water\, exposes visitors to new perspectives\, and increases participation in water stewardship activities. \nHost Partner: Somali Museum of Minnesota \nExhibit hours\nOren Gateway Center lobby hours; Somali Museum staff will be with the exhibit on Saturdays. \nTuesday: Noon to 7:00 p.m.\nWednesday: Noon to 7:00 p.m.\nThursday: Noon to 7:00 p.m.\nFriday: Noon to 7:00 p.m.\nSaturday: 10:00 a.m. to 1:00 p.m. \nWant to know more about We Are Water MN?\nLearn more about the We Are Water MN exhibit\, partnership\, and programs. \nLearn More
URL:https://www.mnhum.org/event/minneapolis-we-are-water-mn/
LOCATION:Augsburg University\, Oren Gateway Center Lobby\, 610 22nd Avenue South\, Minneapolis\, MN\, 55454\, United States
CATEGORIES:Civic Renewal,Exhibit,Free,Kid Friendly,We Are Water MN
ATTACH;FMTTYPE=image/jpeg:https://www.mnhum.org/wp-content/uploads/2022/04/event_we_are_water.jpg
ORGANIZER;CN="Rachel Busse-Aswar":MAILTO:rachel@mnhum.org
END:VEVENT
BEGIN:VEVENT
DTSTART;TZID=America/Chicago:20230710T180000
DTEND;TZID=America/Chicago:20230710T203000
DTSTAMP:20260421T230025
CREATED:20230613T201311Z
LAST-MODIFIED:20230821T141225Z
UID:10000366-1689012000-1689021000@www.mnhum.org
SUMMARY:St. Paul - Critical Conversation: Starting with the Indigenous | Emphasis on Place
DESCRIPTION:What connects us to this place? How does the history of this place inform who we are and how we connect with each other? Join Indigenous leaders Kate Beane\, Executive Director of the Minnesota Museum of American Art\, and Christina Woods\, Executive Director of the Duluth Art Institute\, who will engage participants in deep dialogue about Indigenous issues related to place and land. Participants will learn from Dakota and Ojibwe community members\, through stories and histories often left out of public narratives\, how art helps us create deeper meaning and connections.  \nRefreshments and a light meal will be served. This event is part of a series of Critical Conversations\, created in partnership with Public Art Saint Paul’s 2023 Wakpa Triennial Art Festival. \nRegistration\nRegistration Questions: registrations@mnhum.org  \nREGISTRATION FOR THIS EVENT HAS CLOSED
URL:https://www.mnhum.org/event/critical-conversation-starting-with-the-indigenous-emphasis-on-place/
LOCATION:Minnesota Humanities Event Center\, 987 Ivy Avenue East\, Saint Paul\, MN\, 55106\, United States
CATEGORIES:Critical Conversations,Free,Public Programming,Public Programs
ATTACH;FMTTYPE=image/png:https://www.mnhum.org/wp-content/uploads/2023/06/event_critical_conversations_indigenous_place.png
ORGANIZER;CN="Colin Nelson-Dusek":MAILTO:colin@mnhum.org
END:VEVENT
BEGIN:VEVENT
DTSTART;TZID=America/Chicago:20230716T190000
DTEND;TZID=America/Chicago:20230716T210000
DTSTAMP:20260421T230025
CREATED:20230512T183958Z
LAST-MODIFIED:20250620T132709Z
UID:10000360-1689534000-1689541200@www.mnhum.org
SUMMARY:St. Paul - Shakespeare in our Parks: Much Ado About Nothing
DESCRIPTION:Minnesota Humanities Center is pleased to host Classical Actors Ensemble as they bring their 9th season of Shakespeare in Our Parks live theater to MHC’s lawn. This year’s play\, which will travel to over 15 locations across the Twin Cities\, will be William Shakespeare’s “Much Ado About Nothing.” In this classic romantic comedy of manners\, a Prince and his soldiers returning from a long campaign bring excitement\, intrigue\, and passion to a rural town. Can callow youths and jaded exes both find love when malicious gossip is afoot? \nPicnics\, lawn chairs\, sunbrellas\, and blankets are welcome. Please note that the performance is in an open field with minimal shade. Please plan accordingly. Can’t make that date? Check out Classical Actors Ensemble’s full calendar for other performance across the Twin Cities this summer.  \nFrom Classical Actors Ensemble: “The Theater is a sacred place. It is a public forum where actors and audience gather to contemplate what it means to be human. Shakespeare and his contemporaries grappled with that question in some of the English language’s best poetry\, leaving behind a canon of compelling stories with universal themes that provide invigorating challenge for actors and an awe-inspiring legacy for audiences. Classical Actors Ensemble performs the plays of the English Renaissance as they were originally intended: as popular entertainment for everyone. By demonstrating why these works of art are considered classic\, we freshly prove their relevance in today’s world.” \nRegistration\nRegistration is appreciated on the Classical Actors Ensemble website but not required.  \nREGISTRATION FOR THIS EVENT HAS CLOSED
URL:https://www.mnhum.org/event/shakespeare-in-our-parks/
LOCATION:Minnesota Humanities Event Center\, 987 Ivy Avenue East\, Saint Paul\, MN\, 55106\, United States
CATEGORIES:Free,Public Programming,Public Programs
ATTACH;FMTTYPE=image/jpeg:https://www.mnhum.org/wp-content/uploads/2023/05/event_shakespeare_parks_much_ado.jpg
ORGANIZER;CN="Colin Nelson-Dusek":MAILTO:colin@mnhum.org
END:VEVENT
BEGIN:VEVENT
DTSTART;TZID=America/Chicago:20230717T180000
DTEND;TZID=America/Chicago:20230717T203000
DTSTAMP:20260421T230025
CREATED:20230613T201331Z
LAST-MODIFIED:20230821T141151Z
UID:10000367-1689616800-1689625800@www.mnhum.org
SUMMARY:St. Paul - Critical Conversation: Stories I Didn't Know
DESCRIPTION:The award-winning documentary\, “Stories I Didn’t Know\,” follows the story of Saint Paul resident Rita Davern as she uncovers uneasy truths of her Irish ancestors and their ownership of Pike Island\, sacred land to the Dakota people. Join us for a special screening of the film followed by a community conversation with Rita Davern\, Ramona Kitto Stately\, and Reuben Kitto Stately. Reflect on how one person’s discovery of truth can create a significant positive impact on personal and statewide levels. Consider the transgressions made by the federal government and non-Native leaders and how together we can confront current systemic failures as we work to create a more just Minnesota. \nRefreshments and a light meal will be served. This event is part of a series of Critical Conversations\, created in partnership with Public Art Saint Paul’s 2023 Wakpa Triennial Art Festival. \nRegistration\nRegistration Questions: registrations@mnhum.org  \nREGISTRATION FOR THIS EVENT HAS CLOSED
URL:https://www.mnhum.org/event/critical-conversation-stories-i-didnt-know/
LOCATION:Minnesota Humanities Event Center\, 987 Ivy Avenue East\, Saint Paul\, MN\, 55106\, United States
CATEGORIES:Critical Conversations,Free,Public Programming,Public Programs
ATTACH;FMTTYPE=image/png:https://www.mnhum.org/wp-content/uploads/2023/06/event_critical_conversations_stories_didnt_know.png
ORGANIZER;CN="Colin Nelson-Dusek":MAILTO:colin@mnhum.org
END:VEVENT
BEGIN:VEVENT
DTSTART;TZID=America/Chicago:20230726T180000
DTEND;TZID=America/Chicago:20230726T203000
DTSTAMP:20260421T230025
CREATED:20230627T161527Z
LAST-MODIFIED:20230821T141118Z
UID:10000370-1690394400-1690403400@www.mnhum.org
SUMMARY:St. Paul - Critical Conversation: The Art and Response to Castile and Floyd
DESCRIPTION:Art has the power to help communities process and heal. Two of Minnesota’s leading artists are lighting the way forward as we process deep pain and confusion and setting us on a path of healing after the murders of Mr. Philando Castile and Mr. George Floyd. Be part of a Critical Conversation with gifted artists Ta-coumba T. Aiken and Seitu Ken Jones as they reflect on creating art in these tumultuous times\, how art sparks change at personal and societal levels\, and how we build our futures in the Twin Cities with equity and inclusion so that everyone thrives. Minnesota Humanities Center CEO Kevin Lindsey will host this interactive and vibrant conversation. \nRefreshments and a light meal will be served. This event is part of a series of Critical Conversations\, created in partnership with the 2023 Wakpa Triennial Art Festival\, presented by Public Art Saint Paul. \nRegistration\nRegistration Questions: registrations@mnhum.org \nREGISTRATION FOR THIS EVENT HAS CLOSED
URL:https://www.mnhum.org/event/critical-conversation-the-art-and-response-to-castile-and-floyd/
LOCATION:Minnesota Humanities Event Center\, 987 Ivy Avenue East\, Saint Paul\, MN\, 55106\, United States
CATEGORIES:Critical Conversations,Free,Public Programming,Public Programs
ATTACH;FMTTYPE=image/png:https://www.mnhum.org/wp-content/uploads/2023/06/event_critical_conversations_art_response_castille_floyd.png
ORGANIZER;CN="Colin Nelson-Dusek":MAILTO:colin@mnhum.org
END:VEVENT
END:VCALENDAR