BEGIN:VCALENDAR
VERSION:2.0
PRODID:-//Minnesota Humanities Center - ECPv6.15.20//NONSGML v1.0//EN
CALSCALE:GREGORIAN
METHOD:PUBLISH
X-ORIGINAL-URL:https://www.mnhum.org
X-WR-CALDESC:Events for Minnesota Humanities Center
REFRESH-INTERVAL;VALUE=DURATION:PT1H
X-Robots-Tag:noindex
X-PUBLISHED-TTL:PT1H
BEGIN:VTIMEZONE
TZID:America/Chicago
BEGIN:DAYLIGHT
TZOFFSETFROM:-0600
TZOFFSETTO:-0500
TZNAME:CDT
DTSTART:20220313T080000
END:DAYLIGHT
BEGIN:STANDARD
TZOFFSETFROM:-0500
TZOFFSETTO:-0600
TZNAME:CST
DTSTART:20221106T070000
END:STANDARD
BEGIN:DAYLIGHT
TZOFFSETFROM:-0600
TZOFFSETTO:-0500
TZNAME:CDT
DTSTART:20230312T080000
END:DAYLIGHT
BEGIN:STANDARD
TZOFFSETFROM:-0500
TZOFFSETTO:-0600
TZNAME:CST
DTSTART:20231105T070000
END:STANDARD
BEGIN:DAYLIGHT
TZOFFSETFROM:-0600
TZOFFSETTO:-0500
TZNAME:CDT
DTSTART:20240310T080000
END:DAYLIGHT
BEGIN:STANDARD
TZOFFSETFROM:-0500
TZOFFSETTO:-0600
TZNAME:CST
DTSTART:20241103T070000
END:STANDARD
END:VTIMEZONE
BEGIN:VEVENT
DTSTART;VALUE=DATE:20230817
DTEND;VALUE=DATE:20231010
DTSTAMP:20260421T182638
CREATED:20221221T154309Z
LAST-MODIFIED:20250814T174242Z
UID:10000337-1692230400-1696895999@www.mnhum.org
SUMMARY:Roseau - We Are Water MN
DESCRIPTION:The We Are Water MN traveling exhibit examines water issues statewide and in local communities through personal stories\, histories\, and scientific information. It strengthens Minnesotans’ relationships with water\, exposes visitors to new perspectives\, and increases participation in water stewardship activities. \nHost Partner: Roseau County Historical Society \nWant to know more about We Are Water MN?\nLearn more about the We Are Water MN exhibit\, partnership\, and programs. \nLEARN MORE
URL:https://www.mnhum.org/event/roseau-we-are-water-mn/
LOCATION:Roseau County Historical Society\, 121 Center Street East\, Roseau\, MN\, 56751\, United States
CATEGORIES:Civic Renewal,Exhibit,Free,Greater Minnesota,We Are Water MN
ATTACH;FMTTYPE=image/jpeg:https://www.mnhum.org/wp-content/uploads/2022/04/event_we_are_water.jpg
ORGANIZER;CN="Rachel Busse-Aswar":MAILTO:rachel@mnhum.org
END:VEVENT
BEGIN:VEVENT
DTSTART;TZID=America/Chicago:20230906T150000
DTEND;TZID=America/Chicago:20230906T180000
DTSTAMP:20260421T182638
CREATED:20230707T141008Z
LAST-MODIFIED:20250620T132719Z
UID:10000375-1694012400-1694023200@www.mnhum.org
SUMMARY:St. Paul - National Read a Book Day
DESCRIPTION:September 6 is National Read a Book Day. In celebration\, we invite book lovers of all ages to the lawn of the Minnesota Humanities Center for a read-in gathering. Bring the book of your choice\, a blanket or chair\, and join in celebration by reading in community. Extra blankets and books will be available for those without. Story Walks will also be located around the grounds for wandering young readers. Can’t make it? Celebrate wherever you happen to be by taking time out of your day to read. The event is free and open to all to join at their leisure as time allows.  \nRegistration\nRegistration Questions: registrations@mnhum.org  \nRegister Now
URL:https://www.mnhum.org/event/national-read-a-book-day/
LOCATION:Minnesota Humanities Event Center\, 987 Ivy Avenue East\, Saint Paul\, MN\, 55106\, United States
CATEGORIES:Books, Poetry, and Literature,Free,Kid Friendly,Public Programming,Public Programs
ATTACH;FMTTYPE=image/png:https://www.mnhum.org/wp-content/uploads/2023/07/event_national_read_book_day.png
ORGANIZER;CN="Colin Nelson-Dusek":MAILTO:colin@mnhum.org
END:VEVENT
BEGIN:VEVENT
DTSTART;TZID=America/Chicago:20230919T143000
DTEND;TZID=America/Chicago:20230919T160000
DTSTAMP:20260421T182638
CREATED:20230911T172211Z
LAST-MODIFIED:20230911T175329Z
UID:10000392-1695133800-1695139200@www.mnhum.org
SUMMARY:Online - True Tuesday: Coordinating a Multifaith Response to Hate Based Discrimination and Violence in MN
DESCRIPTION:How can religious leaders and community organizations collectively work to effectively address hate and divisiveness in Minnesota? \nThis question was addressed on July 20 at “Coordinating a Multifaith Response to Hate Based Discrimination and Violence in MN” a convening hosted by the Minnesota Multifaith Network (MnMN)\, Augsburg Interfaith Institute and national organization Shoulder to Shoulder. \nTRUE partner\, Dr. Jen Kilps\, Network Executive of the MnMN\, is pleased to welcome Professor Najeeba Sayeed\, El-Hibri Endowed Chair and Executive Director of Interfaith at Augsburg to our next TRUE Tuesdays session where Dr. Sayeed will share the process and results from the July 20th convening. Professor Sayeed will also share her own work toward countering and preventing religious based discrimination and violence\, particularly with an anti-Muslim bias. \nAbout this Convening\nPeople of faith\, community representatives\, and organizers who are active in countering and preventing hate in Minnesota gathered to meet and build relationships with peers across traditions\, share efforts underway and resources available\, and brainstorm new ways to act together. The questions the group gathered to ask were:  \n\nWhat do Minnesotans need to hear from its diverse religious leaders on these and other issues?\nWhat grassroots work is already going on to prevent and respond to hate\, divisiveness and discrimination?\nHow could efforts\, current and new\, be synergized to make a significant impact in Minnesota’s communities?  \n\nProf. Najeeba Syeed \nPrior to becoming the El-Hibri inaugural endowed chair and executive director Augsburg’s Interfaith Institute\, Najeeba Syeed was a professor and expert practitioner in the fields of conflict resolution\, mediation\, and interfaith studies. An award-winning educator\, she has taught extensively on interreligious education and published articles on faith and community-based conflict resolution\, restorative justice\, and interfaith just peacemaking. She previously served for 10 years as an associate professor at the Claremont School of Theology. She also held faculty positions at Starr King School for the Ministry and Chicago Theological Seminary\, where she was most recently associate professor of Muslim and interreligious studies. She has served as the co-chair of the American Academy of Religion’s Religion and Politics Section and was a member of the Academy’s Religion\, Social Conflict\, and Peace Section. \nSyeed also brings significant executive experience in organizations focused on conflict resolution in community\, higher education\, and government settings\, including the Western Justice Center Foundation and the Asian Pacific American Dispute Resolution Center. Her peacemaking work in the area of gang intervention\, school based conflict resolution and community peacebuilding has been recognized with numerous prestigious awards. In 2021\, she served as chief of staff to the first Asian American woman elected to the Los Angeles city council. She holds a law degree from the Indiana University School of Law and a bachelor of science degree from Guilford College. \nRegistration\nRegistration Questions: registrations@mnhum.org  \nRegister Now
URL:https://www.mnhum.org/event/true-tuesday-multifaith-response/
LOCATION:Online
CATEGORIES:Civic Renewal,Free,Online,Public Programs,TRUE Tuesdays
ATTACH;FMTTYPE=image/jpeg:https://www.mnhum.org/wp-content/uploads/2023/09/event_true_tuesday_multifaith_response.jpg
ORGANIZER;CN="Jessica Rust":MAILTO:jessica@mnhum.org
END:VEVENT
BEGIN:VEVENT
DTSTART;TZID=America/Chicago:20230923T180000
DTEND;TZID=America/Chicago:20230923T220000
DTSTAMP:20260421T182638
CREATED:20230810T170146Z
LAST-MODIFIED:20230920T182106Z
UID:10000378-1695492000-1695506400@www.mnhum.org
SUMMARY:St. Paul - Cambodian Heritage Celebration
DESCRIPTION:Join us for the first Cambodian Heritage Day as we celebrate the beauty of the Cambodian Minnesota community and its complex culture. This event features an evening of performances\, music\, food\, and history. All community members are invited to this event to learn more about Minnesota’s Cambodian ancestry. There is no cost to attend\, but registration is strongly encouraged. \nThe Minnesota Humanities Center and the Council on Asian Pacific Minnesotans are honored to support this partnership with money from the Arts and Cultural Heritage Fund that was created with the vote of the people of Minnesota on November 4\, 2008. \nRegistration\nParking in the Minnesota History Center parking lot is complimentary\, thanks to funding by the Minnesota Historical Society. \nRegistration Questions: registrations@mnhum.org  \nRegister Now
URL:https://www.mnhum.org/event/cambodian-heritage-celebration/
LOCATION:Minnesota History Center\, 345 W Kellogg Blvd\, St. Paul\, MN\, 55102\, United States
CATEGORIES:Free,Kid Friendly,Public Programming,Public Programs
ATTACH;FMTTYPE=image/png:https://www.mnhum.org/wp-content/uploads/2023/08/event_cambodian_heritage_celebration.png
ORGANIZER;CN="Casey DeMarais":MAILTO:casey@mnhum.org
END:VEVENT
END:VCALENDAR