BEGIN:VCALENDAR
VERSION:2.0
PRODID:-//Minnesota Humanities Center - ECPv6.15.20//NONSGML v1.0//EN
CALSCALE:GREGORIAN
METHOD:PUBLISH
X-WR-CALNAME:Minnesota Humanities Center
X-ORIGINAL-URL:https://www.mnhum.org
X-WR-CALDESC:Events for Minnesota Humanities Center
REFRESH-INTERVAL;VALUE=DURATION:PT1H
X-Robots-Tag:noindex
X-PUBLISHED-TTL:PT1H
BEGIN:VTIMEZONE
TZID:America/Chicago
BEGIN:DAYLIGHT
TZOFFSETFROM:-0600
TZOFFSETTO:-0500
TZNAME:CDT
DTSTART:20210314T080000
END:DAYLIGHT
BEGIN:STANDARD
TZOFFSETFROM:-0500
TZOFFSETTO:-0600
TZNAME:CST
DTSTART:20211107T070000
END:STANDARD
BEGIN:DAYLIGHT
TZOFFSETFROM:-0600
TZOFFSETTO:-0500
TZNAME:CDT
DTSTART:20220313T080000
END:DAYLIGHT
BEGIN:STANDARD
TZOFFSETFROM:-0500
TZOFFSETTO:-0600
TZNAME:CST
DTSTART:20221106T070000
END:STANDARD
BEGIN:DAYLIGHT
TZOFFSETFROM:-0600
TZOFFSETTO:-0500
TZNAME:CDT
DTSTART:20230312T080000
END:DAYLIGHT
BEGIN:STANDARD
TZOFFSETFROM:-0500
TZOFFSETTO:-0600
TZNAME:CST
DTSTART:20231105T070000
END:STANDARD
END:VTIMEZONE
BEGIN:VEVENT
DTSTART;VALUE=DATE:20220818
DTEND;VALUE=DATE:20221011
DTSTAMP:20260422T153657
CREATED:20220420T183839Z
LAST-MODIFIED:20250814T174404Z
UID:10000242-1660780800-1665446399@www.mnhum.org
SUMMARY:Fergus Falls - We Are Water MN
DESCRIPTION:The We Are Water MN traveling exhibit examines water issues statewide and in local communities through personal stories\, histories\, and scientific information. It strengthens Minnesotans’ relationships with water\, exposes visitors to new perspectives\, and increases participation in water stewardship activities. \nHost Partner: Otter Tail County  \nWant to know more about We Are Water MN?\nLearn more about the We Are Water MN exhibit\, partnership\, and programs. \nLEARN MORE
URL:https://www.mnhum.org/event/fergus-falls-we-are-water-mn/
LOCATION:Fergus Falls Public Library\, 205 East Hampden Avenue\, Fergus Falls\, MN\, 56537\, United States
CATEGORIES:Free,Greater Minnesota,Kid Friendly,We Are Water MN
ATTACH;FMTTYPE=image/jpeg:https://www.mnhum.org/wp-content/uploads/2022/04/event_we_are_water.jpg
ORGANIZER;CN="Rachel Busse-Aswar":MAILTO:rachel@mnhum.org
END:VEVENT
BEGIN:VEVENT
DTSTART;VALUE=DATE:20220919
DTEND;VALUE=DATE:20221201
DTSTAMP:20260422T153657
CREATED:20220831T191042Z
LAST-MODIFIED:20250620T133630Z
UID:10000317-1663545600-1669852799@www.mnhum.org
SUMMARY:Minneapolis - Why Treaties Matter
DESCRIPTION:“Why Treaties Matter: Self-Government in the Dakota and Ojibwe Nations”—a traveling exhibit made in partnership with the Minnesota Indian Affairs Council and the Smithsonian’s National Museum of the American Indian—explores relationships between Dakota and Ojibwe Indian Nations and the U.S. government in this place we now call Minnesota.  \nWant to know more about Why Treaties Matter?\nLearn more about the Why Treaties Matter exhibit and partnership. \nLearn More
URL:https://www.mnhum.org/event/minneapolis-why-treaties-matter/
LOCATION:University of Minnesota Communty of Scholars Program Lounge\, 10 Church Street #375\, Minneapolis\, MN\, 55455\, United States
CATEGORIES:Civic Renewal,Exhibit,Free,Why Treaties Matter
ATTACH;FMTTYPE=image/jpeg:https://www.mnhum.org/wp-content/uploads/2022/06/event_why_treaties_matter.jpg
ORGANIZER;CN="Trygve Throntveit":MAILTO:trygve@mnhum.org
END:VEVENT
BEGIN:VEVENT
DTSTART;TZID=America/Chicago:20220925T133000
DTEND;TZID=America/Chicago:20220925T150000
DTSTAMP:20260422T153657
CREATED:20220812T131913Z
LAST-MODIFIED:20230606T172021Z
UID:10000315-1664112600-1664118000@www.mnhum.org
SUMMARY:St. Paul - Shoua and the Northern Lights Dragon: Musical Performance and Discussion
DESCRIPTION:Join us for a brand-new musical performance by Chione Quintet based on Twin Cities author Ka Vang’s Shoua and the Northern Lights Dragon. This short chapter book\, published by the Council on Asian Pacific Minnesotans (CAPM) and the Minnesota Humanities Center in 2012\, tells the story of Shoua\, a Hmong American girl who discovers her voice as she saves an injured dragon while camping in the north woods of Minnesota. Hear this story set to beautiful and evocative music composed by fellow Minnesotan\, Jocelyn Hagen\, with narration by Ka Vang. Chione Quintet combines musical character themes with American Sign Language and will share the stories of each of their instruments and the ensemble they create–the wind quintet! \nHear from Sia Her\, Executive Director of CAPM\, about the project that led to the publication of this wonderful book and five others – The Reading Together Book Project\, which addresses the importance of children’s books that speak to the rich and diverse cultural identities reflected in the U.S. You will also hear from author Ka Vang about the significance and impact the book and performance have had on her.  \nChildren of all ages are welcome! There is no cost to attend\, but registration is required. Refreshments from a local Asian market will be served. \nChione [kiōn] is a Twin Cities-based woodwind quintet comprised of innovative and cross-disciplinary women. The unique and evolving medium provides an outlet to explore and create new sounds while redefining and rediscovering lesser-known music. Chione is committed to collaborating with professionals of all genres and creative outlets\, with particular interests in commissioning new pieces and performing works by women artists. Throughout each endeavor\, Chione aims to reach a wide range of audiences with the hopes of inspiring contemporary and aspiring artists as well as supporters of the arts. \nRegistration\nREGISTRATION FOR THIS EVENT HAS CLOSED
URL:https://www.mnhum.org/event/shoua-northern-lights-dragon/
LOCATION:Minnesota Humanities Event Center\, 987 Ivy Avenue East\, Saint Paul\, MN\, 55106\, United States
CATEGORIES:Books, Poetry, and Literature,Free,Kid Friendly,Public Programs
ATTACH;FMTTYPE=image/jpeg:https://www.mnhum.org/wp-content/uploads/2022/08/event_shoua_chione.jpg
ORGANIZER;CN="Eden Bart":MAILTO:eden@mnhum.org
END:VEVENT
END:VCALENDAR