BEGIN:VCALENDAR
VERSION:2.0
PRODID:-//Minnesota Humanities Center - ECPv6.15.20//NONSGML v1.0//EN
CALSCALE:GREGORIAN
METHOD:PUBLISH
X-ORIGINAL-URL:https://www.mnhum.org
X-WR-CALDESC:Events for Minnesota Humanities Center
REFRESH-INTERVAL;VALUE=DURATION:PT1H
X-Robots-Tag:noindex
X-PUBLISHED-TTL:PT1H
BEGIN:VTIMEZONE
TZID:America/Chicago
BEGIN:DAYLIGHT
TZOFFSETFROM:-0600
TZOFFSETTO:-0500
TZNAME:CDT
DTSTART:20250309T080000
END:DAYLIGHT
BEGIN:STANDARD
TZOFFSETFROM:-0500
TZOFFSETTO:-0600
TZNAME:CST
DTSTART:20251102T070000
END:STANDARD
BEGIN:DAYLIGHT
TZOFFSETFROM:-0600
TZOFFSETTO:-0500
TZNAME:CDT
DTSTART:20260308T080000
END:DAYLIGHT
BEGIN:STANDARD
TZOFFSETFROM:-0500
TZOFFSETTO:-0600
TZNAME:CST
DTSTART:20261101T070000
END:STANDARD
BEGIN:DAYLIGHT
TZOFFSETFROM:-0600
TZOFFSETTO:-0500
TZNAME:CDT
DTSTART:20270314T080000
END:DAYLIGHT
BEGIN:STANDARD
TZOFFSETFROM:-0500
TZOFFSETTO:-0600
TZNAME:CST
DTSTART:20271107T070000
END:STANDARD
END:VTIMEZONE
BEGIN:VEVENT
DTSTART;VALUE=DATE:20260423
DTEND;VALUE=DATE:20260615
DTSTAMP:20260420T003640
CREATED:20251222T205635Z
LAST-MODIFIED:20251222T205635Z
UID:10000610-1776902400-1781481599@www.mnhum.org
SUMMARY:St. Paul - We Are Water MN
DESCRIPTION:The We Are Water MN traveling exhibit examines water issues statewide and in local communities through personal stories\, histories\, and scientific information. It strengthens Minnesotans’ relationships with water\, exposes visitors to new perspectives\, and increases participation in water stewardship activities. \nHost Partner: Capitol Region Watershed District \nStop two on the We Are Water MN 2026 tour brings us to the Midway neighborhood of Saint Paul\, where the exhibit is hosted by Capitol Region Watershed District (CRWD). CRWD is a local unit of government dedicated to protecting\, managing and improving the water resources of the District\, which includes parts of Falcon Heights\, Lauderdale\, Maplewood\, Roseville and Saint Paul. All the water in this district eventually flows to the Mississippi River\, and being hosted at CRWD will offer a chance for visitors to learn more about ways their actions directly impact water in their local community. This hosting will also offer a unique opportunity to spend time in the CRWD offices\, which use green building principles\, including stormwater management and energy-saving practices\, to conserve natural resources. The grounds include a watershed learning center\, a pocket park\, and interactive features designed to draw in neighbors and visitors. \nFun fact: Watershed Districts are unique parts of government\, because they aren’t defined by political boundaries. Instead\, they follow the water! Water flows naturally\, so these districts cross city/county lines to provide holistic\, science-based water management for areas draining to a common lake\, stream\, or river. \nAbout We Are Water MN?\nWe are Water MN is a project of the Minnesota Pollution Control Agency and the Minnesota Humanities Center in partnership with the Minnesota Historical Society; the Board of Water and Soil Resources; the Minnesota Departments of Agriculture\, Health\, and Natural Resources; and University of Minnesota Extension. \nLearn more about the We Are Water MN exhibit\, partnership\, and programs. \nLearn More
URL:https://www.mnhum.org/event/st-paul-we-are-water-mn/
LOCATION:Capitol Region Watershed District\, 595 Aldine St\, St. Paul\, MN\, 55104\, United States
CATEGORIES:Civic Renewal,Exhibit,Free,Kid Friendly,We Are Water MN
ATTACH;FMTTYPE=image/jpeg:https://www.mnhum.org/wp-content/uploads/2022/04/event_we_are_water.jpg
ORGANIZER;CN="Rachel Busse-Aswar":MAILTO:rachel@mnhum.org
END:VEVENT
BEGIN:VEVENT
DTSTART;TZID=America/Chicago:20260520T073000
DTEND;TZID=America/Chicago:20260520T083000
DTSTAMP:20260420T003640
CREATED:20251017T180500Z
LAST-MODIFIED:20251017T180500Z
UID:10000599-1779262200-1779265800@www.mnhum.org
SUMMARY:Online - What’s Next? Looking Towards Implementation
DESCRIPTION:Join for conversation and brainstorming about next steps in social studies standards implementation. Spend time reflecting on the work done this year\, and the changes anticipated for next school year. \nThe Minnesota Department of Education\, in partnership with the Minnesota Humanities Center\, will host virtual and in-person sessions to support planning for and implementation of the 2021 K-12 Academic Standards in Social Studies\, held monthly during the 2025–26 school year. These sessions are open to anyone with building or district-level responsibilities for curriculum planning and development in all social studies content areas\, including curriculum directors\, department leads\, and teachers. Pre-registration is required for in-person sessions. \nVirtual sessions will have content similar to in-person sessions\, and whenever possible will feature the same speakers.  \nIn-person sessions will be an hour longer than virtual sessions and will allow time for supported collaborative work and networking.  \nWhile districts are encouraged to have a representative at each monthly session\, either in-person or virtual\, participants do not need to commit to attending all nine sessions. Participants are also welcome to attend either session type throughout the year\, as is best suited to their needs and schedule. \nK-12 educators will receive 1 clock hour. \nRegistration\nRegistration Questions: brittany.rawson-haeg@state.mn.us  \nRegister Now
URL:https://www.mnhum.org/event/online-whats-next-looking-towards-implementation/
LOCATION:https://www.mnhum.org/event/online-whats-next-looking-towards-implementation/
CATEGORIES:Free,K-12 Education,Online,Professional Development,Social Studies Curriculum Leaders Network
ATTACH;FMTTYPE=image/jpeg:https://www.mnhum.org/wp-content/uploads/2025/10/event_social_studies_standards.jpg
ORGANIZER;CN="Sung Ja Shin":MAILTO:sungja@mnhum.org
END:VEVENT
BEGIN:VEVENT
DTSTART;TZID=America/Chicago:20260520T183000
DTEND;TZID=America/Chicago:20260520T200000
DTSTAMP:20260420T003640
CREATED:20260407T143033Z
LAST-MODIFIED:20260413T140318Z
UID:10000645-1779301800-1779307200@www.mnhum.org
SUMMARY:Columbia Heights - NUESTRO NORTE Community Screening
DESCRIPTION:Join us for the public premiere and celebration of NUESTRO NORTE. \nNUESTRO NORTE is a cinematic portrait of five community leaders from across metro and greater Minnesota\, their lived stories interwoven with symbolic fiction scenes and original musical performances. More than a documentary\, the film seeks to offer a collective vision\, celebrating Latine leadership while reflecting on history\, diversity\, community investment\, innovation\, and the strength of intergenerational ties. \nThe evening will feature a panel reflection with cast members and special acknowledgements. \nThis project was produced in collaboration with LatinoLEAD\, Dual Studios\, and the talented film director Martín Blanco with guidance from the project’s Task Force: Sandy Vargas\, Elsa Vega Perez\, and Jessica Lopez Lyman. \n\n\n\n\n\n \nRegistration\nThis event is free\, however registration is required. \nRegistration Questions: registrations@mnhum.org  \nRegister Now
URL:https://www.mnhum.org/event/columbia-heights-nuestro-norte-community-screening/
LOCATION:Heights Theater\, 3951 Central Ave NE\, Columbia Heights\, MN\, 55421\, United States
CATEGORIES:Free,Immersive Experiences
ATTACH;FMTTYPE=image/jpeg:https://www.mnhum.org/wp-content/uploads/2026/03/event_nuestro_norte.jpg
ORGANIZER;CN="MayKao Fredericks":MAILTO:maykao@mnhum.org
END:VEVENT
BEGIN:VEVENT
DTSTART;TZID=America/Chicago:20260520T190000
DTEND;TZID=America/Chicago:20260520T203000
DTSTAMP:20260420T003640
CREATED:20260415T170609Z
LAST-MODIFIED:20260415T170609Z
UID:10000658-1779303600-1779309000@www.mnhum.org
SUMMARY:Hopkins - Minnesota Writers Off the Page: Kristin Collier
DESCRIPTION:In her striking new memoir\, “What Debt Demands: Family\, Betrayal\, and Precarity in a Broken System\,” Grand Central Publishing (2025). Kristin Collier recounts the moment she discovered she owed $200\,000—not from debt she incurred\, but from loans her mother had taken out in her name without her knowledge. She reflects on the emotional and financial toll of this betrayal\, and the lasting impact it has had on her life. Collier’s story also broadens into a powerful exploration of the collective burden of debt in today’s society. She will be joined in conversation by fellow writer Jennifer Eli Bowen\, author of “The Book of Kin: On Absence\, Love\, and Being There.”  \nFollowing the discussion\, audience members are invited to participate in a Q&A session and have further informal conversation with the featured speakers. Light refreshments will be provided\, copies of “What Debt Demands: Family\, Betrayal\, and Precarity in a Broken System” will be available for purchase\, and the evening will finish with a book signing. \nAbout the Author\nKristin Collier is the author of “What Debt Demands: Family\, Betrayal\, and Precarity in a Broken System\,” Grand Central Publishing (2025). She has received funding from the Minnesota State Arts Board\, a Jack Hazard fellowship\, and a Yaddo artist residency. Her writing has been published in journals such as the Los Angeles Review of Books\, Oprah Daily\, and Longreads. She is an organizer with the Debt Collective and a visiting scholar and TREC community engagement fellow at Metro State University. \nAbout the Moderator\nJennifer Eli Bowen is a writer\, arts instructor\, and editor\, whose most recent essay collection “The Book of Kin: On Absence\, Love\, and Being There\,” Milkweed Press (2025) has been shortlisted for the MN Book Awards in the Memoir/Creative Non-fiction category. Her work has received a Pushcart Prize\, The Arts and Letters Prize\, The Tim McGinnis Award\, and has appeared in The Sun\, The Iowa Review\, Orion\, and Kenyon Review\, among others. Jennifer is the Founding Artist Director of the Minnesota Prison Writing Workshop. She teaches creative writing in prisons across the state of Minnesota\, and occasionally at local colleges. She also edits creative prose and conducts interviews. Jen lives in St. Paul\, a block in any direction from sidewalk poetry and snow. \nThis event is presented in partnership with Cream & Amber\, a unique book store where reading and beer come together and people can connect with each other. This event is part of the Minnesota Writers Off the Page series\, bringing the inspirational voices of Minnesota’s authors directly to readers. \nRegistration\nThis event is free\, however registration is required. \nRegistration Questions: registrations@mnhum.org  \nRegister Now
URL:https://www.mnhum.org/event/hopkins-minnesota-writers-off-the-page-kristin-collier/
LOCATION:Cream & Amber\, 1605 Mainstreet\, Hopkins\, MN\, 55343\, United States
CATEGORIES:Free,Minnesota Writers Off the Page,Public Programming
ATTACH;FMTTYPE=image/png:https://www.mnhum.org/wp-content/uploads/2026/04/event_mn_writers_kristin_collier_2026.png
ORGANIZER;CN="Corey China":MAILTO:corey@mnhum.org
END:VEVENT
END:VCALENDAR