BEGIN:VCALENDAR
VERSION:2.0
PRODID:-//Minnesota Humanities Center - ECPv6.15.20//NONSGML v1.0//EN
CALSCALE:GREGORIAN
METHOD:PUBLISH
X-WR-CALNAME:Minnesota Humanities Center
X-ORIGINAL-URL:https://www.mnhum.org
X-WR-CALDESC:Events for Minnesota Humanities Center
REFRESH-INTERVAL;VALUE=DURATION:PT1H
X-Robots-Tag:noindex
X-PUBLISHED-TTL:PT1H
BEGIN:VTIMEZONE
TZID:America/Chicago
BEGIN:DAYLIGHT
TZOFFSETFROM:-0600
TZOFFSETTO:-0500
TZNAME:CDT
DTSTART:20250309T080000
END:DAYLIGHT
BEGIN:STANDARD
TZOFFSETFROM:-0500
TZOFFSETTO:-0600
TZNAME:CST
DTSTART:20251102T070000
END:STANDARD
BEGIN:DAYLIGHT
TZOFFSETFROM:-0600
TZOFFSETTO:-0500
TZNAME:CDT
DTSTART:20260308T080000
END:DAYLIGHT
BEGIN:STANDARD
TZOFFSETFROM:-0500
TZOFFSETTO:-0600
TZNAME:CST
DTSTART:20261101T070000
END:STANDARD
BEGIN:DAYLIGHT
TZOFFSETFROM:-0600
TZOFFSETTO:-0500
TZNAME:CDT
DTSTART:20270314T080000
END:DAYLIGHT
BEGIN:STANDARD
TZOFFSETFROM:-0500
TZOFFSETTO:-0600
TZNAME:CST
DTSTART:20271107T070000
END:STANDARD
BEGIN:DAYLIGHT
TZOFFSETFROM:-0600
TZOFFSETTO:-0500
TZNAME:CDT
DTSTART:20280312T080000
END:DAYLIGHT
BEGIN:STANDARD
TZOFFSETFROM:-0500
TZOFFSETTO:-0600
TZNAME:CST
DTSTART:20281105T070000
END:STANDARD
END:VTIMEZONE
BEGIN:VEVENT
DTSTART;TZID=America/Chicago:20260520T183000
DTEND;TZID=America/Chicago:20260520T200000
DTSTAMP:20260420T005557
CREATED:20260407T143033Z
LAST-MODIFIED:20260413T140318Z
UID:10000645-1779301800-1779307200@www.mnhum.org
SUMMARY:Columbia Heights - NUESTRO NORTE Community Screening
DESCRIPTION:Join us for the public premiere and celebration of NUESTRO NORTE. \nNUESTRO NORTE is a cinematic portrait of five community leaders from across metro and greater Minnesota\, their lived stories interwoven with symbolic fiction scenes and original musical performances. More than a documentary\, the film seeks to offer a collective vision\, celebrating Latine leadership while reflecting on history\, diversity\, community investment\, innovation\, and the strength of intergenerational ties. \nThe evening will feature a panel reflection with cast members and special acknowledgements. \nThis project was produced in collaboration with LatinoLEAD\, Dual Studios\, and the talented film director Martín Blanco with guidance from the project’s Task Force: Sandy Vargas\, Elsa Vega Perez\, and Jessica Lopez Lyman. \n\n\n\n\n\n \nRegistration\nThis event is free\, however registration is required. \nRegistration Questions: registrations@mnhum.org  \nRegister Now
URL:https://www.mnhum.org/event/columbia-heights-nuestro-norte-community-screening/
LOCATION:Heights Theater\, 3951 Central Ave NE\, Columbia Heights\, MN\, 55421\, United States
CATEGORIES:Free,Immersive Experiences
ATTACH;FMTTYPE=image/jpeg:https://www.mnhum.org/wp-content/uploads/2026/03/event_nuestro_norte.jpg
ORGANIZER;CN="MayKao Fredericks":MAILTO:maykao@mnhum.org
END:VEVENT
BEGIN:VEVENT
DTSTART;TZID=America/Chicago:20260520T190000
DTEND;TZID=America/Chicago:20260520T203000
DTSTAMP:20260420T005557
CREATED:20260415T170609Z
LAST-MODIFIED:20260415T170609Z
UID:10000658-1779303600-1779309000@www.mnhum.org
SUMMARY:Hopkins - Minnesota Writers Off the Page: Kristin Collier
DESCRIPTION:In her striking new memoir\, “What Debt Demands: Family\, Betrayal\, and Precarity in a Broken System\,” Grand Central Publishing (2025). Kristin Collier recounts the moment she discovered she owed $200\,000—not from debt she incurred\, but from loans her mother had taken out in her name without her knowledge. She reflects on the emotional and financial toll of this betrayal\, and the lasting impact it has had on her life. Collier’s story also broadens into a powerful exploration of the collective burden of debt in today’s society. She will be joined in conversation by fellow writer Jennifer Eli Bowen\, author of “The Book of Kin: On Absence\, Love\, and Being There.”  \nFollowing the discussion\, audience members are invited to participate in a Q&A session and have further informal conversation with the featured speakers. Light refreshments will be provided\, copies of “What Debt Demands: Family\, Betrayal\, and Precarity in a Broken System” will be available for purchase\, and the evening will finish with a book signing. \nAbout the Author\nKristin Collier is the author of “What Debt Demands: Family\, Betrayal\, and Precarity in a Broken System\,” Grand Central Publishing (2025). She has received funding from the Minnesota State Arts Board\, a Jack Hazard fellowship\, and a Yaddo artist residency. Her writing has been published in journals such as the Los Angeles Review of Books\, Oprah Daily\, and Longreads. She is an organizer with the Debt Collective and a visiting scholar and TREC community engagement fellow at Metro State University. \nAbout the Moderator\nJennifer Eli Bowen is a writer\, arts instructor\, and editor\, whose most recent essay collection “The Book of Kin: On Absence\, Love\, and Being There\,” Milkweed Press (2025) has been shortlisted for the MN Book Awards in the Memoir/Creative Non-fiction category. Her work has received a Pushcart Prize\, The Arts and Letters Prize\, The Tim McGinnis Award\, and has appeared in The Sun\, The Iowa Review\, Orion\, and Kenyon Review\, among others. Jennifer is the Founding Artist Director of the Minnesota Prison Writing Workshop. She teaches creative writing in prisons across the state of Minnesota\, and occasionally at local colleges. She also edits creative prose and conducts interviews. Jen lives in St. Paul\, a block in any direction from sidewalk poetry and snow. \nThis event is presented in partnership with Cream & Amber\, a unique book store where reading and beer come together and people can connect with each other. This event is part of the Minnesota Writers Off the Page series\, bringing the inspirational voices of Minnesota’s authors directly to readers. \nRegistration\nThis event is free\, however registration is required. \nRegistration Questions: registrations@mnhum.org  \nRegister Now
URL:https://www.mnhum.org/event/hopkins-minnesota-writers-off-the-page-kristin-collier/
LOCATION:Cream & Amber\, 1605 Mainstreet\, Hopkins\, MN\, 55343\, United States
CATEGORIES:Free,Minnesota Writers Off the Page,Public Programming
ATTACH;FMTTYPE=image/png:https://www.mnhum.org/wp-content/uploads/2026/04/event_mn_writers_kristin_collier_2026.png
ORGANIZER;CN="Corey China":MAILTO:corey@mnhum.org
END:VEVENT
BEGIN:VEVENT
DTSTART;TZID=America/Chicago:20260521T160000
DTEND;TZID=America/Chicago:20260521T173000
DTSTAMP:20260420T005557
CREATED:20250812T170256Z
LAST-MODIFIED:20260217T171007Z
UID:10000559-1779379200-1779384600@www.mnhum.org
SUMMARY:Online Pedagogy Session – Era Nine: Contested Freedoms
DESCRIPTION:Evaluate how recent U.S. history—1990s to present—shaped American debates over democracy\, rights\, and responses to global and domestic crises. Using content and sources from Dr. Walter Greason\, Minnesota Department of Education (MDE) Social Studies Specialist Brittany Rawson-Haeg and experienced classroom educators will lead this hands-on workshop supporting high school U.S. History teachers in designing inquiry-based\, standards-aligned units. \nAll Pedagogy Sessions will be conducted via Zoom. Educators who participate in all Pedagogy Sessions will leave the year with a complete U.S. History course aligned to the new standards. \nEducators are invited to participate in companion Content Sessions. \nRegistration\nPedagogy Sessions are designed for high school U.S. History teachers and may also be relevant for 5th and 7th grade educators. Educators are welcome to register for individual sessions that align with their interests and schedules. Join us for one or more sessions throughout the year. \nThis event is free but registration is required. Separate registration is required for each offering. \nRegistration Questions: Brittany.Rawson-Haeg@state.mn.us \nRegister Now \nThis offering is part of Navigating the U.S. History Eras: Content\, Pedagogy\, and Inquiry in the Classroom is a yearlong professional learning opportunity supporting implementation of Minnesota’s 2021 K–12 Academic Standards in Social Studies presented by MHC and MDE.
URL:https://www.mnhum.org/event/online-pedagogy-session-era-nine/
LOCATION:Online
CATEGORIES:Academic Standards,Free,K-12 Education,Online,Pedagogy Sessions,Professional Development,Social Studies Standards,US History Eras
ATTACH;FMTTYPE=image/jpeg:https://www.mnhum.org/wp-content/uploads/2025/08/event_us_history_pedagogy_session_2025.jpg
ORGANIZER;CN="Sung Ja Shin":MAILTO:sungja@mnhum.org
END:VEVENT
BEGIN:VEVENT
DTSTART;VALUE=DATE:20260618
DTEND;VALUE=DATE:20260811
DTSTAMP:20260420T005557
CREATED:20251222T205640Z
LAST-MODIFIED:20260302T143943Z
UID:10000611-1781740800-1786406399@www.mnhum.org
SUMMARY:Itasca - We Are Water MN
DESCRIPTION:The We Are Water MN traveling exhibit examines water issues statewide and in local communities through personal stories\, histories\, and scientific information. It strengthens Minnesotans’ relationships with water\, exposes visitors to new perspectives\, and increases participation in water stewardship activities. \nHost Partner: MN DNR Itasca State Park and U of M Itasca Biological Station \nAs we reach the height of summer in Minnesota\, We Are Water MN travels north to a deeply significant site for water in our state: the headwaters of the mighty Mississippi River! The water found at Lake Itasca begins here and flows on its winding way 2552 miles to the Gulf of Mexico. Join the thousands of visitors from all over the state\, country\, and world this summer and see the We Are Water MN exhibit next to the serenity and natural beauty of Lake Itasca\, a national landmark. \nThis hosting will be within Itasca State Park\, run by the DNR\, and co-led by the U of M Itasca Biological Station\, an active field station devoted to research and teaching on how ecosystems work\, with an eye to cultivating an appreciation of their value and preservation for future generations. Itasca Station has been in operation since 1907 and is one of the oldest continuously operational field stations in the United States of America. \nAbout We Are Water MN?\nWe are Water MN is a project of the Minnesota Pollution Control Agency and the Minnesota Humanities Center in partnership with the Minnesota Historical Society; the Board of Water and Soil Resources; the Minnesota Departments of Agriculture\, Health\, and Natural Resources; and University of Minnesota Extension. \nLearn more about the We Are Water MN exhibit\, partnership\, and programs. \nLearn More
URL:https://www.mnhum.org/event/park-rapids-we-are-water-mn/
LOCATION:Itasca State Park\, 36750 Main Park Drive\, Park Rapids\, MN\, 56470\, United States
CATEGORIES:Civic Renewal,Exhibit,Free,Greater Minnesota,Kid Friendly,We Are Water MN
ATTACH;FMTTYPE=image/jpeg:https://www.mnhum.org/wp-content/uploads/2022/04/event_we_are_water.jpg
ORGANIZER;CN="Rachel Busse-Aswar":MAILTO:rachel@mnhum.org
END:VEVENT
BEGIN:VEVENT
DTSTART;VALUE=DATE:20260813
DTEND;VALUE=DATE:20261006
DTSTAMP:20260420T005557
CREATED:20251222T205647Z
LAST-MODIFIED:20251222T205647Z
UID:10000612-1786579200-1791244799@www.mnhum.org
SUMMARY:Little Falls - We Are Water MN
DESCRIPTION:The We Are Water MN traveling exhibit examines water issues statewide and in local communities through personal stories\, histories\, and scientific information. It strengthens Minnesotans’ relationships with water\, exposes visitors to new perspectives\, and increases participation in water stewardship activities. \nHost Partner: Great River Arts \nAs the summer comes to a close and fall sets in\, join We Are Water MN at Great River Arts (GRA) in Little Fall\, where creativity meets community. GRA exists to enrich lives through the arts and become the art hub for the Morrison County area\, playing a significant role in sustaining the community’s artistic and economic vibrancy. From live theater and music performances to continuous visual art exhibits\, art classes for youth and adults\, and now the We Are Water MN exhibit\, come see how all of the wonderful things that happen when water and art meet! \nWe are especially excited that the exhibit will be in town during the annual and always highly anticipated Little Falls Arts and Crafts Fair\, September 12-13. We look forward to bringing We Are Water MN to the thousands of art enthusiasts visiting the heart of downtown Little Falls. \nFor this hosting\, Great River Arts is partnered with the City of Little Falls\, the Franciscan Sisters of Little Falls\, and the Morrison Soil & Water Conservation District. \nAbout We Are Water MN?\nWe are Water MN is a project of the Minnesota Pollution Control Agency and the Minnesota Humanities Center in partnership with the Minnesota Historical Society; the Board of Water and Soil Resources; the Minnesota Departments of Agriculture\, Health\, and Natural Resources; and University of Minnesota Extension. \nLearn more about the We Are Water MN exhibit\, partnership\, and programs. \nLearn More
URL:https://www.mnhum.org/event/little-falls-we-are-water-mn/
LOCATION:Great River Arts\, 122 1st Street SE\, Little Falls\, MN\, 56345\, United States
CATEGORIES:Civic Renewal,Exhibit,Free,Greater Minnesota,Kid Friendly,We Are Water MN
ATTACH;FMTTYPE=image/jpeg:https://www.mnhum.org/wp-content/uploads/2022/04/event_we_are_water.jpg
ORGANIZER;CN="Rachel Busse-Aswar":MAILTO:rachel@mnhum.org
END:VEVENT
BEGIN:VEVENT
DTSTART;VALUE=DATE:20261008
DTEND;VALUE=DATE:20261201
DTSTAMP:20260420T005557
CREATED:20251222T205655Z
LAST-MODIFIED:20251222T205655Z
UID:10000613-1791417600-1796083199@www.mnhum.org
SUMMARY:Blaine - We Are Water MN
DESCRIPTION:The We Are Water MN traveling exhibit examines water issues statewide and in local communities through personal stories\, histories\, and scientific information. It strengthens Minnesotans’ relationships with water\, exposes visitors to new perspectives\, and increases participation in water stewardship activities. \nHost Partner: Anoka County Library \nWe Are Water MN will round out its 2026 tour at the Northtown Library in Blaine! Anoka County Libraries exist to serve their communities and connect them to resources and learning\, and We Are Water MN is no exception\, bringing water education and engagement to the library. Fun fact: Anoka County is the 4th largest county in the state of Minnesota\, comprised of over 360\,000 residents! Libraries are naturally places people go to learn\, and we look forward to seeing the many water related resources\, books\, book discussions\, and beyond! \nThough most of the programming at Northtown will happen indoors\, the library also features beautiful outdoor grounds\, with a pond and Shoreline Buffer Garden that are on library premises. Join us outside for nature programming! \nAbout We Are Water MN?\nWe are Water MN is a project of the Minnesota Pollution Control Agency and the Minnesota Humanities Center in partnership with the Minnesota Historical Society; the Board of Water and Soil Resources; the Minnesota Departments of Agriculture\, Health\, and Natural Resources; and University of Minnesota Extension. \nLearn more about the We Are Water MN exhibit\, partnership\, and programs. \nLearn More
URL:https://www.mnhum.org/event/blaine-we-are-water-mn/
LOCATION:Northtown Library\, 711 County Hwy 10 NE\, Blaine\, MN\, 55434\, United States
CATEGORIES:Civic Renewal,Exhibit,Free,Kid Friendly,We Are Water MN
ATTACH;FMTTYPE=image/jpeg:https://www.mnhum.org/wp-content/uploads/2022/04/event_we_are_water.jpg
ORGANIZER;CN="Rachel Busse-Aswar":MAILTO:rachel@mnhum.org
END:VEVENT
BEGIN:VEVENT
DTSTART;VALUE=DATE:20270504
DTEND;VALUE=DATE:20270505
DTSTAMP:20260420T005557
CREATED:20260325T215329Z
LAST-MODIFIED:20260325T215329Z
UID:10000644-1809388800-1809475199@www.mnhum.org
SUMMARY:Save the Date! 2027 Project Citizen Showcase
DESCRIPTION:What happens when students investigate issues in their communities\, research public policy solutions\, and present their ideas to decision-makers? \nJoin us for the 2027 Project Citizen Student Showcase\, where student teams from across Minnesota will share their civic engagement projects with educators\, community members\, and judges. This event will highlight the research\, creativity\, and civic leadership of young people learning how to engage in democracy by becoming active leaders in defining and implementing democratic public policy. \nMore details about participation and registration will be shared in the coming months. \nLearn more about Project Citizen and upcoming opportunities on the Minnesota Center for Civic Education program page.
URL:https://www.mnhum.org/event/save-the-date-2027-project-citizen-showcase/
LOCATION:MN
CATEGORIES:Free,K-12 Education,Project Citizen
ATTACH;FMTTYPE=image/png:https://www.mnhum.org/wp-content/uploads/2026/03/event_project_citizen_2026.png
ORGANIZER;CN="Eden Bart":MAILTO:eden@mnhum.org
END:VEVENT
END:VCALENDAR