BEGIN:VCALENDAR
VERSION:2.0
PRODID:-//Minnesota Humanities Center - ECPv6.15.20//NONSGML v1.0//EN
CALSCALE:GREGORIAN
METHOD:PUBLISH
X-ORIGINAL-URL:https://www.mnhum.org
X-WR-CALDESC:Events for Minnesota Humanities Center
REFRESH-INTERVAL;VALUE=DURATION:PT1H
X-Robots-Tag:noindex
X-PUBLISHED-TTL:PT1H
BEGIN:VTIMEZONE
TZID:America/Chicago
BEGIN:DAYLIGHT
TZOFFSETFROM:-0600
TZOFFSETTO:-0500
TZNAME:CDT
DTSTART:20230312T080000
END:DAYLIGHT
BEGIN:STANDARD
TZOFFSETFROM:-0500
TZOFFSETTO:-0600
TZNAME:CST
DTSTART:20231105T070000
END:STANDARD
BEGIN:DAYLIGHT
TZOFFSETFROM:-0600
TZOFFSETTO:-0500
TZNAME:CDT
DTSTART:20240310T080000
END:DAYLIGHT
BEGIN:STANDARD
TZOFFSETFROM:-0500
TZOFFSETTO:-0600
TZNAME:CST
DTSTART:20241103T070000
END:STANDARD
BEGIN:DAYLIGHT
TZOFFSETFROM:-0600
TZOFFSETTO:-0500
TZNAME:CDT
DTSTART:20250309T080000
END:DAYLIGHT
BEGIN:STANDARD
TZOFFSETFROM:-0500
TZOFFSETTO:-0600
TZNAME:CST
DTSTART:20251102T070000
END:STANDARD
END:VTIMEZONE
BEGIN:VEVENT
DTSTART;TZID=America/Chicago:20240709T170000
DTEND;TZID=America/Chicago:20240709T200000
DTSTAMP:20260421T061317
CREATED:20240507T174604Z
LAST-MODIFIED:20240625T165804Z
UID:10000417-1720544400-1720555200@www.mnhum.org
SUMMARY:Duluth - Sketches of Minnesota
DESCRIPTION:Join the Minnesota Humanities Center\, Danger Boat Productions\, and local host partners for the inaugural Sketches of Minnesota civic improv comedy tour! These free events will use laughter and comedy to celebrate Minnesota communities\, promote dialogue\, bridge divides\, and help find ways to work constructively across differences in today’s political environment. \nBeginning with a catered meal\, these gatherings will invite audience members to share what makes their town great\, what they think people get wrong about it\, what local divisions concern them\, and what future they imagine. An improv comedy troupe will listen in on the conversations\, taking everything they heard from residents and bringing it to life on stage through entirely unscripted improv comedy theater. \nThis event is one of the first seven tour stops. A culminating performance will take place later in 2024\, sharing stories from around the state. Visit host partner and/or venue site for details and registration specific to this event. \nThe work of the Minnesota Humanities Center is to create a stronger Minnesota by increasing our understanding of the beauty\, wisdom and stories of its people. Through partnerships\, we facilitate the spaces\, like Sketches of Minnesota\, that seek to build connections and deepen understanding of ourselves and our communities in pursuit of a more just society. \nHost Partner: Zeitgeist Center for Arts \nRegistration\nThis event is free but registration is required. The show begins at 7:30 p.m. If you would like to attend the show only\, please select the 7:30pm time slot. If you would like to attend a free pre-show dinner at Zeitgeist Restaurant + Bar\, please select your desired time slot from 5:00pm-6:15pm. Approximate show runtime is 60-75 min\, including Q&A. \nRegistration Questions: jessica@zeitgeistarts.com \nRegister Now
URL:https://www.mnhum.org/event/duluth-sketches-of-minnesota/
LOCATION:Zeitgeist Center for Arts\, 222 East Superior Street\, Duluth\, MN\, 55802\, United States
CATEGORIES:Civic Renewal,Free,Greater Minnesota,Public Programs,Sketches of Minnesota
ATTACH;FMTTYPE=image/png:https://www.mnhum.org/wp-content/uploads/2024/05/event_sketches_mn_duluth.png
ORGANIZER;CN="Trygve Throntveit":MAILTO:trygve@mnhum.org
END:VEVENT
BEGIN:VEVENT
DTSTART;TZID=America/Chicago:20240710T170000
DTEND;TZID=America/Chicago:20240710T200000
DTSTAMP:20260421T061318
CREATED:20240507T174730Z
LAST-MODIFIED:20240625T165735Z
UID:10000418-1720630800-1720641600@www.mnhum.org
SUMMARY:Duluth - Sketches of Minnesota
DESCRIPTION:Join the Minnesota Humanities Center\, Danger Boat Productions\, and local host partners for the inaugural Sketches of Minnesota civic improv comedy tour! These free events will use laughter and comedy to celebrate Minnesota communities\, promote dialogue\, bridge divides\, and help find ways to work constructively across differences in today’s political environment. \nBeginning with a catered meal\, these gatherings will invite audience members to share what makes their town great\, what they think people get wrong about it\, what local divisions concern them\, and what future they imagine. An improv comedy troupe will listen in on the conversations\, taking everything they heard from residents and bringing it to life on stage through entirely unscripted improv comedy theater. \nThis event is one of the first seven tour stops. A culminating performance will take place later in 2024\, sharing stories from around the state. Visit host partner and/or venue site for details and registration specific to this event. \nThe work of the Minnesota Humanities Center is to create a stronger Minnesota by increasing our understanding of the beauty\, wisdom and stories of its people. Through partnerships\, we facilitate the spaces\, like Sketches of Minnesota\, that seek to build connections and deepen understanding of ourselves and our communities in pursuit of a more just society. \nHost Partner: Zeitgeist Center for Arts \nRegistration\nThis event is free but registration is required. The show begins at 7:30 p.m. If you would like to attend the show only\, please select the 7:30pm time slot. If you would like to attend a free pre-show dinner at Zeitgeist Restaurant + Bar\, please select your desired time slot from 5:00pm-6:15pm. Approximate show runtime is 60-75 min\, including Q&A. \nRegistration Questions: jessica@zeitgeistarts.com \nRegister Now
URL:https://www.mnhum.org/event/duluth-sketches-of-minnesota-2/
LOCATION:Zeitgeist Center for Arts\, 222 East Superior Street\, Duluth\, MN\, 55802\, United States
CATEGORIES:Civic Renewal,Free,Greater Minnesota,Public Programs,Sketches of Minnesota
ATTACH;FMTTYPE=image/png:https://www.mnhum.org/wp-content/uploads/2024/05/event_sketches_mn_duluth.png
ORGANIZER;CN="Trygve Throntveit":MAILTO:trygve@mnhum.org
END:VEVENT
BEGIN:VEVENT
DTSTART;TZID=America/Chicago:20240716T173000
DTEND;TZID=America/Chicago:20240716T200000
DTSTAMP:20260421T061318
CREATED:20240507T180627Z
LAST-MODIFIED:20240603T183139Z
UID:10000420-1721151000-1721160000@www.mnhum.org
SUMMARY:Glencoe - Sketches of Minnesota
DESCRIPTION:Join the Minnesota Humanities Center\, Danger Boat Productions\, and local host partners for the inaugural Sketches of Minnesota civic improv comedy tour! These free events will use laughter and comedy to celebrate Minnesota communities\, promote dialogue\, bridge divides\, and help find ways to work constructively across differences in today’s political environment. \nBeginning with a catered meal\, these gatherings will invite audience members to share what makes their town great\, what they think people get wrong about it\, what local divisions concern them\, and what future they imagine. An improv comedy troupe will listen in on the conversations\, taking everything they heard from residents and bringing it to life on stage through entirely unscripted improv comedy theater. \nThis event is one of the first seven tour stops. A culminating performance will take place later in 2024\, sharing stories from around the state. Visit host partner and/or venue site for details and registration specific to this event. \nThe work of the Minnesota Humanities Center is to create a stronger Minnesota by increasing our understanding of the beauty\, wisdom and stories of its people. Through partnerships\, we facilitate the spaces\, like Sketches of Minnesota\, that seek to build connections and deepen understanding of ourselves and our communities in pursuit of a more just society. \nHost Partner: McLeod for Tomorrow \nRegistration\nThis event is free but registration is required.  \nRegistration Questions: registrations@mnhum.org \nRegister Now
URL:https://www.mnhum.org/event/glencoe-sketches-of-minnesota/
LOCATION:Glencoe City Center\, 1107 11th Street East\, Glencoe\, 55336\, United States
CATEGORIES:Civic Renewal,Free,Greater Minnesota,Public Programs,Sketches of Minnesota
ATTACH;FMTTYPE=image/png:https://www.mnhum.org/wp-content/uploads/2024/05/event_sketches_mn_glencoe.png
ORGANIZER;CN="Trygve Throntveit":MAILTO:trygve@mnhum.org
END:VEVENT
BEGIN:VEVENT
DTSTART;TZID=America/Chicago:20240723T080000
DTEND;TZID=America/Chicago:20240724T160000
DTSTAMP:20260421T061318
CREATED:20240625T180057Z
LAST-MODIFIED:20240719T171244Z
UID:10000434-1721721600-1721836800@www.mnhum.org
SUMMARY:Onamia - American Indian Education in Minnesota 101
DESCRIPTION:In April 2019 Governor Tim Walz and Lt. Governor Peggy Flanagan performed a ceremonial signing of Executive Order 19-24 (which came into law in 2023) with several Tribal leaders and officials. Photo by Melanie Franks \nThe Minnesota Department of Education (MDE) is pleased to announce a significant training opportunity designed in collaboration with Tribal Nations and the urban American Indian community in Minnesota. This training program is specifically tailored for school district administrators\, staff\, school board members\, and educators to enhance their understanding and engagement with Native learners and families. \nThe primary goal of this training is to equip K-12 educators\, staff\, and administrators with the knowledge and tools necessary to serve American Indian students and foster positive relationships effectively. Participants will gain insights that they can apply directly in their teaching practices and community interactions. \nThis training has been developed in partnership with MDE\, University of Minnesota Duluth – Tribal Sovereignty Institute\, the Minnesota Department of Transportation – Tribal State Relations Training\, and the Minnesota Humanities Center. \nWe look forward to welcoming you to this important initiative aimed at strengthening our collective commitment to Native education and community engagement. \nVisit the MDE Tribal Relations Training web page to learn more and to access the two free pre-requisite online courses. \nLodging\nLodging is recommended at Grand Casino Mille Lacs (777 Grand Avenue\, Onamia\, MN 56359 – same location of the two-day training). Rooms are $99.00 – 109.00 per night plus taxes and fees until July 8\, 2024. Call Grand Casino Mille Lacs at 800-626-5825 and mention code TDE722M for the training block (or enter the code when you register online). \nDistrict Reimbursement\nDistrict Reimbursement Application – MDE Tribal Relations Training – District Reimbursement Application (office.com) \nThis form must be completed if a district would like to receive the reimbursement of $500 per participant. The payments will be processed by MDE after the training. \nRegistration\nThis event is free but registration is required. Please complete the registration form for each individual attending. \nK-12 educators\, staff\, and administrators will receive 13.5 clock hours upon completion of the training. \nRegistration Questions: Contact Melanie Franks — MDE Tribal Liaison at melanie.franks@state.mn.us. \nREGISTRATION FOR THIS EVENT HAS CLOSED
URL:https://www.mnhum.org/event/american-indian-education-in-minnesota-101/
LOCATION:Grand Casino Mille Lacs\, 777 Grand Avenue\, Onamia\, MN\, 56359\, United States
CATEGORIES:Free,Greater Minnesota,K-12 Education,Professional Development
ATTACH;FMTTYPE=image/jpeg:https://www.mnhum.org/wp-content/uploads/2024/06/event_indian_ed_101.jpg
ORGANIZER;CN="Melanie Franks - MDE Tribal Liaison":MAILTO:melanie.franks@state.mn.us
END:VEVENT
BEGIN:VEVENT
DTSTART;TZID=America/Chicago:20240725T173000
DTEND;TZID=America/Chicago:20240725T200000
DTSTAMP:20260421T061318
CREATED:20240507T175918Z
LAST-MODIFIED:20240702T173220Z
UID:10000419-1721928600-1721937600@www.mnhum.org
SUMMARY:Waite Park - Sketches of Minnesota
DESCRIPTION:Join the Minnesota Humanities Center\, Danger Boat Productions\, and local host partners for the inaugural Sketches of Minnesota civic improv comedy tour! These free events will use laughter and comedy to celebrate Minnesota communities\, promote dialogue\, bridge divides\, and help find ways to work constructively across differences in today’s political environment. \nBeginning with a catered meal\, these gatherings will invite audience members to share what makes their town great\, what they think people get wrong about it\, what local divisions concern them\, and what future they imagine. An improv comedy troupe will listen in on the conversations\, taking everything they heard from residents and bringing it to life on stage through entirely unscripted improv comedy theater. \nThis event is one of the first seven tour stops. A culminating performance will take place later in 2024\, sharing stories from around the state. Visit host partner and/or venue site for details and registration specific to this event. \nThe work of the Minnesota Humanities Center is to create a stronger Minnesota by increasing our understanding of the beauty\, wisdom and stories of its people. Through partnerships\, we facilitate the spaces\, like Sketches of Minnesota\, that seek to build connections and deepen understanding of ourselves and our communities in pursuit of a more just society. \nHost Partner: Paramount Center for the Arts and GREAT Theatre \nRegistration\nThis event is free but registration is required.  \nRegister Now
URL:https://www.mnhum.org/event/waite-park-sketches-of-minnesota/
LOCATION:GREAT Theatre\, 710 Sundial Drive\, Waite Park\, MN\, 56387\, United States
CATEGORIES:Civic Renewal,Free,Greater Minnesota,Public Programs,Sketches of Minnesota
ATTACH;FMTTYPE=image/png:https://www.mnhum.org/wp-content/uploads/2024/05/event_sketches_minnesota_waite_park.png
ORGANIZER;CN="Trygve Throntveit":MAILTO:trygve@mnhum.org
END:VEVENT
BEGIN:VEVENT
DTSTART;TZID=America/Chicago:20240726T173000
DTEND;TZID=America/Chicago:20240726T200000
DTSTAMP:20260421T061318
CREATED:20240507T181950Z
LAST-MODIFIED:20240605T181840Z
UID:10000421-1722015000-1722024000@www.mnhum.org
SUMMARY:Emily - Sketches of Minnesota
DESCRIPTION:Join the Minnesota Humanities Center\, Danger Boat Productions\, and local host partners for the inaugural Sketches of Minnesota civic improv comedy tour! These free events will use laughter and comedy to celebrate Minnesota communities\, promote dialogue\, bridge divides\, and help find ways to work constructively across differences in today’s political environment. \nBeginning with a catered meal\, these gatherings will invite audience members to share what makes their town great\, what they think people get wrong about it\, what local divisions concern them\, and what future they imagine. An improv comedy troupe will listen in on the conversations\, taking everything they heard from residents and bringing it to life on stage through entirely unscripted improv comedy theater. \nThis event is one of the first seven tour stops. A culminating performance will take place later in 2024\, sharing stories from around the state. Visit host partner and/or venue site for details and registration specific to this event. \nThe work of the Minnesota Humanities Center is to create a stronger Minnesota by increasing our understanding of the beauty\, wisdom and stories of its people. Through partnerships\, we facilitate the spaces\, like Sketches of Minnesota\, that seek to build connections and deepen understanding of ourselves and our communities in pursuit of a more just society. \nHost Partner: GoNorth MN \nRegistration\nThis event is free but registration is required.  \nRegister Now
URL:https://www.mnhum.org/event/emily-sketches-of-minnesota/
LOCATION:Emily City Hall\, 44483 State Hwy 6\, Emily\, 56447\, United States
CATEGORIES:Civic Renewal,Free,Greater Minnesota,Public Programs,Sketches of Minnesota
ATTACH;FMTTYPE=image/png:https://www.mnhum.org/wp-content/uploads/2024/05/event_sketches_mn_emily.png
ORGANIZER;CN="Trygve Throntveit":MAILTO:trygve@mnhum.org
END:VEVENT
END:VCALENDAR