BEGIN:VCALENDAR
VERSION:2.0
PRODID:-//Minnesota Humanities Center - ECPv6.15.20//NONSGML v1.0//EN
CALSCALE:GREGORIAN
METHOD:PUBLISH
X-WR-CALNAME:Minnesota Humanities Center
X-ORIGINAL-URL:https://www.mnhum.org
X-WR-CALDESC:Events for Minnesota Humanities Center
REFRESH-INTERVAL;VALUE=DURATION:PT1H
X-Robots-Tag:noindex
X-PUBLISHED-TTL:PT1H
BEGIN:VTIMEZONE
TZID:America/Chicago
BEGIN:DAYLIGHT
TZOFFSETFROM:-0600
TZOFFSETTO:-0500
TZNAME:CDT
DTSTART:20240310T080000
END:DAYLIGHT
BEGIN:STANDARD
TZOFFSETFROM:-0500
TZOFFSETTO:-0600
TZNAME:CST
DTSTART:20241103T070000
END:STANDARD
BEGIN:DAYLIGHT
TZOFFSETFROM:-0600
TZOFFSETTO:-0500
TZNAME:CDT
DTSTART:20250309T080000
END:DAYLIGHT
BEGIN:STANDARD
TZOFFSETFROM:-0500
TZOFFSETTO:-0600
TZNAME:CST
DTSTART:20251102T070000
END:STANDARD
BEGIN:DAYLIGHT
TZOFFSETFROM:-0600
TZOFFSETTO:-0500
TZNAME:CDT
DTSTART:20260308T080000
END:DAYLIGHT
BEGIN:STANDARD
TZOFFSETFROM:-0500
TZOFFSETTO:-0600
TZNAME:CST
DTSTART:20261101T070000
END:STANDARD
END:VTIMEZONE
BEGIN:VEVENT
DTSTART;TZID=America/Chicago:20250308T110000
DTEND;TZID=America/Chicago:20250308T140000
DTSTAMP:20260420T183044
CREATED:20250211T165747Z
LAST-MODIFIED:20250418T143428Z
UID:10000483-1741431600-1741442400@www.mnhum.org
SUMMARY:Rochester - Headscarf Story Circle Gathering
DESCRIPTION:The Minnesota Humanities Center often hosts Headscarf Story Circles – a series of offerings that recognize the strength and resiliency of women. Our community of Rochester is pleased to announce that on Saturday March 8\, 2025\, we will gather through shared connections of the headscarf and its complexity. Guests are encouraged to wear a headscarf or head dress that is symbolic of anything from a fashion statement\, cultural identity\, health related\, or memories\, and beliefs. \nThe community event host is Tawonda Burks\, Founder and Executive Director of ELOCINA. \nLearn More About Headscarf Story Circles\nLearn more about Headscarf Story Circles program in this video produced by the Minnesota Humanities Center.\n  \n\n\n  \nRegistration\nRegistration for this event is closed. To be added to the waitlist\, please contact Jessica Rust at jessica@mnhum.org.
URL:https://www.mnhum.org/event/rochester-headscarf-story-circle-gathering/
LOCATION:Griot Arts\, 115 N Broadway Ave\, Rochester\, MN\, 55906\, United States
CATEGORIES:Cultural Harmony,Free,Greater Minnesota,Headscarf Story Circle,Immersive Experiences
ATTACH;FMTTYPE=image/jpeg:https://www.mnhum.org/wp-content/uploads/2023/01/event_head_scarf_story_circle.jpg
ORGANIZER;CN="Tawonda Burks":MAILTO:tburks@elocina.com
END:VEVENT
BEGIN:VEVENT
DTSTART;VALUE=DATE:20250315
DTEND;VALUE=DATE:20250422
DTSTAMP:20260420T183044
CREATED:20250304T195038Z
LAST-MODIFIED:20250814T173944Z
UID:10000486-1741996800-1745279999@www.mnhum.org
SUMMARY:Ortonville - We Are Water MN
DESCRIPTION:The We Are Water MN traveling exhibit examines water issues statewide and in local communities through personal stories\, histories\, and scientific information. It strengthens Minnesotans’ relationships with water\, exposes visitors to new perspectives\, and increases participation in water stewardship activities. \nHost Partner: Big Stone Arts Council \nWant to know more about We Are Water MN?\nLearn more about the We Are Water MN exhibit\, partnership\, and programs. \nLearn More
URL:https://www.mnhum.org/event/ortonville-we-are-water-mn/
LOCATION:Ortonville High School\, 200 Trojan Dr\, Ortonville\, MN\, 56278\, United States
CATEGORIES:Civic Renewal,Exhibit,Free,Greater Minnesota,Kid Friendly,Public Programs,We Are Water MN
ATTACH;FMTTYPE=image/jpeg:https://www.mnhum.org/wp-content/uploads/2022/04/event_we_are_water.jpg
ORGANIZER;CN="Rachel Busse-Aswar":MAILTO:rachel@mnhum.org
END:VEVENT
BEGIN:VEVENT
DTSTART;TZID=America/Chicago:20250315T100000
DTEND;TZID=America/Chicago:20250315T170000
DTSTAMP:20260420T183044
CREATED:20250304T195042Z
LAST-MODIFIED:20250814T173934Z
UID:10000487-1742032800-1742058000@www.mnhum.org
SUMMARY:Ortonville - Spring Expo and Water Bar
DESCRIPTION:Visit the nationally acclaimed We Are Water MN traveling exhibit in the Ortonville High School Commons! Then head downstairs to the Spring Expo (formerly Sports and Leisure Show)\, where you can chat with local exhibit hosts\, get your well water tested for nitrates\, and refresh yourself at the Water Bar (where “water is all we have”). \nHost Partner: Big Stone Arts Council \nWant to know more about We Are Water MN?\nLearn more about the We Are Water MN exhibit\, partnership\, and programs. \nLearn More
URL:https://www.mnhum.org/event/ortonville-spring-expo-and-water-bar/
LOCATION:Ortonville High School\, 200 Trojan Dr\, Ortonville\, MN\, 56278\, United States
CATEGORIES:Civic Renewal,Exhibit,Free,Greater Minnesota,Kid Friendly,We Are Water MN
ATTACH;FMTTYPE=image/jpeg:https://www.mnhum.org/wp-content/uploads/2025/03/event_spring_expo_water_bar.jpg
ORGANIZER;CN="Rachel Busse-Aswar":MAILTO:rachel@mnhum.org
END:VEVENT
BEGIN:VEVENT
DTSTART;TZID=America/Chicago:20250317T100000
DTEND;TZID=America/Chicago:20250317T150000
DTSTAMP:20260420T183044
CREATED:20250218T214229Z
LAST-MODIFIED:20250418T143449Z
UID:10000485-1742205600-1742223600@www.mnhum.org
SUMMARY:Erskine - National History Day Educator Workshop
DESCRIPTION:Curious about National History Day and how to present historical content in ways that honor and respect diverse communities? Join the Minnesota Humanities Center\, in partnership with the Minnesota Historical Society\, for a workshop designed for 6-12th grade educators. Hosted by the Northwest Service Cooperative\, this session will spotlight Minnesota’s Indigenous communities\, featuring an update from the Minnesota Department of Education on the recently passed Indigenous Education for All legislation\, a presentation from the National Native American Boarding School Healing Coalition on the history and legacy of residential boarding schools\, an introduction to National History Day by the Minnesota Historical Society\, and a curated overview of high-quality educator resources. Educators will gain practical strategies and resources to guide students in creating projects with honor\, respect\, and cultural sensitivity. \nEducators will receive 4.5 clock hours and a $75 stipend following their participation in the workshop. \nRegistration\nThis event is free but registration is required. \nRegistration Questions: registrations@mnhum.org \nRegister Now
URL:https://www.mnhum.org/event/erskine-national-history-day-educator-workshop/
LOCATION:Garden Valley Technologies\, 206 Vance Ave. S.\, Erskine\, 56535\, United States
CATEGORIES:Free,Greater Minnesota,K-12 Education,Professional Development
ATTACH;FMTTYPE=image/jpeg:https://www.mnhum.org/wp-content/uploads/2024/12/event_national_history_day_judges.jpg
ORGANIZER;CN="Eden Bart":MAILTO:eden@mnhum.org
END:VEVENT
END:VCALENDAR