BEGIN:VCALENDAR
VERSION:2.0
PRODID:-//Minnesota Humanities Center - ECPv6.15.20//NONSGML v1.0//EN
CALSCALE:GREGORIAN
METHOD:PUBLISH
X-ORIGINAL-URL:https://www.mnhum.org
X-WR-CALDESC:Events for Minnesota Humanities Center
REFRESH-INTERVAL;VALUE=DURATION:PT1H
X-Robots-Tag:noindex
X-PUBLISHED-TTL:PT1H
BEGIN:VTIMEZONE
TZID:America/Chicago
BEGIN:DAYLIGHT
TZOFFSETFROM:-0600
TZOFFSETTO:-0500
TZNAME:CDT
DTSTART:20250309T080000
END:DAYLIGHT
BEGIN:STANDARD
TZOFFSETFROM:-0500
TZOFFSETTO:-0600
TZNAME:CST
DTSTART:20251102T070000
END:STANDARD
BEGIN:DAYLIGHT
TZOFFSETFROM:-0600
TZOFFSETTO:-0500
TZNAME:CDT
DTSTART:20260308T080000
END:DAYLIGHT
BEGIN:STANDARD
TZOFFSETFROM:-0500
TZOFFSETTO:-0600
TZNAME:CST
DTSTART:20261101T070000
END:STANDARD
BEGIN:DAYLIGHT
TZOFFSETFROM:-0600
TZOFFSETTO:-0500
TZNAME:CDT
DTSTART:20270314T080000
END:DAYLIGHT
BEGIN:STANDARD
TZOFFSETFROM:-0500
TZOFFSETTO:-0600
TZNAME:CST
DTSTART:20271107T070000
END:STANDARD
END:VTIMEZONE
BEGIN:VEVENT
DTSTART;TZID=America/Chicago:20260417T180000
DTEND;TZID=America/Chicago:20260417T193000
DTSTAMP:20260422T130912
CREATED:20260311T170611Z
LAST-MODIFIED:20260311T170611Z
UID:10000637-1776448800-1776454200@www.mnhum.org
SUMMARY:St. Cloud - Minnesota Writers Off the Page: Joyce Sutphen
DESCRIPTION:To celebrate National Poetry Month\, MHC’s Off the Page is bringing together two of Minnesota’s Poet Laureates\, Joyce Sutphen and Gwen Nell Westerman. Sutphen will be reading from her most recent collection\, “Paper Camera: Poems\, Poets\, and Poetry\,” which examines the many facets of poetry itself; reading\, memorizing\, writing\, and what poetry can do for us. She will be joined in discussion by the current Poet Laureate\, Gwen Nell Westerman. Following the discussion\, audience members are invited to participate in a Q&A session\, and have further informal conversation with the featured speakers. Light refreshments will be provided\, copies of “Paper Camera: Poems\, Poets\, and Poetry” will be available for purchase\, and the evening will finish with a book signing. \nAbout the Speakers\nJoyce Sutphen grew up on a farm near St. Joseph\, Minnesota\, and currently lives in Chaska. She has degrees from the University of Minnesota\, including a Ph.D. in Renaissance Drama. Her first book\, “Straight Out of View\,” won the Barnard New Women’s Poets Prize (Beacon Press\, 1995\, republished by Holy Cow! Press in 2001). “Coming Back to the Body” (Holy Cow! Press\, 2000) was a finalist for a Minnesota Book Award\, and “Naming the Stars” (Holy Cow! Press\, 2004) won the Minnesota Book Award in Poetry. In 2005\, Red Dragonfly Press published “Fourteen Sonnets” in a letterpress edition\, and in 2006 Sutphen co-edited the award-winning anthology “To Sing Along the Way: Minnesota Women Poets from Pre-Territorial Days to the Present” (New Rivers Press). Her poems have appeared in “Poetry\,” “American Poetry Review\,” “Atlanta Review\,” “Minnesota Monthly\,” “Water-Stone\,” and many other journals\, and she has had work featured in Ted Kooser’s “American Life in Poetry\,” and on “The Writer’s Almanac.” She has also been a guest on A Prairie Home Companion\, hosted by Garrison Keillor. In 2011 she was named the second Minnesota Poet Laureate by Governor Mark Dayton\, following the tenure of Robert Bly. Her newest collection is “Paper Camera: Poems\, Poets\, and Poetry\,” published by Nodin Press\, 2025. \nGwen Nell Westerman is a poet\, visual artist\, and scholar. Her roots are deep in the landscape of the tallgrass prairie and reveal themselves in her art and writing. She is an enrolled citizen of the Sisseton Wahpeton Oyate\, and her father’s family is from the Heipa District. Her mother’s family is from the Flint District of the Cherokee Nation of Oklahoma. Neither of her parents spoke English when they were sent as small children to boarding schools in Oklahoma and South Dakota. Singing and writing for as long as she can remember\, Gwen understands from experience the important ways language and the land shape who we are. She was appointed as the Poet Laureate of Minnesota by Governor Tim Walz in 2021. \nThis event is presented in partnership with Paramount Center for the Arts\, a multidisciplinary community arts facility whose mission is to engage\, educate\, enrich\, and entertain through inspiring arts experiences. This event is part of the Minnesota Writers Off the Page series\, bringing the inspirational voices of Minnesota’s authors directly to readers. \nRegistration\nThis event is free\, however registration is required. \nRegistration Questions: registrations@mnhum.org  \nRegister Now
URL:https://www.mnhum.org/event/st-cloud-minnesota-writers-off-the-page-joyce-sutphen/
LOCATION:Paramount Center for the Arts\, 913 W. Saint Germain St.\, St. Cloud\, 56301\, United States
CATEGORIES:Free,Greater Minnesota,Minnesota Writers Off the Page,Public Programming
ATTACH;FMTTYPE=image/png:https://www.mnhum.org/wp-content/uploads/2026/03/event_mn_writers_joyce_sutphen_2026.png
ORGANIZER;CN="Corey China":MAILTO:corey@mnhum.org
END:VEVENT
BEGIN:VEVENT
DTSTART;TZID=America/Chicago:20260418T140000
DTEND;TZID=America/Chicago:20260418T160000
DTSTAMP:20260422T130912
CREATED:20260407T144341Z
LAST-MODIFIED:20260407T191520Z
UID:10000647-1776520800-1776528000@www.mnhum.org
SUMMARY:Byron - Feed the Otters and Photos with Ellie the Otter
DESCRIPTION:North American River Otters are a curious animal with many adaptations for hunting on land and fishing in the water. Come on out to learn about them\, watch a staff member feed out live minnows\, and take a picture with our special guest\, Ellie the Otter\, who is featured in our audio stories in the We Are Water MN exhibit. \nThis event is free to the public and for all ages. \nWe are Water MN is a project of the Minnesota Pollution Control Agency and the Minnesota Humanities Center in partnership with the Minnesota Historical Society; the Board of Water and Soil Resources; the Minnesota Departments of Agriculture\, Health\, and Natural Resources; and University of Minnesota Extension. \nWe are Water MN is funded by the Clean Water\, Land\, & Legacy Fund that was created with the vote of the people of Minnesota on November 4\, 2008.
URL:https://www.mnhum.org/event/byron-feed-the-otters-and-photos-with-ellie-the-otter/
LOCATION:Oxbow Park and Zollman Zoo\, 5731 County Rd 105 NW\, Byron\, MN\, 55920\, United States
CATEGORIES:Civic Renewal,Free,Greater Minnesota,Kid Friendly,We Are Water MN
ATTACH;FMTTYPE=image/jpeg:https://www.mnhum.org/wp-content/uploads/2026/04/event_we_are_water_mn_otter.jpg
ORGANIZER;CN="Rachel Busse-Aswar":MAILTO:rachel@mnhum.org
END:VEVENT
BEGIN:VEVENT
DTSTART;TZID=America/Chicago:20260418T170000
DTEND;TZID=America/Chicago:20260418T203000
DTSTAMP:20260422T130912
CREATED:20250715T194713Z
LAST-MODIFIED:20260408T170125Z
UID:10000532-1776531600-1776544200@www.mnhum.org
SUMMARY:Cuyuna Lakes - Sketches of Minnesota
DESCRIPTION:“Clear Lakes. Deep Woods. One Community.”\nJoin the Minnesota Humanities Center\, Danger Boat Productions\, and Clearwater Forest Camp and Retreat Center for the Sketches of Minnesota civic improv comedy tour! These free events use laughter and comedy to celebrate Minnesota communities\, promote dialogue\, bridge divides\, and help find ways to work constructively across differences in today’s political environment. \nBeginning with a catered meal\, these gatherings invite audience members to share what makes their town great\, what they think people get wrong about it\, what local divisions concern them\, and what future they imagine. An improv comedy troupe listens in on the conversations\, takes everything they heard from residents\, and brings it to life on stage through entirely unscripted improv comedy theater. \n\n5:00–6:00 PM: Doors open / Community hour\n6:00–7:15 PM: Dinner\n7:15–8:00 PM: Performances\n8:00–8:30 PM: Talkback\n\nHost Partner: Clearwater Forest Camp and Retreat Center \nCommunity Partner: \n\n \nThe work of the Minnesota Humanities Center is to create a stronger Minnesota by increasing our understanding of the beauty\, wisdom and stories of its people. Through partnerships\, we facilitate the spaces\, like Sketches of Minnesota\, that seek to build connections and deepen understanding of ourselves and our communities in pursuit of a more just society.
URL:https://www.mnhum.org/event/deerwood-sketches-of-minnesota/
LOCATION:Clearwater Forest Camp and Retreat Center\, 16595 Crooked Lake Rd\, Deerwood\, MN\, 56444\, United States
CATEGORIES:Civic Renewal,Free,Greater Minnesota,Sketches of Minnesota
ATTACH;FMTTYPE=image/png:https://www.mnhum.org/wp-content/uploads/2025/07/event_sketches_mn_cuyuna_lakes_2026.png
ORGANIZER;CN="Jessica Rust":MAILTO:jessica@mnhum.org
END:VEVENT
BEGIN:VEVENT
DTSTART;TZID=America/Chicago:20260419T100000
DTEND;TZID=America/Chicago:20260419T130000
DTSTAMP:20260422T130912
CREATED:20260407T145034Z
LAST-MODIFIED:20260407T145034Z
UID:10000648-1776592800-1776603600@www.mnhum.org
SUMMARY:Byron - Meet a Bald Eagle
DESCRIPTION:This is the final event for the We Are Water MN hosting in Byron. Please join the National Eagle Center at Oxbow Park and Zollman Zoo for three live bald eagle programs: 10:00 a.m.\, 11:00 a.m.\, and 12:00 p.m. Each program will last approximately 45 minutes and guests will learn about bald eagles\, the challenges they face\, and how we can help! \nThis event is free to the public and open to all ages. Meet in the Nature Center. \nWe are Water MN is a project of the Minnesota Pollution Control Agency and the Minnesota Humanities Center in partnership with the Minnesota Historical Society; the Board of Water and Soil Resources; the Minnesota Departments of Agriculture\, Health\, and Natural Resources; and University of Minnesota Extension. \nWe are Water MN is funded by the Clean Water\, Land\, & Legacy Fund that was created with the vote of the people of Minnesota on November 4\, 2008.
URL:https://www.mnhum.org/event/byron-meet-a-bald-eagle/
LOCATION:Oxbow Park and Zollman Zoo\, 5731 County Rd 105 NW\, Byron\, MN\, 55920\, United States
CATEGORIES:Civic Renewal,Free,Greater Minnesota,Kid Friendly,We Are Water MN
ATTACH;FMTTYPE=image/jpeg:https://www.mnhum.org/wp-content/uploads/2026/04/event_we_are_water_mn_eagle.jpg
ORGANIZER;CN="Rachel Busse-Aswar":MAILTO:rachel@mnhum.org
END:VEVENT
END:VCALENDAR