BEGIN:VCALENDAR
VERSION:2.0
PRODID:-//Minnesota Humanities Center - ECPv6.15.20//NONSGML v1.0//EN
CALSCALE:GREGORIAN
METHOD:PUBLISH
X-ORIGINAL-URL:https://www.mnhum.org
X-WR-CALDESC:Events for Minnesota Humanities Center
REFRESH-INTERVAL;VALUE=DURATION:PT1H
X-Robots-Tag:noindex
X-PUBLISHED-TTL:PT1H
BEGIN:VTIMEZONE
TZID:America/Chicago
BEGIN:DAYLIGHT
TZOFFSETFROM:-0600
TZOFFSETTO:-0500
TZNAME:CDT
DTSTART:20200308T080000
END:DAYLIGHT
BEGIN:STANDARD
TZOFFSETFROM:-0500
TZOFFSETTO:-0600
TZNAME:CST
DTSTART:20201101T070000
END:STANDARD
BEGIN:DAYLIGHT
TZOFFSETFROM:-0600
TZOFFSETTO:-0500
TZNAME:CDT
DTSTART:20210314T080000
END:DAYLIGHT
BEGIN:STANDARD
TZOFFSETFROM:-0500
TZOFFSETTO:-0600
TZNAME:CST
DTSTART:20211107T070000
END:STANDARD
BEGIN:DAYLIGHT
TZOFFSETFROM:-0600
TZOFFSETTO:-0500
TZNAME:CDT
DTSTART:20220313T080000
END:DAYLIGHT
BEGIN:STANDARD
TZOFFSETFROM:-0500
TZOFFSETTO:-0600
TZNAME:CST
DTSTART:20221106T070000
END:STANDARD
BEGIN:DAYLIGHT
TZOFFSETFROM:-0600
TZOFFSETTO:-0500
TZNAME:CDT
DTSTART:20230312T080000
END:DAYLIGHT
BEGIN:STANDARD
TZOFFSETFROM:-0500
TZOFFSETTO:-0600
TZNAME:CST
DTSTART:20231105T070000
END:STANDARD
END:VTIMEZONE
BEGIN:VEVENT
DTSTART;TZID=America/Chicago:20220804T160000
DTEND;TZID=America/Chicago:20220804T173000
DTSTAMP:20260419T121812
CREATED:20220504T043621Z
LAST-MODIFIED:20230710T205052Z
UID:10000251-1659628800-1659634200@www.mnhum.org
SUMMARY:St. Cloud and ONLINE - Ancient Wisdom for Modern Times
DESCRIPTION:Engage in lively thought-provoking conversations on what it means to live a virtuous life. There are numerous reasons the insights of ancient philosophers such as Epicurus\, Confucius\, and Aristotle have stood the test of time. \n  \n“Let no one be slow to seek wisdom when he is young nor weary in the search of it when he has grown old. For no age is too early or too late for the health of the soul.” Epicurus \n“To know what you know and what you do not know is the mark of one who knows.” Confucius \n“Happiness is an activity in accordance with virtue.” Aristotle \n  \nWhat they have to offer continues to remain instructive today. In this four-session course\, we will examine selections of text from these ancient figures\, seeking not only to evaluate their claims\, but also inquiring how we might apply their lessons to our lives today. \nThis course will be led by John Houston\, longtime philosophy professor (most recently at the College of Saint Benedict and Saint John’s University) and instructor with Wisdom’s Edge\, a nonprofit organization committed to bringing philosophy to all. \nSchedule\nJuly 21\, 2022 – 4:00-5:30 p.m. CST\nJuly 28\, 2022 – 4:00-5:30 p.m. CST\nAugust 4\, 2022 – 4:00-5:30 p.m. CST\nAugust 11\, 2022 – 4:00-5:30 p.m. CST \n*$40 is the fee for all four sessions. \n \nParticipants are expected to attend all four sessions. \nRegistration\nWhile all are welcome to participate\, we especially encourage participation from those 55+\, as we value the rich history of life experiences to relate to the material and to other individuals in the class. For those 55+\, register with promo code MHC55 for a discount of $15. \nWe are offering this course in collaboration with the Whitney Senior Center in St. Cloud. One doesn’t need to be a member of or associated with Whitney to join. Class participants have the option of joining from Zoom or in-person at the Whitney Senior Center. You will be asked your preference when registering. \nRegistration Questions: registrations@mnhum.org | MHC Cancellation Policy \n \nREGISTRATION FOR THIS EVENT HAS CLOSED
URL:https://www.mnhum.org/event/ancient-wisdom-for-modern-times/2022-08-04/
LOCATION:Whitney Senior Center\, 527 Northway Drive\, St. Cloud\, MN\, 56303\, United States
CATEGORIES:Greater Minnesota,Online,Public Programs
ATTACH;FMTTYPE=image/jpeg:https://www.mnhum.org/wp-content/uploads/2022/05/event_ancient_wisdom.jpg
ORGANIZER;CN="Eden Bart":MAILTO:eden@mnhum.org
END:VEVENT
BEGIN:VEVENT
DTSTART;TZID=America/Chicago:20220728T160000
DTEND;TZID=America/Chicago:20220728T173000
DTSTAMP:20260419T121812
CREATED:20220504T043621Z
LAST-MODIFIED:20230710T205052Z
UID:10000250-1659024000-1659029400@www.mnhum.org
SUMMARY:St. Cloud and ONLINE - Ancient Wisdom for Modern Times
DESCRIPTION:Engage in lively thought-provoking conversations on what it means to live a virtuous life. There are numerous reasons the insights of ancient philosophers such as Epicurus\, Confucius\, and Aristotle have stood the test of time. \n  \n“Let no one be slow to seek wisdom when he is young nor weary in the search of it when he has grown old. For no age is too early or too late for the health of the soul.” Epicurus \n“To know what you know and what you do not know is the mark of one who knows.” Confucius \n“Happiness is an activity in accordance with virtue.” Aristotle \n  \nWhat they have to offer continues to remain instructive today. In this four-session course\, we will examine selections of text from these ancient figures\, seeking not only to evaluate their claims\, but also inquiring how we might apply their lessons to our lives today. \nThis course will be led by John Houston\, longtime philosophy professor (most recently at the College of Saint Benedict and Saint John’s University) and instructor with Wisdom’s Edge\, a nonprofit organization committed to bringing philosophy to all. \nSchedule\nJuly 21\, 2022 – 4:00-5:30 p.m. CST\nJuly 28\, 2022 – 4:00-5:30 p.m. CST\nAugust 4\, 2022 – 4:00-5:30 p.m. CST\nAugust 11\, 2022 – 4:00-5:30 p.m. CST \n*$40 is the fee for all four sessions. \n \nParticipants are expected to attend all four sessions. \nRegistration\nWhile all are welcome to participate\, we especially encourage participation from those 55+\, as we value the rich history of life experiences to relate to the material and to other individuals in the class. For those 55+\, register with promo code MHC55 for a discount of $15. \nWe are offering this course in collaboration with the Whitney Senior Center in St. Cloud. One doesn’t need to be a member of or associated with Whitney to join. Class participants have the option of joining from Zoom or in-person at the Whitney Senior Center. You will be asked your preference when registering. \nRegistration Questions: registrations@mnhum.org | MHC Cancellation Policy \n \nREGISTRATION FOR THIS EVENT HAS CLOSED
URL:https://www.mnhum.org/event/ancient-wisdom-for-modern-times/2022-07-28/
LOCATION:Whitney Senior Center\, 527 Northway Drive\, St. Cloud\, MN\, 56303\, United States
CATEGORIES:Greater Minnesota,Online,Public Programs
ATTACH;FMTTYPE=image/jpeg:https://www.mnhum.org/wp-content/uploads/2022/05/event_ancient_wisdom.jpg
ORGANIZER;CN="Eden Bart":MAILTO:eden@mnhum.org
END:VEVENT
BEGIN:VEVENT
DTSTART;TZID=America/Chicago:20220721T160000
DTEND;TZID=America/Chicago:20220721T173000
DTSTAMP:20260419T121812
CREATED:20220504T043621Z
LAST-MODIFIED:20230710T205052Z
UID:10000249-1658419200-1658424600@www.mnhum.org
SUMMARY:St. Cloud and ONLINE - Ancient Wisdom for Modern Times
DESCRIPTION:Engage in lively thought-provoking conversations on what it means to live a virtuous life. There are numerous reasons the insights of ancient philosophers such as Epicurus\, Confucius\, and Aristotle have stood the test of time. \n  \n“Let no one be slow to seek wisdom when he is young nor weary in the search of it when he has grown old. For no age is too early or too late for the health of the soul.” Epicurus \n“To know what you know and what you do not know is the mark of one who knows.” Confucius \n“Happiness is an activity in accordance with virtue.” Aristotle \n  \nWhat they have to offer continues to remain instructive today. In this four-session course\, we will examine selections of text from these ancient figures\, seeking not only to evaluate their claims\, but also inquiring how we might apply their lessons to our lives today. \nThis course will be led by John Houston\, longtime philosophy professor (most recently at the College of Saint Benedict and Saint John’s University) and instructor with Wisdom’s Edge\, a nonprofit organization committed to bringing philosophy to all. \nSchedule\nJuly 21\, 2022 – 4:00-5:30 p.m. CST\nJuly 28\, 2022 – 4:00-5:30 p.m. CST\nAugust 4\, 2022 – 4:00-5:30 p.m. CST\nAugust 11\, 2022 – 4:00-5:30 p.m. CST \n*$40 is the fee for all four sessions. \n \nParticipants are expected to attend all four sessions. \nRegistration\nWhile all are welcome to participate\, we especially encourage participation from those 55+\, as we value the rich history of life experiences to relate to the material and to other individuals in the class. For those 55+\, register with promo code MHC55 for a discount of $15. \nWe are offering this course in collaboration with the Whitney Senior Center in St. Cloud. One doesn’t need to be a member of or associated with Whitney to join. Class participants have the option of joining from Zoom or in-person at the Whitney Senior Center. You will be asked your preference when registering. \nRegistration Questions: registrations@mnhum.org | MHC Cancellation Policy \n \nREGISTRATION FOR THIS EVENT HAS CLOSED
URL:https://www.mnhum.org/event/ancient-wisdom-for-modern-times/2022-07-21/
LOCATION:Whitney Senior Center\, 527 Northway Drive\, St. Cloud\, MN\, 56303\, United States
CATEGORIES:Greater Minnesota,Online,Public Programs
ATTACH;FMTTYPE=image/jpeg:https://www.mnhum.org/wp-content/uploads/2022/05/event_ancient_wisdom.jpg
ORGANIZER;CN="Eden Bart":MAILTO:eden@mnhum.org
END:VEVENT
BEGIN:VEVENT
DTSTART;VALUE=DATE:20220623
DTEND;VALUE=DATE:20220816
DTSTAMP:20260419T121812
CREATED:20220420T181132Z
LAST-MODIFIED:20250814T174417Z
UID:10000239-1655942400-1660607999@www.mnhum.org
SUMMARY:Alexandria – We Are Water MN
DESCRIPTION:The We Are Water MN traveling exhibit examines water issues statewide and in local communities through personal stories\, histories\, and scientific information. It strengthens Minnesotans’ relationships with water\, exposes visitors to new perspectives\, and increases participation in water stewardship activities. \nHost Partner: Legacy of the Lakes Museum \nWant to know more about We Are Water MN?\nLearn more about the We Are Water MN exhibit\, partnership\, and programs. \nLEARN MORE
URL:https://www.mnhum.org/event/alexandria-we-are-water-mn/
LOCATION:Legacy of the Lakes Museum\, 205 3rd Avenue West\, Alexandria\, MN\, 56308\, United States
CATEGORIES:Exhibit,Free,Greater Minnesota,Kid Friendly,We Are Water MN
ATTACH;FMTTYPE=image/jpeg:https://www.mnhum.org/wp-content/uploads/2022/04/event_we_are_water.jpg
ORGANIZER;CN="Rachel Busse-Aswar":MAILTO:rachel@mnhum.org
END:VEVENT
BEGIN:VEVENT
DTSTART;VALUE=DATE:20220428
DTEND;VALUE=DATE:20220621
DTSTAMP:20260419T121812
CREATED:20220517T171309Z
LAST-MODIFIED:20250814T174428Z
UID:10000262-1651104000-1655769599@www.mnhum.org
SUMMARY:Lake City - We Are Water MN
DESCRIPTION:The We Are Water MN traveling exhibit examines water issues statewide and in local communities through personal stories\, histories\, and scientific information. It strengthens Minnesotans’ relationships with water\, exposes visitors to new perspectives\, and increases participation in water stewardship activities. \nHost Partner: Lake Pepin Legacy Alliance
URL:https://www.mnhum.org/event/lake-city-we-are-water-mn/
LOCATION:Lake City Public Library\, 201 South High Street\, Lake City\, MN\, 55041\, United States
CATEGORIES:Exhibit,Free,Greater Minnesota,Kid Friendly,We Are Water MN
ATTACH;FMTTYPE=image/jpeg:https://www.mnhum.org/wp-content/uploads/2022/04/event_we_are_water.jpg
ORGANIZER;CN="Rachel Busse-Aswar":MAILTO:rachel@mnhum.org
END:VEVENT
BEGIN:VEVENT
DTSTART;TZID=America/Chicago:20220421T173000
DTEND;TZID=America/Chicago:20220421T203000
DTSTAMP:20260419T121812
CREATED:20220608T170235Z
LAST-MODIFIED:20250620T135020Z
UID:10000304-1650562200-1650573000@www.mnhum.org
SUMMARY:St. Cloud – Write on Race
DESCRIPTION:*$57 is the fee for all six sessions. Teams of four or more people: $45 each\, please contact Jennifer Tonko at jennifer@mnhum.org. \nMHC\, Love & Struggle\, and St. Cloud organizations are partnering to help communities develop action plans to combat racism. Participants will learn about impacts of race in our communities\, reflect through journal writing\, and share their learning with others. They’ll then develop action plans to move from passive non-racism to active anti-racism.  \nSchedule\nNovember 4\, 2021 – 5:30-7:30 p.m. –  Session One: WRITE on RACE\nDecember 2\, 2021 – 6:00-7:30 p.m. –  Session Two: Past\, present\, future of race and social impacts of race\nJanuary 6\, 2022 – 6:00-7:30 p.m. –  Session Three: Race and criminal justice\nFebruary 3\, 2022 – 6:00-7:30 p.m. – Session Four: Race and education\nMarch 17\, 2022 – 5:30-8:30 p.m. –  Session Five: Race and income\nApril 21\, 2022 – 5:30-8:30 p.m. – Session Six: Closing session RIGHT on RACE (In-person in St. Cloud) \nRegistration\nRegistration Questions: registrations@mnhum.org | MHC Cancellation Policy \n \nREGISTRATION FOR THIS EVENT HAS CLOSED\n 
URL:https://www.mnhum.org/event/st-cloud-write-on-race/2022-04-21/
LOCATION:Stearns History Museum\, 235 South 33rd Avenue South\, St. Cloud\, MN\, 56301\, United States
CATEGORIES:Greater Minnesota,Public Programs
ATTACH;FMTTYPE=image/jpeg:https://www.mnhum.org/wp-content/uploads/2022/06/event_stcloud_write_race.jpg
ORGANIZER;CN="Casey DeMarais":MAILTO:casey@mnhum.org
END:VEVENT
BEGIN:VEVENT
DTSTART;VALUE=DATE:20220404
DTEND;VALUE=DATE:20220409
DTSTAMP:20260419T121812
CREATED:20220608T153714Z
LAST-MODIFIED:20250620T133612Z
UID:10000284-1649030400-1649462399@www.mnhum.org
SUMMARY:Nevis – Why Treaties Matter
DESCRIPTION:“Why Treaties Matter: Self-Government in the Dakota and Ojibwe Nations”—a traveling exhibit made in partnership with the Minnesota Indian Affairs Council and the Smithsonian’s National Museum of the American Indian—explores relationships between Dakota and Ojibwe Indian Nations and the U.S. government in this place we now call Minnesota.  \nWant to know more about Why Treaties Matter?\nLearn more about the Why Treaties Matter exhibit and partnership. \nLearn More
URL:https://www.mnhum.org/event/nevis-why-treaties-matter/
LOCATION:Nevis Public Schools\, 210 Pleasant Street\, Nevis\, MN\, 56467\, United States
CATEGORIES:Civic Renewal,Exhibit,Free,Greater Minnesota,Why Treaties Matter
ATTACH;FMTTYPE=image/jpeg:https://www.mnhum.org/wp-content/uploads/2022/06/event_why_treaties_matter.jpg
ORGANIZER;CN="Trygve Throntveit":MAILTO:trygve@mnhum.org
END:VEVENT
BEGIN:VEVENT
DTSTART;TZID=America/Chicago:20220317T173000
DTEND;TZID=America/Chicago:20220317T203000
DTSTAMP:20260419T121812
CREATED:20220608T170235Z
LAST-MODIFIED:20250620T135020Z
UID:10000303-1647538200-1647549000@www.mnhum.org
SUMMARY:St. Cloud – Write on Race
DESCRIPTION:*$57 is the fee for all six sessions. Teams of four or more people: $45 each\, please contact Jennifer Tonko at jennifer@mnhum.org. \nMHC\, Love & Struggle\, and St. Cloud organizations are partnering to help communities develop action plans to combat racism. Participants will learn about impacts of race in our communities\, reflect through journal writing\, and share their learning with others. They’ll then develop action plans to move from passive non-racism to active anti-racism.  \nSchedule\nNovember 4\, 2021 – 5:30-7:30 p.m. –  Session One: WRITE on RACE\nDecember 2\, 2021 – 6:00-7:30 p.m. –  Session Two: Past\, present\, future of race and social impacts of race\nJanuary 6\, 2022 – 6:00-7:30 p.m. –  Session Three: Race and criminal justice\nFebruary 3\, 2022 – 6:00-7:30 p.m. – Session Four: Race and education\nMarch 17\, 2022 – 5:30-8:30 p.m. –  Session Five: Race and income\nApril 21\, 2022 – 5:30-8:30 p.m. – Session Six: Closing session RIGHT on RACE (In-person in St. Cloud) \nRegistration\nRegistration Questions: registrations@mnhum.org | MHC Cancellation Policy \n \nREGISTRATION FOR THIS EVENT HAS CLOSED\n 
URL:https://www.mnhum.org/event/st-cloud-write-on-race/2022-03-17/
LOCATION:Stearns History Museum\, 235 South 33rd Avenue South\, St. Cloud\, MN\, 56301\, United States
CATEGORIES:Greater Minnesota,Public Programs
ATTACH;FMTTYPE=image/jpeg:https://www.mnhum.org/wp-content/uploads/2022/06/event_stcloud_write_race.jpg
ORGANIZER;CN="Casey DeMarais":MAILTO:casey@mnhum.org
END:VEVENT
BEGIN:VEVENT
DTSTART;VALUE=DATE:20220303
DTEND;VALUE=DATE:20220426
DTSTAMP:20260419T121812
CREATED:20220608T160717Z
LAST-MODIFIED:20250814T174441Z
UID:10000290-1646265600-1650931199@www.mnhum.org
SUMMARY:Winona – We Are Water MN
DESCRIPTION:Free with Admission\nThe We Are Water MN traveling exhibit examines water issues statewide and in local communities through personal stories\, histories\, and scientific information. It strengthens Minnesotans’ relationships with water\, exposes visitors to new perspectives\, and increases participation in water stewardship activities. \nHost Partner: City of Winona \nWant to know more about We Are Water MN?\nLearn more about the We Are Water MN exhibit\, partnership\, and programs. \nLearn More
URL:https://www.mnhum.org/event/winona-we-are-water-mn/
LOCATION:Winona County Historical Society\, 160 Johnson Street\, Winona\, MN\, 55987\, United States
CATEGORIES:Exhibit,Free,Greater Minnesota,Kid Friendly,We Are Water MN
ATTACH;FMTTYPE=image/jpeg:https://www.mnhum.org/wp-content/uploads/2022/04/event_we_are_water.jpg
ORGANIZER;CN="Rachel Busse-Aswar":MAILTO:rachel@mnhum.org
END:VEVENT
BEGIN:VEVENT
DTSTART;TZID=America/Chicago:20220203T173000
DTEND;TZID=America/Chicago:20220203T193000
DTSTAMP:20260419T121812
CREATED:20220608T170235Z
LAST-MODIFIED:20250620T135020Z
UID:10000523-1643909400-1643916600@www.mnhum.org
SUMMARY:St. Cloud – Write on Race
DESCRIPTION:*$57 is the fee for all six sessions. Teams of four or more people: $45 each\, please contact Jennifer Tonko at jennifer@mnhum.org. \nMHC\, Love & Struggle\, and St. Cloud organizations are partnering to help communities develop action plans to combat racism. Participants will learn about impacts of race in our communities\, reflect through journal writing\, and share their learning with others. They’ll then develop action plans to move from passive non-racism to active anti-racism.  \nSchedule\nNovember 4\, 2021 – 5:30-7:30 p.m. –  Session One: WRITE on RACE\nDecember 2\, 2021 – 6:00-7:30 p.m. –  Session Two: Past\, present\, future of race and social impacts of race\nJanuary 6\, 2022 – 6:00-7:30 p.m. –  Session Three: Race and criminal justice\nFebruary 3\, 2022 – 6:00-7:30 p.m. – Session Four: Race and education\nMarch 17\, 2022 – 5:30-8:30 p.m. –  Session Five: Race and income\nApril 21\, 2022 – 5:30-8:30 p.m. – Session Six: Closing session RIGHT on RACE (In-person in St. Cloud) \nRegistration\nRegistration Questions: registrations@mnhum.org | MHC Cancellation Policy \n \nREGISTRATION FOR THIS EVENT HAS CLOSED\n 
URL:https://www.mnhum.org/event/st-cloud-write-on-race/2022-02-03/
LOCATION:Stearns History Museum\, 235 South 33rd Avenue South\, St. Cloud\, MN\, 56301\, United States
CATEGORIES:Greater Minnesota,Public Programs
ATTACH;FMTTYPE=image/jpeg:https://www.mnhum.org/wp-content/uploads/2022/06/event_stcloud_write_race.jpg
ORGANIZER;CN="Casey DeMarais":MAILTO:casey@mnhum.org
END:VEVENT
BEGIN:VEVENT
DTSTART;TZID=America/Chicago:20220106T173000
DTEND;TZID=America/Chicago:20220106T193000
DTSTAMP:20260419T121812
CREATED:20220608T170235Z
LAST-MODIFIED:20250620T135020Z
UID:10000522-1641490200-1641497400@www.mnhum.org
SUMMARY:St. Cloud – Write on Race
DESCRIPTION:*$57 is the fee for all six sessions. Teams of four or more people: $45 each\, please contact Jennifer Tonko at jennifer@mnhum.org. \nMHC\, Love & Struggle\, and St. Cloud organizations are partnering to help communities develop action plans to combat racism. Participants will learn about impacts of race in our communities\, reflect through journal writing\, and share their learning with others. They’ll then develop action plans to move from passive non-racism to active anti-racism.  \nSchedule\nNovember 4\, 2021 – 5:30-7:30 p.m. –  Session One: WRITE on RACE\nDecember 2\, 2021 – 6:00-7:30 p.m. –  Session Two: Past\, present\, future of race and social impacts of race\nJanuary 6\, 2022 – 6:00-7:30 p.m. –  Session Three: Race and criminal justice\nFebruary 3\, 2022 – 6:00-7:30 p.m. – Session Four: Race and education\nMarch 17\, 2022 – 5:30-8:30 p.m. –  Session Five: Race and income\nApril 21\, 2022 – 5:30-8:30 p.m. – Session Six: Closing session RIGHT on RACE (In-person in St. Cloud) \nRegistration\nRegistration Questions: registrations@mnhum.org | MHC Cancellation Policy \n \nREGISTRATION FOR THIS EVENT HAS CLOSED\n 
URL:https://www.mnhum.org/event/st-cloud-write-on-race/2022-01-06/
LOCATION:Stearns History Museum\, 235 South 33rd Avenue South\, St. Cloud\, MN\, 56301\, United States
CATEGORIES:Greater Minnesota,Public Programs
ATTACH;FMTTYPE=image/jpeg:https://www.mnhum.org/wp-content/uploads/2022/06/event_stcloud_write_race.jpg
ORGANIZER;CN="Casey DeMarais":MAILTO:casey@mnhum.org
END:VEVENT
BEGIN:VEVENT
DTSTART;VALUE=DATE:20220103
DTEND;VALUE=DATE:20220304
DTSTAMP:20260419T121812
CREATED:20220608T165025Z
LAST-MODIFIED:20250620T133604Z
UID:10000298-1641168000-1646351999@www.mnhum.org
SUMMARY:St. Cloud – Why Treaties Matter
DESCRIPTION:“Why Treaties Matter: Self-Government in the Dakota and Ojibwe Nations”—a traveling exhibit made in partnership with the Minnesota Indian Affairs Council and the Smithsonian’s National Museum of the American Indian—explores relationships between Dakota and Ojibwe Indian Nations and the U.S. government in this place we now call Minnesota.  \nWant to know more about Why Treaties Matter?\nLearn more about the Why Treaties Matter exhibit and partnership. \nLearn More
URL:https://www.mnhum.org/event/st-cloud-why-treaties-matter/
LOCATION:Stearns History Museum\, 235 South 33rd Avenue South\, St. Cloud\, MN\, 56301\, United States
CATEGORIES:Civic Renewal,Exhibit,Free,Greater Minnesota,Why Treaties Matter
ATTACH;FMTTYPE=image/jpeg:https://www.mnhum.org/wp-content/uploads/2022/06/event_why_treaties_matter.jpg
ORGANIZER;CN="Trygve Throntveit":MAILTO:trygve@mnhum.org
END:VEVENT
BEGIN:VEVENT
DTSTART;TZID=America/Chicago:20211202T173000
DTEND;TZID=America/Chicago:20211202T193000
DTSTAMP:20260419T121812
CREATED:20220608T170235Z
LAST-MODIFIED:20250620T135020Z
UID:10000521-1638466200-1638473400@www.mnhum.org
SUMMARY:St. Cloud – Write on Race
DESCRIPTION:*$57 is the fee for all six sessions. Teams of four or more people: $45 each\, please contact Jennifer Tonko at jennifer@mnhum.org. \nMHC\, Love & Struggle\, and St. Cloud organizations are partnering to help communities develop action plans to combat racism. Participants will learn about impacts of race in our communities\, reflect through journal writing\, and share their learning with others. They’ll then develop action plans to move from passive non-racism to active anti-racism.  \nSchedule\nNovember 4\, 2021 – 5:30-7:30 p.m. –  Session One: WRITE on RACE\nDecember 2\, 2021 – 6:00-7:30 p.m. –  Session Two: Past\, present\, future of race and social impacts of race\nJanuary 6\, 2022 – 6:00-7:30 p.m. –  Session Three: Race and criminal justice\nFebruary 3\, 2022 – 6:00-7:30 p.m. – Session Four: Race and education\nMarch 17\, 2022 – 5:30-8:30 p.m. –  Session Five: Race and income\nApril 21\, 2022 – 5:30-8:30 p.m. – Session Six: Closing session RIGHT on RACE (In-person in St. Cloud) \nRegistration\nRegistration Questions: registrations@mnhum.org | MHC Cancellation Policy \n \nREGISTRATION FOR THIS EVENT HAS CLOSED\n 
URL:https://www.mnhum.org/event/st-cloud-write-on-race/2021-12-02/
LOCATION:Stearns History Museum\, 235 South 33rd Avenue South\, St. Cloud\, MN\, 56301\, United States
CATEGORIES:Greater Minnesota,Public Programs
ATTACH;FMTTYPE=image/jpeg:https://www.mnhum.org/wp-content/uploads/2022/06/event_stcloud_write_race.jpg
ORGANIZER;CN="Casey DeMarais":MAILTO:casey@mnhum.org
END:VEVENT
BEGIN:VEVENT
DTSTART;TZID=America/Chicago:20211104T173000
DTEND;TZID=America/Chicago:20211104T193000
DTSTAMP:20260419T121812
CREATED:20220608T170235Z
LAST-MODIFIED:20250620T135020Z
UID:10000520-1636047000-1636054200@www.mnhum.org
SUMMARY:St. Cloud – Write on Race
DESCRIPTION:*$57 is the fee for all six sessions. Teams of four or more people: $45 each\, please contact Jennifer Tonko at jennifer@mnhum.org. \nMHC\, Love & Struggle\, and St. Cloud organizations are partnering to help communities develop action plans to combat racism. Participants will learn about impacts of race in our communities\, reflect through journal writing\, and share their learning with others. They’ll then develop action plans to move from passive non-racism to active anti-racism.  \nSchedule\nNovember 4\, 2021 – 5:30-7:30 p.m. –  Session One: WRITE on RACE\nDecember 2\, 2021 – 6:00-7:30 p.m. –  Session Two: Past\, present\, future of race and social impacts of race\nJanuary 6\, 2022 – 6:00-7:30 p.m. –  Session Three: Race and criminal justice\nFebruary 3\, 2022 – 6:00-7:30 p.m. – Session Four: Race and education\nMarch 17\, 2022 – 5:30-8:30 p.m. –  Session Five: Race and income\nApril 21\, 2022 – 5:30-8:30 p.m. – Session Six: Closing session RIGHT on RACE (In-person in St. Cloud) \nRegistration\nRegistration Questions: registrations@mnhum.org | MHC Cancellation Policy \n \nREGISTRATION FOR THIS EVENT HAS CLOSED\n 
URL:https://www.mnhum.org/event/st-cloud-write-on-race/2021-11-04/
LOCATION:Stearns History Museum\, 235 South 33rd Avenue South\, St. Cloud\, MN\, 56301\, United States
CATEGORIES:Greater Minnesota,Public Programs
ATTACH;FMTTYPE=image/jpeg:https://www.mnhum.org/wp-content/uploads/2022/06/event_stcloud_write_race.jpg
ORGANIZER;CN="Casey DeMarais":MAILTO:casey@mnhum.org
END:VEVENT
END:VCALENDAR