BEGIN:VCALENDAR
VERSION:2.0
PRODID:-//Minnesota Humanities Center - ECPv6.15.20//NONSGML v1.0//EN
CALSCALE:GREGORIAN
METHOD:PUBLISH
X-ORIGINAL-URL:https://www.mnhum.org
X-WR-CALDESC:Events for Minnesota Humanities Center
REFRESH-INTERVAL;VALUE=DURATION:PT1H
X-Robots-Tag:noindex
X-PUBLISHED-TTL:PT1H
BEGIN:VTIMEZONE
TZID:America/Chicago
BEGIN:DAYLIGHT
TZOFFSETFROM:-0600
TZOFFSETTO:-0500
TZNAME:CDT
DTSTART:20210314T080000
END:DAYLIGHT
BEGIN:STANDARD
TZOFFSETFROM:-0500
TZOFFSETTO:-0600
TZNAME:CST
DTSTART:20211107T070000
END:STANDARD
BEGIN:DAYLIGHT
TZOFFSETFROM:-0600
TZOFFSETTO:-0500
TZNAME:CDT
DTSTART:20220313T080000
END:DAYLIGHT
BEGIN:STANDARD
TZOFFSETFROM:-0500
TZOFFSETTO:-0600
TZNAME:CST
DTSTART:20221106T070000
END:STANDARD
BEGIN:DAYLIGHT
TZOFFSETFROM:-0600
TZOFFSETTO:-0500
TZNAME:CDT
DTSTART:20230312T080000
END:DAYLIGHT
BEGIN:STANDARD
TZOFFSETFROM:-0500
TZOFFSETTO:-0600
TZNAME:CST
DTSTART:20231105T070000
END:STANDARD
END:VTIMEZONE
BEGIN:VEVENT
DTSTART;TZID=America/Chicago:20220714T110000
DTEND;TZID=America/Chicago:20220714T140000
DTSTAMP:20260421T122453
CREATED:20220504T053622Z
LAST-MODIFIED:20230209T151626Z
UID:10000256-1657796400-1657807200@www.mnhum.org
SUMMARY:Learning in Community: St. Paul's Little Africa
DESCRIPTION:Minnesota is home to over 150\,000 Africans\, including the largest Somali population outside of Africa. Yet\, many people are not aware of the rich cultural traditions and assets African immigrants and refugees bring to the vibrancy of our state. Build your cultural understanding and awareness of Minnesota’s African cultures as you immerse yourself within St. Paul’s Little Africa cultural corridor. This interactive\, in-person experience will include an Ethiopian coffee ceremony at Sabrina’s Cafe & Deli\, a tour of several African-owned businesses\, lunch at the Eritrean-owned Snelling Cafe\, and a special presentation of speakers and artists.   \nThis event is a collaboration with African Economic Development Solutions. \nSpace is limited to 40 participants.  \nK-12 educators will receive 3 clock hours. \nRegistration\nMembers of Minnesota’s African communities are welcome to register using promo code LITTLEAFRICA to waive the fee if they wish. \nIf cost is a barrier\, please contact Jessica Rust at jessica@mnhum.org before registering. \nRegistration Questions: registrations@mnhum.org | MHC Cancellation Policy \n  \nREGISTRATION FOR THIS EVENT HAS CLOSED
URL:https://www.mnhum.org/event/learning-in-community-little-africa/
LOCATION:Sabrina’s Café & Deli\, 518 Snelling Avenue\, St. Paul\, MN\, 55104\, United States
CATEGORIES:CEUs/Clock Hours,Immersive Experiences,Learning from Place,Professional Development,Public Programs
ATTACH;FMTTYPE=image/jpeg:https://www.mnhum.org/wp-content/uploads/2022/05/event_lic_little_africa.jpg
ORGANIZER;CN="Eden Bart":MAILTO:eden@mnhum.org
END:VEVENT
BEGIN:VEVENT
DTSTART;TZID=America/Chicago:20220716T090000
DTEND;TZID=America/Chicago:20220716T130000
DTSTAMP:20260421T122453
CREATED:20220504T054103Z
LAST-MODIFIED:20230209T151935Z
UID:10000257-1657962000-1657976400@www.mnhum.org
SUMMARY:Learning in Community: Hmong St. Paul
DESCRIPTION:There are nearly 300\,000 Asian Minnesotans\, more than 5% of our state’s population. Hmong\, Lao\, Cambodian\, and Vietnamese make up about 60% of the Asian population in Minnesota. Build your cultural understanding and awareness as you immerse yourself within St. Paul’s vibrant Hmong community through an interactive\, in-person experience. The day will begin and end at the Minnesota Humanities Center. We will travel by bus to Hmong Cultural Center’s new storefront museum for a tour and special presentation. We will then visit the iconic HmongTown Marketplace (a market of 125 small businesses and food vendors) where we will be greeted by the owner to learn about his story and have a guided tour of the market. There will be time for independent shopping and lunch. \nThis is a collaboration with Hmong Cultural Center and HmongTown Marketplace. \nSpace is limited to 40 participants. This experience is also being offered on June 25. \nK-12 educators will receive 4 clock hours. \nPlease note: Registration cost does not include food. Participants are encouraged to support the financial recovery of small businesses by making purchases from the businesses they learn about on the tour. We recommend bringing cash\, as not all vendors accept credit cards. \nRegistration\nREGISTRATION FOR THIS EVENT HAS CLOSED
URL:https://www.mnhum.org/event/learning-in-community-hmong-july/
LOCATION:Minnesota Humanities Event Center\, 987 Ivy Avenue East\, Saint Paul\, MN\, 55106\, United States
CATEGORIES:CEUs/Clock Hours,Immersive Experiences,Learning from Place,Professional Development,Public Programs
ATTACH;FMTTYPE=image/jpeg:https://www.mnhum.org/wp-content/uploads/2023/01/event_lfp_hmong_stpaul.jpg
ORGANIZER;CN="Eden Bart":MAILTO:eden@mnhum.org
END:VEVENT
END:VCALENDAR