BEGIN:VCALENDAR
VERSION:2.0
PRODID:-//Minnesota Humanities Center - ECPv6.15.20//NONSGML v1.0//EN
CALSCALE:GREGORIAN
METHOD:PUBLISH
X-ORIGINAL-URL:https://www.mnhum.org
X-WR-CALDESC:Events for Minnesota Humanities Center
REFRESH-INTERVAL;VALUE=DURATION:PT1H
X-Robots-Tag:noindex
X-PUBLISHED-TTL:PT1H
BEGIN:VTIMEZONE
TZID:America/Chicago
BEGIN:DAYLIGHT
TZOFFSETFROM:-0600
TZOFFSETTO:-0500
TZNAME:CDT
DTSTART:20230312T080000
END:DAYLIGHT
BEGIN:STANDARD
TZOFFSETFROM:-0500
TZOFFSETTO:-0600
TZNAME:CST
DTSTART:20231105T070000
END:STANDARD
BEGIN:DAYLIGHT
TZOFFSETFROM:-0600
TZOFFSETTO:-0500
TZNAME:CDT
DTSTART:20240310T080000
END:DAYLIGHT
BEGIN:STANDARD
TZOFFSETFROM:-0500
TZOFFSETTO:-0600
TZNAME:CST
DTSTART:20241103T070000
END:STANDARD
BEGIN:DAYLIGHT
TZOFFSETFROM:-0600
TZOFFSETTO:-0500
TZNAME:CDT
DTSTART:20250309T080000
END:DAYLIGHT
BEGIN:STANDARD
TZOFFSETFROM:-0500
TZOFFSETTO:-0600
TZNAME:CST
DTSTART:20251102T070000
END:STANDARD
BEGIN:DAYLIGHT
TZOFFSETFROM:-0600
TZOFFSETTO:-0500
TZNAME:CDT
DTSTART:20260308T080000
END:DAYLIGHT
BEGIN:STANDARD
TZOFFSETFROM:-0500
TZOFFSETTO:-0600
TZNAME:CST
DTSTART:20261101T070000
END:STANDARD
END:VTIMEZONE
BEGIN:VEVENT
DTSTART;TZID=America/Chicago:20241022T180000
DTEND;TZID=America/Chicago:20241022T200000
DTSTAMP:20260420T171328
CREATED:20240906T152657Z
LAST-MODIFIED:20250418T153224Z
UID:10000441-1729620000-1729627200@www.mnhum.org
SUMMARY:St. Paul - Feeding Our Souls: The Essence of Latine Joy
DESCRIPTION:Savory entrees and delectable desserts will again fill the tables at the Minnesota Humanities Center (MHC) as we commemorate Latine Cultural Heritage Month through food and the beloved stories behind them that bring community joy. Cuisine and entertainment will be showcased by some of the Twin Cities’ finest chefs and musicians.  \nFeatured Chef: Manuel Gonzalez\nManuel Gonzalez is from Mexico City.  He moved to the United States In 1982\, after finishing culinary school in Mexico.  Having always dreamed of opening his own business\, he applied and was chosen as one of the first restaurants to be part of the Latine Business Development Project\, opening in their first restaurant in 1999. He invited his sister Victoria\, to participate in this adventure\, because she has a background in hospitality management and business consulting experience. Together they run Manny’s Tortas inside the Midtown Global Market and a booth in the food building at the Minnesota State Fair. Manny is frequently a guest speaker for economic development programs\, and a guest chef at locations such as Macy’s Department Store and Midtown Global Market. He also teaches cooking classes for different events.  \nFeatured Musician: Jesus Guzman\nBorn in Vargas\, Venezuela\, Jesus began to study violin at the age of 7 in the National Network of Youth and Children Orchestras of Venezuela\, also known as El Sistema. He has studied in the Latin American Violin Academy in Caracas with the violin master\, Francisco Del Castillo. In addition\, Jesus has participated in masterclasses with violin virtuosos\, Guy Braunstein\, Thibault Vieux\, and Alexis Cardenas. Jesus has an extensive performing career\, notably the five years he spent as member of 1st Violin of the Simón Bolívar Symphony Orchestra of Venezuela under conductors Gustavo Dudamel and Diego Matheuz. In 2022 He won an award in the Z-film Festival in Minneapolis\, MN\, for his composition and video edition as a best original song of “Añoranza” Lastly\, He is part of the staff of teachers for GTCYS (Greater Twin Cities Youth Symphonies) working as a violin teacher in the Harmony program in Riverview West School of Excellence – St. Paul (MN)\, and teaching around the Twin cities.  \nProgram Emcee: Melissa Gonzalez Vazquez\nMelissa Gonzalez Vazquez is Communications and Community Engagement Manager at LatinoLEAD. Drawing from her firsthand encounters with the transformative impact of Latine-focused nonprofits\, Melissa is dedicated to enhancing our community’s access\, visibility\, and success through purposeful programming\, cross-sector partnerships\, impactful narratives\, and cross-cultural coalition building efforts. She believes that Minnesota is an excellent hub to foster Latine leadership infrastructure and strategies. She is dedicated to connecting emerging vanguards across industries and highlighting our Latine community’s assets. Her background in congressional campaign communications and designing nationwide Latine leadership programming reinforced her passion for aligning Latine efforts and amplifying its collective influence through narrative writing\, digital marketing and graphic design. \nRegistration\nRegistration is required for this free event. \nRegistration Questions: registrations@mnhum.org  \nRegister Now
URL:https://www.mnhum.org/event/feeding-our-souls-the-essence-of-latine-joy/
LOCATION:Minnesota Humanities Event Center\, 987 Ivy Avenue East\, Saint Paul\, MN\, 55106\, United States
CATEGORIES:Cultural Harmony,Feeding Our Souls,Free,Immersive Experiences
ATTACH;FMTTYPE=image/png:https://www.mnhum.org/wp-content/uploads/2024/09/event_feeding_our_souls_latino_joy_2024.png
ORGANIZER;CN="Rose McGee":MAILTO:rose@mnhum.org
END:VEVENT
BEGIN:VEVENT
DTSTART;TZID=America/Chicago:20241110T140000
DTEND;TZID=America/Chicago:20241110T160000
DTSTAMP:20260420T171328
CREATED:20241022T175951Z
LAST-MODIFIED:20250418T142702Z
UID:10000460-1731247200-1731254400@www.mnhum.org
SUMMARY:Online - Headscarf Story Circle Gathering: Health and Humanities - Reaching Women Across Minnesota
DESCRIPTION:The Headscarf Story Circles have created a welcoming space where women of all ethnicities\, religions\, and ages come together in unity\, connected by the shared significance of the headscarf. This video captures the essence and purpose. Metaphorically\, each thread of the headscarf is intricately woven to form a profound tapestry\, symbolizing the complexity and beauty of our shared commonality. \nThis virtual experience will be a health and humanities focus – “Headscarf Story Circle Gathering: The Silent Subject of Menopause.” Women of all ages agree that menopause has not been an open or common discussion\, yet it comes with many questions\, concerns\, and myths. Participants will hear from experts in women’s health and have a chance to share their own stories of experiences\, fears\, and remedies. \nWe are excited to also have the following Greater Minnesota community ambassadors join us as they prepare to bring Headscarf Story Circle into their communities. \nAmbassador Bios\nTawonda Burks of Rochester\, Minnesota is the current Director of Operations at RAEDI (Rochester Area Economic Development Inc.). She is the founder and owner of ELOCINA\, LLC\, President-Elect of Southeast Minnesota BDPA\, Board of Trustee member of the Jeremiah Program\, Board Member of the Boys and Girls Club of Rochester\, Leadership Table at Cradle 2 Career\, and committee member with Center for Chronic Disease Reduction & Equity Promotion Across America. \nJulia Freeman of St. Paul is Director of Community Engagement for Voices for Racial Justice where she has (since 2007) led the Education Equity work using a healing and racial justice lens. She has helped districts and schools use co-created tools that put students and parents in the center of equity solutions. She is a racial justice trainer\, coach\, and the grandmother of ten. \nHodan Omar is the founder and Executive Director of Hooyo Hour Organization. Recognizing the growing need to support mothers\, she established Hooyo Hour as a nonprofit to provide community resources\, educational support\, and programs that empower women to become self-sufficient. A dedicated community connector\, Hodan was honored with the Social Trust Award from the Central Minnesota Community Foundation\, recognizing her efforts in building social trust across the greater St. Cloud community. \nEmily Fuerste Swanson is co-owner/proprietor of Oldenburg House\, a B&B next to the St. Louis River and Jay Cooke State Park in the little town of Carlton (near Duluth). Oldenburg House is named for Margaret Oldenburg\, a citizen scientist and explorer who grew up in this historic house\, and her story shaped Oldenburg Arts and Cultural Community (OACC). OACC works with local creatives to nurture connections to each other and the abundant and irreplaceable cultural and natural resources in this beautiful place we call home. \nRegistration\nRegistration Questions: registrations@mnhum.org \nRegister Now
URL:https://www.mnhum.org/event/online-headscarf-story-circle-gathering/
LOCATION:Online
CATEGORIES:Cultural Harmony,Free,Headscarf Story Circle,Immersive Experiences
ATTACH;FMTTYPE=image/jpeg:https://www.mnhum.org/wp-content/uploads/2023/01/event_head_scarf_story_circle.jpg
ORGANIZER;CN="Rose McGee":MAILTO:rose@mnhum.org
END:VEVENT
BEGIN:VEVENT
DTSTART;TZID=America/Chicago:20241216T180000
DTEND;TZID=America/Chicago:20241216T200000
DTSTAMP:20260420T171328
CREATED:20241010T184744Z
LAST-MODIFIED:20250418T142813Z
UID:10000455-1734372000-1734379200@www.mnhum.org
SUMMARY:St. Paul - Feeding Our Souls: Essence of Indigenous Joy
DESCRIPTION:Splendid traditional entrees and desserts evolve at the Minnesota Humanities Center as we commemorate Indigenous Cultural Heritage Month through food and the beloved stories behind them that bring community joy. Cuisine and authentic presentations are showcased by one of the Twin Cities’ finest chefs\, food historian\, and musicians. \nFeatured Chef\nBrian Yazzie aka Yazzie the Chef (Diné/Navajo) is from Dennehotso\, Arizona and based out of Saint Paul\, MN. Chef Yazzie has an Associate in Applied Science (AAS) in Culinary Arts from Saint Paul College 2016. He is a delegate of Slow Food Turtle Island Association\, and a team member at I-Collective: a collective of cooks\, chefs\, seed keepers\, farmers\, foragers\, and scholars\, focused on bringing awareness to the cultural appropriations of indigenous foods of the Americas. Chef Yazzie and his Fiancée\, Danielle Polk (Hoonmana Polk) are the Founders/Owners of Intertribal Foodways\, a culinary mission specifically working with and for the betterment of tribal communities\, wellness and health through Indigenous foods. They travel internationally and are available for catering\, private dinners\, pop up dinners\, chef demos & cooking classes\, collaborations\, and presentations on indigenous food sovereignty. \nFeatured Emcee\nDeanna StandingCloud\, a citizen of the Red Lake Nation of Anishinaabe\, Deanna collaborates with fellow Native comedians\, including Trish Cook’s all-female group\, ACE BAE Comedy. She’s performed comedy since 2022. She is also learning about traditional healing modalities for her new business\, Ziigwan Indigenous Wellness. Deanna is a playwright\, artist\, and powwow emcee who enjoys spending time with her children\, her dog Benny\, cooking\, taking nature walks\, and creative activities. \nRegistration\nRegistration Questions: registrations@mnhum.org \nRegister Now
URL:https://www.mnhum.org/event/feeding-our-souls-essence-of-indigenous-joy/
LOCATION:Minnesota Humanities Event Center\, 987 Ivy Avenue East\, Saint Paul\, MN\, 55106\, United States
CATEGORIES:Cultural Harmony,Feeding Our Souls,Free,Immersive Experiences
ATTACH;FMTTYPE=image/png:https://www.mnhum.org/wp-content/uploads/2024/12/event_feeding_souls_indigenous_joy.png
ORGANIZER;CN="Rose McGee":MAILTO:rose@mnhum.org
END:VEVENT
BEGIN:VEVENT
DTSTART;TZID=America/Chicago:20250308T110000
DTEND;TZID=America/Chicago:20250308T140000
DTSTAMP:20260420T171328
CREATED:20250211T165747Z
LAST-MODIFIED:20250418T143428Z
UID:10000483-1741431600-1741442400@www.mnhum.org
SUMMARY:Rochester - Headscarf Story Circle Gathering
DESCRIPTION:The Minnesota Humanities Center often hosts Headscarf Story Circles – a series of offerings that recognize the strength and resiliency of women. Our community of Rochester is pleased to announce that on Saturday March 8\, 2025\, we will gather through shared connections of the headscarf and its complexity. Guests are encouraged to wear a headscarf or head dress that is symbolic of anything from a fashion statement\, cultural identity\, health related\, or memories\, and beliefs. \nThe community event host is Tawonda Burks\, Founder and Executive Director of ELOCINA. \nLearn More About Headscarf Story Circles\nLearn more about Headscarf Story Circles program in this video produced by the Minnesota Humanities Center.\n  \n\n\n  \nRegistration\nRegistration for this event is closed. To be added to the waitlist\, please contact Jessica Rust at jessica@mnhum.org.
URL:https://www.mnhum.org/event/rochester-headscarf-story-circle-gathering/
LOCATION:Griot Arts\, 115 N Broadway Ave\, Rochester\, MN\, 55906\, United States
CATEGORIES:Cultural Harmony,Free,Greater Minnesota,Headscarf Story Circle,Immersive Experiences
ATTACH;FMTTYPE=image/jpeg:https://www.mnhum.org/wp-content/uploads/2023/01/event_head_scarf_story_circle.jpg
ORGANIZER;CN="Tawonda Burks":MAILTO:tburks@elocina.com
END:VEVENT
BEGIN:VEVENT
DTSTART;TZID=America/Chicago:20250330T140000
DTEND;TZID=America/Chicago:20250330T160000
DTSTAMP:20260420T171328
CREATED:20250210T192850Z
LAST-MODIFIED:20250418T143507Z
UID:10000482-1743343200-1743350400@www.mnhum.org
SUMMARY:Minneapolis - Headscarf Story Circle Gathering
DESCRIPTION:The Minnesota Humanities Center often hosts Headscarf Story Circles – a series of offerings that recognize the strength and resiliency of women. Our Twin Cities community is pleased to announce that we will gather through shared connections of the headscarf and its complexity. Guests are encouraged to wear a headscarf or head dress that is symbolic of anything from a fashion statement\, cultural identity\, health related\, or memories\, and beliefs. \nThe community event host is Julia Freeman\, Director of Community Engagement\, Voices for Racial Justice. \nLearn More About Headscarf Story Circles\nLearn more about Headscarf Story Circles program in this video produced by the Minnesota Humanities Center.\n  \n\n\n  \nRegistration\nThis event is free but registration is required. For registration questions\, please contact Julia Freeman at freeman@voicesforracialjustice.org. \nRegister Now
URL:https://www.mnhum.org/event/minneapolis-headscarf-story-circle-gathering/
LOCATION:The Legends Apartments Great Room\, 3700 Huset Pkwy\, Minneapolis\, MN\, 55421\, United States
CATEGORIES:Cultural Harmony,Free,Headscarf Story Circle,Immersive Experiences
ATTACH;FMTTYPE=image/jpeg:https://www.mnhum.org/wp-content/uploads/2023/01/event_head_scarf_story_circle.jpg
ORGANIZER;CN="Julia Freeman":MAILTO:freeman@voicesforracialjustice.org
END:VEVENT
END:VCALENDAR