BEGIN:VCALENDAR
VERSION:2.0
PRODID:-//Minnesota Humanities Center - ECPv6.15.20//NONSGML v1.0//EN
CALSCALE:GREGORIAN
METHOD:PUBLISH
X-ORIGINAL-URL:https://www.mnhum.org
X-WR-CALDESC:Events for Minnesota Humanities Center
REFRESH-INTERVAL;VALUE=DURATION:PT1H
X-Robots-Tag:noindex
X-PUBLISHED-TTL:PT1H
BEGIN:VTIMEZONE
TZID:America/Chicago
BEGIN:DAYLIGHT
TZOFFSETFROM:-0600
TZOFFSETTO:-0500
TZNAME:CDT
DTSTART:20230312T080000
END:DAYLIGHT
BEGIN:STANDARD
TZOFFSETFROM:-0500
TZOFFSETTO:-0600
TZNAME:CST
DTSTART:20231105T070000
END:STANDARD
BEGIN:DAYLIGHT
TZOFFSETFROM:-0600
TZOFFSETTO:-0500
TZNAME:CDT
DTSTART:20240310T080000
END:DAYLIGHT
BEGIN:STANDARD
TZOFFSETFROM:-0500
TZOFFSETTO:-0600
TZNAME:CST
DTSTART:20241103T070000
END:STANDARD
BEGIN:DAYLIGHT
TZOFFSETFROM:-0600
TZOFFSETTO:-0500
TZNAME:CDT
DTSTART:20250309T080000
END:DAYLIGHT
BEGIN:STANDARD
TZOFFSETFROM:-0500
TZOFFSETTO:-0600
TZNAME:CST
DTSTART:20251102T070000
END:STANDARD
END:VTIMEZONE
BEGIN:VEVENT
DTSTART;TZID=America/Chicago:20240504T083000
DTEND;TZID=America/Chicago:20240504T130000
DTSTAMP:20260420T125501
CREATED:20230126T154951Z
LAST-MODIFIED:20240312T162500Z
UID:10000274-1714811400-1714827600@www.mnhum.org
SUMMARY:Learning from Place: Hmong St. Paul
DESCRIPTION:Join us for an immersive journey into the heart of St. Paul’s vibrant Hmong community! St. Paul is home to the largest Hmong population in the United States\, with deep roots on the East Side. Our guide for the day is Chong Yang\, a high school educator who grew up in the neighborhood after coming to Minnesota at the age of six from a refugee camp in Thailand. Our day begins and ends at the Minnesota Humanities Center.  During a short bus tour\, Chong will share insights and stories while pointing out Hmong businesses and landmarks\, such as the Minnesota Memorial to The Special Forces in Laos\, commemorating the Hmong involvement in the Southeast Asia War. Our first destination is the Hmong Cultural Center Museum where we will hear a special presentation and have time to explore the exhibits showcasing the rich heritage\, traditions\, and contributions of the Hmong people in Minnesota. Next\, we will visit the iconic HmongTown Marketplace\, home to 125 small businesses and food vendors. We will meet the owner and learn about his incredible story\, followed by a guided tour of the bustling market. There will be time for independent shopping and lunch. \nThis is a collaboration with Hmong Cultural Center and HmongTown Marketplace. \nK-12 educators will receive 4 clock hours. \nRegistration\nSpace is limited to 45 participants.  \nPlease note: Registration cost does not include food. Participants are encouraged to support the financial recovery of small businesses by making purchases from the businesses they learn about on the tour. We recommend bringing cash\, as not all vendors accept credit cards. \nIf cost is a barrier\, please contact Jessica Rust at jessica@mnhum.org before registering. \nRegistration Questions: registrations@mnhum.org | MHC Cancellation Policy \nRegister Now
URL:https://www.mnhum.org/event/lfp-hmong-st-paul-may/
LOCATION:Minnesota Humanities Event Center\, 987 Ivy Avenue East\, Saint Paul\, MN\, 55106\, United States
CATEGORIES:CEUs/Clock Hours,Immersive Experiences,Learning from Place,Professional Development,Public Programs
ATTACH;FMTTYPE=image/jpeg:https://www.mnhum.org/wp-content/uploads/2023/01/event_lfp_hmong_stpaul.jpg
ORGANIZER;CN="Eden Bart":MAILTO:eden@mnhum.org
END:VEVENT
END:VCALENDAR