BEGIN:VCALENDAR
VERSION:2.0
PRODID:-//Minnesota Humanities Center - ECPv6.15.20//NONSGML v1.0//EN
CALSCALE:GREGORIAN
METHOD:PUBLISH
X-ORIGINAL-URL:https://www.mnhum.org
X-WR-CALDESC:Events for Minnesota Humanities Center
REFRESH-INTERVAL;VALUE=DURATION:PT1H
X-Robots-Tag:noindex
X-PUBLISHED-TTL:PT1H
BEGIN:VTIMEZONE
TZID:America/Chicago
BEGIN:DAYLIGHT
TZOFFSETFROM:-0600
TZOFFSETTO:-0500
TZNAME:CDT
DTSTART:20250309T080000
END:DAYLIGHT
BEGIN:STANDARD
TZOFFSETFROM:-0500
TZOFFSETTO:-0600
TZNAME:CST
DTSTART:20251102T070000
END:STANDARD
BEGIN:DAYLIGHT
TZOFFSETFROM:-0600
TZOFFSETTO:-0500
TZNAME:CDT
DTSTART:20260308T080000
END:DAYLIGHT
BEGIN:STANDARD
TZOFFSETFROM:-0500
TZOFFSETTO:-0600
TZNAME:CST
DTSTART:20261101T070000
END:STANDARD
BEGIN:DAYLIGHT
TZOFFSETFROM:-0600
TZOFFSETTO:-0500
TZNAME:CDT
DTSTART:20270314T080000
END:DAYLIGHT
BEGIN:STANDARD
TZOFFSETFROM:-0500
TZOFFSETTO:-0600
TZNAME:CST
DTSTART:20271107T070000
END:STANDARD
END:VTIMEZONE
BEGIN:VEVENT
DTSTART;TZID=America/Chicago:20260806T090000
DTEND;TZID=America/Chicago:20260806T140000
DTSTAMP:20260420T061227
CREATED:20260409T000104Z
LAST-MODIFIED:20260409T143342Z
UID:10000651-1786006800-1786024800@www.mnhum.org
SUMMARY:Minneapolis - Learning from Place: Exploring Minnesota’s Religious Landscapes
DESCRIPTION:This Learning from Place experience invites participants to explore Minnesota’s rich religious landscape through visits to three faith communities in the Twin Cities: Temple Israel\, Masjid An-Nur (mosque)\, and The Basilica of St. Mary. Traveling together by bus\, participants will engage in guided visits\, storytelling\, and facilitated dialogue that deepen understanding of how religious traditions shape the cultural\, historical\, and civic life of our state. \nAs participants move through each space\, they will learn the significance these places hold and consider how identity\, migration\, and community life intersect in Minnesota. \nThroughout the experience\, facilitators will provide context and guide reflection\, supporting participants in making connections across sites and considering the implications for their own roles in a pluralistic democracy. Time will also be set aside for a shared lunch and informal reflection. \nCome ready to listen\, reflect\, and engage with curiosity and questions. \nK-12 Educators will receive 5 clock hours upon completion of the event. \nThis experience is presented in collaboration with Minnesota Multifaith Network (MnMN)\, a non-profit organization committed to convening and connecting leaders\, organizations\, and individuals across religious\, spiritual\, and philosophical differences in Minnesota to cultivate understanding\, advance justice\, overcome fear\, and build a more inclusive and compassionate community. \nRegistration\nTo ensure that cost is not a barrier\, we have a limited number of complimentary spaces available for Minnesota residents. If you would like to receive a complimentary spot\, please register with the discount code FEEWAIVER. \nRegistration Questions: registrations@mnhum.org | MHC Cancellation Policy \nRegister Now
URL:https://www.mnhum.org/event/minneapolis-learning-from-place-exploring-minnesotas-religious-landscapes/
LOCATION:Temple Israel\, 2323 Fremont Ave S\, Minneapolis\, MN\, 55405\, United States
CATEGORIES:CEUs/Clock Hours,Immersive Experiences,Learning from Place,Professional Development
ATTACH;FMTTYPE=image/jpeg:https://www.mnhum.org/wp-content/uploads/2026/04/event_lfp_religious_landscapes.jpg
ORGANIZER;CN="Eden Bart":MAILTO:eden@mnhum.org
END:VEVENT
BEGIN:VEVENT
DTSTART;TZID=America/Chicago:20260813T130000
DTEND;TZID=America/Chicago:20260813T160000
DTSTAMP:20260420T061227
CREATED:20260409T000235Z
LAST-MODIFIED:20260414T144900Z
UID:10000650-1786626000-1786636800@www.mnhum.org
SUMMARY:Empire - Learning from Place: Watt Munisotaram (Cambodian Temple)
DESCRIPTION:What does it mean to learn from a place shaped by history\, migration\, and spiritual practice? \nThis Learning from Place experience invites participants to explore Watt Munisotaram\, the largest Cambodian Buddhist temple in the United States\, located in the countryside of Empire\, Minnesota. Participants will engage with the temple as a living cultural and spiritual site\, learning directly from community members\, monks\, and the landscape itself. \nAs we move through the temple grounds\, we will explore Cambodia’s history and the experiences that brought Cambodian families to Minnesota – home to the fifth-largest Cambodian population in the United States. Through stories and guided exploration\, participants will learn how Watt Munisotaram serves as a place of cultural continuity\, community connection\, and spiritual life. \nParticipants will hear from community members and Buddhist monks\, explore the temple’s architecture and symbolism\, enjoy traditional Cambodian foods\, and participate in a brief guided meditation as a way to learn about a practice central to Cambodian Buddhist traditions. \nK-12 Educators will receive 3 clock hours upon completion of the event. \nThis experience is presented in collaboration with Cambodian American Partnership (CAPMN)\, a non-profit organization committed to building a resilient community that honors Cambodian history by cultivating a sense of belonging. \nRegistration\nTo ensure that cost is not a barrier\, we have a limited number of complimentary spaces available for Minnesota residents. If you would like to receive a complimentary spot\, please register with the discount code FEEWAIVER. \nRegistration Questions: registrations@mnhum.org | MHC Cancellation Policy \nRegister Now
URL:https://www.mnhum.org/event/empire-learning-from-place-watt-munisotaram-cambodian-temple/
LOCATION:Watt Munisotaram\, 2925 220th St E\, Empire\, 55031\, United States
CATEGORIES:CEUs/Clock Hours,Immersive Experiences,Learning from Place,Professional Development
ATTACH;FMTTYPE=image/jpeg:https://www.mnhum.org/wp-content/uploads/2025/05/event_lfp_watt_munisotaram_2025.jpg
ORGANIZER;CN="Eden Bart":MAILTO:eden@mnhum.org
END:VEVENT
END:VCALENDAR