BEGIN:VCALENDAR
VERSION:2.0
PRODID:-//Minnesota Humanities Center - ECPv6.15.20//NONSGML v1.0//EN
CALSCALE:GREGORIAN
METHOD:PUBLISH
X-ORIGINAL-URL:https://www.mnhum.org
X-WR-CALDESC:Events for Minnesota Humanities Center
REFRESH-INTERVAL;VALUE=DURATION:PT1H
X-Robots-Tag:noindex
X-PUBLISHED-TTL:PT1H
BEGIN:VTIMEZONE
TZID:America/Chicago
BEGIN:DAYLIGHT
TZOFFSETFROM:-0600
TZOFFSETTO:-0500
TZNAME:CDT
DTSTART:20220313T080000
END:DAYLIGHT
BEGIN:STANDARD
TZOFFSETFROM:-0500
TZOFFSETTO:-0600
TZNAME:CST
DTSTART:20221106T070000
END:STANDARD
BEGIN:DAYLIGHT
TZOFFSETFROM:-0600
TZOFFSETTO:-0500
TZNAME:CDT
DTSTART:20230312T080000
END:DAYLIGHT
BEGIN:STANDARD
TZOFFSETFROM:-0500
TZOFFSETTO:-0600
TZNAME:CST
DTSTART:20231105T070000
END:STANDARD
BEGIN:DAYLIGHT
TZOFFSETFROM:-0600
TZOFFSETTO:-0500
TZNAME:CDT
DTSTART:20240310T080000
END:DAYLIGHT
BEGIN:STANDARD
TZOFFSETFROM:-0500
TZOFFSETTO:-0600
TZNAME:CST
DTSTART:20241103T070000
END:STANDARD
END:VTIMEZONE
BEGIN:VEVENT
DTSTART;TZID=America/Chicago:20230209T080000
DTEND;TZID=America/Chicago:20230210T170000
DTSTAMP:20260421T093640
CREATED:20230111T171925Z
LAST-MODIFIED:20230606T172617Z
UID:10000341-1675929600-1676048400@www.mnhum.org
SUMMARY:Onamia and Online – Dakota and Ojibwe Languages Symposium
DESCRIPTION:The Minnesota Indian Affairs Council’s Language Revitalization Working Group\, partnering with the Minnesota Humanities Center\, is hosting a two-day Dakota & Ojibwe Languages Symposium! The goal of the symposium is to bring people working in Dakota & Ojibwe language revitalization together. We want to use this time to celebrate successes of what some groups have done in the past\, highlight what is currently going on in the field\, and help shape future language revitalization efforts. We also want to elevate the visibility of Indigenous languages throughout the state of Minnesota. By bringing people together\, we hope this symposium serves as an opportunity for individuals to network with other Dakota & Ojibwe language professionals. The event will be in-person and broadcasted virtually! \nBreakfast and lunch are included for those attending in person. Participants are responsible for booking overnight accommodations if needed (rooms are available at Grand Casino Mille Lacs). CEU’s are available for educators attending the symposium.  \nTo submit your proposal to lead a presentation or activity\, complete the online form. Proposals are being reviewed on an ongoing basis. \nRegistration\nRegistration Questions: registrations@mnhum.org | MHC Cancellation Policy \nREGISTRATION FOR THIS EVENT HAS CLOSED
URL:https://www.mnhum.org/event/dakota-ojibwe-languages-symposium/
LOCATION:Grand Casino Mille Lacs\, 777 Grand Avenue\, Onamia\, MN\, 56359\, United States
CATEGORIES:Civic Renewal,Greater Minnesota,Online,Professional Development
ATTACH;FMTTYPE=image/jpeg:https://www.mnhum.org/wp-content/uploads/2023/01/event_dakota_ojibwe_language_symposium.jpg
ORGANIZER;CN="Skyler Kuczaboski":MAILTO:skyler.kuczaboski@state.mn.us
END:VEVENT
END:VCALENDAR