BEGIN:VCALENDAR
VERSION:2.0
PRODID:-//Minnesota Humanities Center - ECPv6.15.20//NONSGML v1.0//EN
CALSCALE:GREGORIAN
METHOD:PUBLISH
X-ORIGINAL-URL:https://www.mnhum.org
X-WR-CALDESC:Events for Minnesota Humanities Center
REFRESH-INTERVAL;VALUE=DURATION:PT1H
X-Robots-Tag:noindex
X-PUBLISHED-TTL:PT1H
BEGIN:VTIMEZONE
TZID:America/Chicago
BEGIN:DAYLIGHT
TZOFFSETFROM:-0600
TZOFFSETTO:-0500
TZNAME:CDT
DTSTART:20210314T080000
END:DAYLIGHT
BEGIN:STANDARD
TZOFFSETFROM:-0500
TZOFFSETTO:-0600
TZNAME:CST
DTSTART:20211107T070000
END:STANDARD
BEGIN:DAYLIGHT
TZOFFSETFROM:-0600
TZOFFSETTO:-0500
TZNAME:CDT
DTSTART:20220313T080000
END:DAYLIGHT
BEGIN:STANDARD
TZOFFSETFROM:-0500
TZOFFSETTO:-0600
TZNAME:CST
DTSTART:20221106T070000
END:STANDARD
BEGIN:DAYLIGHT
TZOFFSETFROM:-0600
TZOFFSETTO:-0500
TZNAME:CDT
DTSTART:20230312T080000
END:DAYLIGHT
BEGIN:STANDARD
TZOFFSETFROM:-0500
TZOFFSETTO:-0600
TZNAME:CST
DTSTART:20231105T070000
END:STANDARD
END:VTIMEZONE
BEGIN:VEVENT
DTSTART;TZID=America/Chicago:20221006T090000
DTEND;TZID=America/Chicago:20221006T160000
DTSTAMP:20260421T164247
CREATED:20220928T152255Z
LAST-MODIFIED:20230710T204839Z
UID:10000322-1665046800-1665072000@www.mnhum.org
SUMMARY:Online - Truth\, Equity\, & Justice:  How We Make Our Way Forward (Again) Together Conference
DESCRIPTION:Due to unforeseen circumstances the Truth\, Justice\, and Equity conference will be held virtually. We apologize for the inconvenience\, but we hope that you will be able to join us virtually for these important conversations. \nGenerations of scholars have argued that America will never be whole until reparations are provided for the moral debt created by slavery\, Jim Crow laws\, and the vestiges of the caste system it created. The international cry for justice after the murder of Mr. George Floyd and the stark racial disparities lead bare by the pandemic have renewed the sense of urgency around reparations and truth and reconciliation commissions.  \nThe Center for the Study of Black Life and Law at Mitchell Hamline School of Law\, the Minnesota Humanities Center and the Minnesota Justice and Equity Partnership invite you to join us for a day filled with song\, poetry\, and conversation about how we move toward justice with: \n\nInternational renowned scholars and lawyers involved in securing reparations and creating Truth and Reconciliation commissions outside of the United States\,\nCommunity advocates pursuing reparations and the creation of Truth and Reconciliation commissions in Minnesota\, and\n\nScholars and lawyers sharing insights concerning federal legislation involving reparations and the formation of truth and reconciliation commissions.\n\nInvited guests include Virginie Ladisch\, Senior Expert\, Programs\, at the International Center for Transitional Justice\, Marcella Naidoo\, former Regional Director of the Truth and Reconciliation Commission of South Africa and Executive Director of the Black Sash\, and Minnesota’s Attorney General Keith Ellison. This is a beginning\, not an end. The event partners are planning a series of events in 2023 to continue this focus and work to transform our collective future.  \nRegistration\nThis event is free but registration is required. This event will be available to rewatch until October 30\, 2022. Continuing Legal Education credits will be applied for post-conference for lawyers seeking such credits.  \nREGISTRATION FOR THIS EVENT HAS CLOSED
URL:https://www.mnhum.org/event/truth-equity-justice/
LOCATION:MN\, United States
CATEGORIES:Civic Renewal,Free,Online,Online,Professional Development,Public Programs
ATTACH;FMTTYPE=image/jpeg:https://www.mnhum.org/wp-content/uploads/2022/09/event_truth_equity_justice.jpg
ORGANIZER;CN="Casey DeMarais":MAILTO:casey@mnhum.org
END:VEVENT
END:VCALENDAR