BEGIN:VCALENDAR
VERSION:2.0
PRODID:-//Minnesota Humanities Center - ECPv6.15.20//NONSGML v1.0//EN
CALSCALE:GREGORIAN
METHOD:PUBLISH
X-WR-CALNAME:Minnesota Humanities Center
X-ORIGINAL-URL:https://www.mnhum.org
X-WR-CALDESC:Events for Minnesota Humanities Center
REFRESH-INTERVAL;VALUE=DURATION:PT1H
X-Robots-Tag:noindex
X-PUBLISHED-TTL:PT1H
BEGIN:VTIMEZONE
TZID:America/Chicago
BEGIN:DAYLIGHT
TZOFFSETFROM:-0600
TZOFFSETTO:-0500
TZNAME:CDT
DTSTART:20220313T080000
END:DAYLIGHT
BEGIN:STANDARD
TZOFFSETFROM:-0500
TZOFFSETTO:-0600
TZNAME:CST
DTSTART:20221106T070000
END:STANDARD
BEGIN:DAYLIGHT
TZOFFSETFROM:-0600
TZOFFSETTO:-0500
TZNAME:CDT
DTSTART:20230312T080000
END:DAYLIGHT
BEGIN:STANDARD
TZOFFSETFROM:-0500
TZOFFSETTO:-0600
TZNAME:CST
DTSTART:20231105T070000
END:STANDARD
BEGIN:DAYLIGHT
TZOFFSETFROM:-0600
TZOFFSETTO:-0500
TZNAME:CDT
DTSTART:20240310T080000
END:DAYLIGHT
BEGIN:STANDARD
TZOFFSETFROM:-0500
TZOFFSETTO:-0600
TZNAME:CST
DTSTART:20241103T070000
END:STANDARD
END:VTIMEZONE
BEGIN:VEVENT
DTSTART;TZID=America/Chicago:20230906T150000
DTEND;TZID=America/Chicago:20230906T180000
DTSTAMP:20260420T215916
CREATED:20230707T141008Z
LAST-MODIFIED:20250620T132719Z
UID:10000375-1694012400-1694023200@www.mnhum.org
SUMMARY:St. Paul - National Read a Book Day
DESCRIPTION:September 6 is National Read a Book Day. In celebration\, we invite book lovers of all ages to the lawn of the Minnesota Humanities Center for a read-in gathering. Bring the book of your choice\, a blanket or chair\, and join in celebration by reading in community. Extra blankets and books will be available for those without. Story Walks will also be located around the grounds for wandering young readers. Can’t make it? Celebrate wherever you happen to be by taking time out of your day to read. The event is free and open to all to join at their leisure as time allows.  \nRegistration\nRegistration Questions: registrations@mnhum.org  \nRegister Now
URL:https://www.mnhum.org/event/national-read-a-book-day/
LOCATION:Minnesota Humanities Event Center\, 987 Ivy Avenue East\, Saint Paul\, MN\, 55106\, United States
CATEGORIES:Books, Poetry, and Literature,Free,Kid Friendly,Public Programming,Public Programs
ATTACH;FMTTYPE=image/png:https://www.mnhum.org/wp-content/uploads/2023/07/event_national_read_book_day.png
ORGANIZER;CN="Colin Nelson-Dusek":MAILTO:colin@mnhum.org
END:VEVENT
BEGIN:VEVENT
DTSTART;TZID=America/Chicago:20230909T093000
DTEND;TZID=America/Chicago:20230909T160000
DTSTAMP:20260420T215916
CREATED:20230612T195205Z
LAST-MODIFIED:20230612T195205Z
UID:10000364-1694251800-1694275200@www.mnhum.org
SUMMARY:St. Paul - Poetry Encuentro: A Latine Poetry Gathering
DESCRIPTION:This poetry encuentro will bring together Latine community members to engage in storytelling based on Latine literary traditions. We want to recognize the complex and inspiring stories of Minnesota’s Latine community and their contribution to Minnesota’s diverse and vibrant cultural heritage. Focusing on poetry as creative expression\, writers of all levels will produce\, break bread\, and perform together in a shared space. Join us for what will be a historic and memorable encuentro celebrating the written and spoken word!  \nThis full-day gathering is being offered by Palabristas in collaboration with the Minnesota Humanities Center. Poetry Encuentro hosts/facilitators: Marion Gomez\, Larry Lucio Jr.\, David Mendez\, Teresa Ortiz\, and Gabriela Spears-Rico.  \nRegistration\nThis event is open to all Latine community members who want to write or who identify as writers. Registration is limited to 40 participants. \nContinental breakfast and lunch are included. \nYou are welcome to register using promo code COMMUNITY to waive the fee if you wish.  \nRegistration Questions: registrations@mnhum.org | MHC Cancellation Policy \nRegister Now
URL:https://www.mnhum.org/event/poetry-encuentro-latine-poetry-gathering/
LOCATION:Minnesota Humanities Event Center\, 987 Ivy Avenue East\, Saint Paul\, MN\, 55106\, United States
CATEGORIES:Books, Poetry, and Literature,Immersive Experiences,Public Programs
ATTACH;FMTTYPE=image/jpeg:https://www.mnhum.org/wp-content/uploads/2023/06/event_latine_poetry_gathering.jpg
ORGANIZER;CN="Eden Bart":MAILTO:eden@mnhum.org
END:VEVENT
BEGIN:VEVENT
DTSTART;TZID=America/Chicago:20230928T170000
DTEND;TZID=America/Chicago:20230928T190000
DTSTAMP:20260420T215916
CREATED:20230724T165828Z
LAST-MODIFIED:20250620T131543Z
UID:10000376-1695920400-1695927600@www.mnhum.org
SUMMARY:St. Cloud - Minnesota Writers Series: Break Point: Two Minnesota Athletes and the Road to Title IX
DESCRIPTION:The Minnesota Writers Series welcomes Sheri Brenden\, author of “Break Point: Two Minnesota Athletes and the Road to Title IX” in a conversation with her sister\, Peg Brenden\, one of the St. Cloud student athletes behind the groundbreaking 1972 federal court case that took on the unequal system of school athletics nationwide. The event will take place in the former high school gym\, now converted into St. Cloud city council chambers. Mayor Dave Kleis will provide a welcome. Co-sponsored by the Minnesota Coalition of Women in Athletic Leadership and the Stearns County Museum. Registration is required for this in-person event.  \nCan’t make it to the St. Cloud event for Break Point? Join the Brenden sisters in Red Wing in November in conjunction with the Anderson Center at Tower View’s Books in the Barn series. \nRegistration\nRegistration Questions: registrations@mnhum.org \nRegister Now
URL:https://www.mnhum.org/event/mn-writers-series-break-point/
LOCATION:St. Cloud City Hall\, 1201 7th Street South\, St. Cloud\, MN\, 56301\, United States
CATEGORIES:Books, Poetry, and Literature,Greater Minnesota,Minnesota Writers Series,Public Programming,Public Programs
ATTACH;FMTTYPE=image/png:https://www.mnhum.org/wp-content/uploads/2023/06/event_mn_writers_series_break_point.png
ORGANIZER;CN="Corey China":MAILTO:corey@mnhum.org
END:VEVENT
END:VCALENDAR