BEGIN:VCALENDAR
VERSION:2.0
PRODID:-//Minnesota Humanities Center - ECPv6.15.20//NONSGML v1.0//EN
CALSCALE:GREGORIAN
METHOD:PUBLISH
X-WR-CALNAME:Minnesota Humanities Center
X-ORIGINAL-URL:https://www.mnhum.org
X-WR-CALDESC:Events for Minnesota Humanities Center
REFRESH-INTERVAL;VALUE=DURATION:PT1H
X-Robots-Tag:noindex
X-PUBLISHED-TTL:PT1H
BEGIN:VTIMEZONE
TZID:America/Chicago
BEGIN:DAYLIGHT
TZOFFSETFROM:-0600
TZOFFSETTO:-0500
TZNAME:CDT
DTSTART:20230312T080000
END:DAYLIGHT
BEGIN:STANDARD
TZOFFSETFROM:-0500
TZOFFSETTO:-0600
TZNAME:CST
DTSTART:20231105T070000
END:STANDARD
BEGIN:DAYLIGHT
TZOFFSETFROM:-0600
TZOFFSETTO:-0500
TZNAME:CDT
DTSTART:20240310T080000
END:DAYLIGHT
BEGIN:STANDARD
TZOFFSETFROM:-0500
TZOFFSETTO:-0600
TZNAME:CST
DTSTART:20241103T070000
END:STANDARD
BEGIN:DAYLIGHT
TZOFFSETFROM:-0600
TZOFFSETTO:-0500
TZNAME:CDT
DTSTART:20250309T080000
END:DAYLIGHT
BEGIN:STANDARD
TZOFFSETFROM:-0500
TZOFFSETTO:-0600
TZNAME:CST
DTSTART:20251102T070000
END:STANDARD
END:VTIMEZONE
BEGIN:VEVENT
DTSTART;TZID=America/Chicago:20240213T180000
DTEND;TZID=America/Chicago:20240213T200000
DTSTAMP:20260420T140005
CREATED:20231220T202205Z
LAST-MODIFIED:20240209T224407Z
UID:10000335-1707847200-1707854400@www.mnhum.org
SUMMARY:Online - Refraction: A Gender and Sexuality Discussion Series
DESCRIPTION:Session 1: Book Bans and the Freedom to Read\nIssues related to gender and sexuality continue to be paramount in many areas\, including politics\, law\, health care\, parenting\, identity\, and social justice. In this three-part discussion series\, we will consider how gender and sexuality are refracted\, or how their meaning and social expression are changing and moving as we think through the topics of book bans\, transgender rights\, and masculinity. \nBooks continue to be banned or challenged across the nation\, and Minnesota is not exempt in that respect. Book bans have risen by a third over the past year in public schools\, and many of these bans are targeting LGBTQ+ characters\, themes\, and intersectional identities. This session of Refraction: A Gender and Sexuality Discussion Series will examine the controversy over sexuality and book bans and provide an opportunity to hear directly from authors whose work has been challenged. Quatrefoil Library\, a library and queer gathering space in the Twin Cities\, will be in conversation with J.J. Austrian\, author of Worm Loves Worm\, Trung Le Nguyen\, author of The Magic Fish\, and Junauda Petrus\, author of The Stars and the Blackness Between Them. \nWhat you can expect from this series: \n\nScholars\, experts\, community members\, and authors will share what the landscape looks like nationally and in Minnesota\, as well as talk about their personal experiences and perspectives.		\nEach session will have a resource list of articles\, books\, and organizations to help you gain a deeper understanding of the issues at hand.\nEngage in small and large group discussions as well as exploring ways to effect change and take action.\n\nRegistration\nRegistration is required. There is no cost to attend; sign up for one or all three sessions. Each session will take place virtually; a zoom link will be sent closer to the date of the session.  \nEducators can receive CEU’s for attending. \nRegistration Questions: registrations@mnhum.org \nREGISTRATION FOR THIS EVENT HAS CLOSED
URL:https://www.mnhum.org/event/gender-sexuality-session-one/
LOCATION:Online
CATEGORIES:Books, Poetry, and Literature,Online,Online,Professional Development,Public Programs
ATTACH;FMTTYPE=image/png:https://www.mnhum.org/wp-content/uploads/2023/12/event_refraction_gender_sexuality.png
ORGANIZER;CN="Corey China":MAILTO:corey@mnhum.org
END:VEVENT
BEGIN:VEVENT
DTSTART;TZID=America/Chicago:20240220T180000
DTEND;TZID=America/Chicago:20240220T200000
DTSTAMP:20260420T140005
CREATED:20231220T202246Z
LAST-MODIFIED:20231220T202246Z
UID:10000336-1708452000-1708459200@www.mnhum.org
SUMMARY:Online - Refraction: A Gender and Sexuality Discussion Series
DESCRIPTION:Session 2: Transgender Justice\nIssues related to gender and sexuality continue to be paramount in many areas\, including politics\, law\, health care\, parenting\, identity\, and social justice. In this three-part discussion series\, we will consider how gender and sexuality are refracted\, or how their meaning and social expression are changing and moving as we think through the topics of book bans\, transgender rights\, and masculinity. \nIn this session of Refraction: A Gender and Sexuality Discussion Series\, our speakers will help to set the stage on the current landscape of transgender rights and issues nationally\, and what is happening specifically within Minnesota. Brittany Stewart from Gender Justice\, a Minnesota based organization advancing gender equity through the law\, will be joined by Máel Embser-Herbert\, professor emeritus\, U.S. Army Veteran and an editor of With Honor and Integrity: Transgender Troops in Their Own Words\, which shares personal stories from transgender people fighting for their right to serve in the U.S. military. \nWhat you can expect from this series: \n\nScholars\, experts\, community members\, and authors will share what the landscape looks like nationally and in Minnesota\, as well as talk about their personal experiences and perspectives.		\nEach session will have a resource list of articles\, books\, and organizations to help you gain a deeper understanding of the issues at hand.\nEngage in small and large group discussions as well as exploring ways to effect change and take action.\n\nRegistration\nRegistration is required. There is no cost to attend; sign up for one or all three sessions. Each session will take place virtually; a zoom link will be sent closer to the date of the session.  \nEducators can receive CEU’s for attending. \nRegistration Questions: registrations@mnhum.org \nRegister Now
URL:https://www.mnhum.org/event/gender-sexuality-session-two/
LOCATION:Online
CATEGORIES:Books, Poetry, and Literature,Free,Online,Online,Professional Development,Public Programs
ATTACH;FMTTYPE=image/png:https://www.mnhum.org/wp-content/uploads/2023/12/event_refraction_gender_sexuality.png
ORGANIZER;CN="Corey China":MAILTO:corey@mnhum.org
END:VEVENT
BEGIN:VEVENT
DTSTART;TZID=America/Chicago:20240224T140000
DTEND;TZID=America/Chicago:20240224T160000
DTSTAMP:20260420T140005
CREATED:20231221T194942Z
LAST-MODIFIED:20240313T144450Z
UID:10000340-1708783200-1708790400@www.mnhum.org
SUMMARY:St. Paul & Online - Minnesota Writers Series: Through the Banks of the Red Cedar
DESCRIPTION:Join us for the February 2024 edition of the Minnesota Writers Series as we welcome multidisciplinary artist\, Maya Washington\, who will discuss her documentary film\, “Through the Banks of the Red Cedar\,” and memoir\, “Through the Banks of the Red Cedar: My Father and the Team that Changed the Game.” Through film clips\, book readings\, and conversation\, Maya will highlight her bond with and appreciation for her father\, Gene Washington\, a celebrated professional athlete who came of age during the peak of the civil rights movement. Maya will be joined by noted author and educator\, Dr. Artika Tyner\, who will moderate the discussion.  \nMaya Washington will be available for book signing and conversation after the event. “Through the Banks of the Red Cedar: My Father and the Team that Changed the Game\,” will be available for purchase at the event.  \nAbout the Book\n“Through the Banks of the Red Cedar” follows Maya Washington’s path towards understanding the legacy of her father\, Gene Washington. Maya retraces her father’s journey from the segregated south to Michigan State University during the peak of the Civil Rights Movement and his journey as a groundbreaking NFL player after the 1967 draft. Through the memoir\, Maya reflects on the influence her father’s childhood had on her upbringing\, the emotional bond of teammates and friends\, and the deepened connection she has to her family and football.       \nAbout the Author\nMaya Washington is an award-winning\, multi-hyphenate artist: writer\, poet\, director\, narrative and documentary filmmaker (writer/director/producer)\, actress\, creative director\, visualist (photography)\, and arts educator. Her background\, on stage/camera and behind the scenes\, has given her the opportunity to work on everything from public art\, live theatre\, commercials and print ads\, to web series\, films and television. Maya received a BA in Dramatic Arts from the University of Southern California and an MFA in Creative Writing from Hamline University. As a writer\, Maya’s poetry and prose have been featured in a number of literary journals and notable anthologies including “The BreakBeat Poets Vol. 2 : Black Girl Magic” (Haymarket Books 2018)\, “Nothing To Lose But Our Chains: Black Voices on Activism\, Resistance and Love” (Justice Matters Press\, 2018)\, and “The Beiging of America: Personal Narratives About Being Mixed Race in the Twenty-First Century” (2Leaf Press\, 2017). Additionally\, Maya received a Pushcart nomination from The Under Review literary journal for her poetry inspired by the historic MLK Tennis Buffs of St. Paul’s Rondo neighborhood. She is the editor of “White Space Poetry Anthology” featuring the work of deaf and hearing poets as a companion to her award-winning short film starring Ryan Lane\, “White Space.” Her award-winning film\, “Through the Banks of the Red Cedar\,” about her father Vikings Legend Gene Washington and the desegregation of college football aired on the Big Ten Network and is currently available on PBS platforms. Her memoir\, “Through the Banks of the Red Cedar: My Father and the Team that Changed the Game\,” is an Amazon Editor’s pick for Best History\, and was a 2023 Finalist for the Minnesota Book Award. As a freelance tv and film director\, Maya has directed episodes of the Fox series “The Killer Next Door\,” History Channel’s “I Was There\,” and the PBS Kids series “Black SciGirls.”  \nBesides being her first memoir\, “Through the Banks of the Red Cedar: My Father and the Team that Changed the Game” is also a documentary\, “Through the Banks of the Red Cedar\,” directed\, produced\, and written by Maya. The documentary is available on PBS platforms including PBS Documentaries Channel through Amazon Prime\, Comcast\, and iTunes. The film has been shown at community screenings and film festivals across the country. A curriculum for communities and educators is available at throughthebanksoftheredcedar.com.    \nAbout the Moderator\nAdvocate\, attorney\, author\, and educator Dr. Artika Tyner is committed to creating a more inclusive and racially and economically just world. She received her BA from Hamline University and her JD\, Master of Public Policy\, and EdD from the University of St. Thomas. A prolific author\, Dr. Tyner has written books for children and adults promoting literacy\, cultural awareness\, and leadership development. She is the founder and director of the nonprofit Planting People Growing Justice Leadership Institute.  \nRegistration\nThis free event will be in-person with an option to attend virtually via Zoom. Registration required. Captioning will be available for those attending virtually. \nRegistration Questions: registrations@mnhum.org  \nAttend In-Person \nAttend Online
URL:https://www.mnhum.org/event/through-the-banks-of-the-red-cedar/
LOCATION:Minnesota Humanities Event Center\, 987 Ivy Avenue East\, Saint Paul\, MN\, 55106\, United States
CATEGORIES:Books, Poetry, and Literature,Free,Minnesota Writers Series,Online,Public Programming,Public Programs
ATTACH;FMTTYPE=image/png:https://www.mnhum.org/wp-content/uploads/2023/12/event_mn_writers_banks_red_cedar.png
ORGANIZER;CN="Colin Nelson-Dusek":MAILTO:colin@mnhum.org
END:VEVENT
BEGIN:VEVENT
DTSTART;TZID=America/Chicago:20240227T180000
DTEND;TZID=America/Chicago:20240227T200000
DTSTAMP:20260420T140005
CREATED:20231220T202344Z
LAST-MODIFIED:20231220T202344Z
UID:10000338-1709056800-1709064000@www.mnhum.org
SUMMARY:Online - Refraction: A Gender and Sexuality Discussion Series
DESCRIPTION:Session 3: Detoxing Masculinity\nIssues related to gender and sexuality continue to be paramount in many areas\, including politics\, law\, health care\, parenting\, identity\, and social justice. In this three-part discussion series\, we will consider how gender and sexuality are refracted\, or how their meaning and social expression are changing and moving as we think through the topics of book bans\, transgender rights\, and masculinity. \nMany experts agree that the men and boys of the United States are not ok. By many measures they are falling behind and many of the impacts are less widely talked about. This session of Refraction: A Gender and Sexuality Discussion Series will seek to pull apart the term toxic masculinity and look instead at detoxing masculinity. Hamline Professor Ryan Jerome LeCount will talk about masculinity and its social expression\, particularly in the area of politics and social change in Minnesota and the United States. He will be joined by author Jeremy Norton\, who recently published Trauma Sponges\, a first-hand account of his experience working as an EMT in the emergency response sector\, and what it means for a male-dominated industry to be both full of bravura heroics and deal with intense trauma on a daily basis. \nWhat you can expect from this series: \n\nScholars\, experts\, community members\, and authors will share what the landscape looks like nationally and in Minnesota\, as well as talk about their personal experiences and perspectives.		\nEach session will have a resource list of articles\, books\, and organizations to help you gain a deeper understanding of the issues at hand.\nEngage in small and large group discussions as well as exploring ways to effect change and take action.\n\nRegistration\nRegistration is required. There is no cost to attend; sign up for one or all three sessions. Each session will take place virtually; a zoom link will be sent closer to the date of the session.  \nEducators can receive CEU’s for attending. \nRegistration Questions: registrations@mnhum.org \nRegister Now
URL:https://www.mnhum.org/event/gender-and-sexuality-session-three/
LOCATION:Online
CATEGORIES:Books, Poetry, and Literature,Free,Online,Online,Professional Development,Public Programs
ATTACH;FMTTYPE=image/png:https://www.mnhum.org/wp-content/uploads/2023/12/event_refraction_gender_sexuality.png
ORGANIZER;CN="Corey China":MAILTO:corey@mnhum.org
END:VEVENT
END:VCALENDAR