BEGIN:VCALENDAR
VERSION:2.0
PRODID:-//Minnesota Humanities Center - ECPv6.15.20//NONSGML v1.0//EN
CALSCALE:GREGORIAN
METHOD:PUBLISH
X-WR-CALNAME:Minnesota Humanities Center
X-ORIGINAL-URL:https://www.mnhum.org
X-WR-CALDESC:Events for Minnesota Humanities Center
REFRESH-INTERVAL;VALUE=DURATION:PT1H
X-Robots-Tag:noindex
X-PUBLISHED-TTL:PT1H
BEGIN:VTIMEZONE
TZID:America/Chicago
BEGIN:DAYLIGHT
TZOFFSETFROM:-0600
TZOFFSETTO:-0500
TZNAME:CDT
DTSTART:20230312T080000
END:DAYLIGHT
BEGIN:STANDARD
TZOFFSETFROM:-0500
TZOFFSETTO:-0600
TZNAME:CST
DTSTART:20231105T070000
END:STANDARD
BEGIN:DAYLIGHT
TZOFFSETFROM:-0600
TZOFFSETTO:-0500
TZNAME:CDT
DTSTART:20240310T080000
END:DAYLIGHT
BEGIN:STANDARD
TZOFFSETFROM:-0500
TZOFFSETTO:-0600
TZNAME:CST
DTSTART:20241103T070000
END:STANDARD
BEGIN:DAYLIGHT
TZOFFSETFROM:-0600
TZOFFSETTO:-0500
TZNAME:CDT
DTSTART:20250309T080000
END:DAYLIGHT
BEGIN:STANDARD
TZOFFSETFROM:-0500
TZOFFSETTO:-0600
TZNAME:CST
DTSTART:20251102T070000
END:STANDARD
END:VTIMEZONE
BEGIN:VEVENT
DTSTART;TZID=America/Chicago:20240413T110000
DTEND;TZID=America/Chicago:20240413T130000
DTSTAMP:20260420T111242
CREATED:20240312T170646Z
LAST-MODIFIED:20240315T160738Z
UID:10000408-1713006000-1713013200@www.mnhum.org
SUMMARY:Rochester - Poetry Sparks! Lines\, Lyrics\, & Laureates
DESCRIPTION:Celebrate National Poetry Month with us! Join Minnesota’s Poet Laureate Gwen Nell Westerman and City of Rochester Poet Laureate Jean Prokott for Poetry Sparks! Lines\, Lyrics\, & Laureates. At this family friendly event\, Gwen and Jean will share some of their poetry\, and then help you write your own. Contribute to community poetry\, visit our creative writing stations\, write a poem to give away on poem in your pocket day\, and take a chance on mystery poems. Don’t miss this opportunity to create poetry with the Laureates\, and have fun while diving into the joy of poetic expression! \nThis event is presented in partnership with Southeast MN Poets\, supporting poets of all ages and stages in their careers. The Southeast MN Poets foster growth\, experience\, and understanding of the art of poetry through writing\, reading\, and discussion. \nAbout the Laureates\nGwen Nell Westerman is Minnesota’s current Poet Laureate\, and was appointed in 2021. An enrolled member of the Sisseton Wahpeton Dakota Oyate Nation\, Gwen is the first Native poet to hold the role of Laureate for Minnesota. She teaches English and Humanities at Minnesota State University\, Mankato\, and in addition to her 2013 poetry collection “Follow the Blackbirds\,” recently published the collection “Songs\, Blood Deep”\, which has been shortlisted for the 2024 MN Book Awards. \nJean Prokott’s poetry collection “The Second Longest Day of the Year” won the Howling Bird Press Book Prize (Howling Bird Press). She is the author of the chapbook “The Birthday Effect” (Black Sunflowers Press)\, is a recipient of the AWP Intro Journals Award\, and of the John Calvin Rezmerski Memorial Grand Prize with the League of Minnesota Poets. She has poetry and nonfiction published in Verse Daily\, Rattle\, and Arts & Letters\, among other journals. Prokott is the Poet Laureate of Rochester\, Minnesota. \nRegistration\nRegistration is not required for this free event. Families\, kids\, all ages welcome. Poetry reading will begin at 11:00 a.m. Participants are invited to drop in any time between 11:00 a.m. and 1:00 p.m.
URL:https://www.mnhum.org/event/rochester-poetry-sparks-lines-lyrics-laureates/
LOCATION:Historic Chateau Theater\, 15 1st Street Southwest\, Rochester\, MN\, 55902\, United States
CATEGORIES:Books, Poetry, and Literature,Free,Greater Minnesota,Kid Friendly,Minnesota's Poet Laureate,Public Programming,Public Programs
ATTACH;FMTTYPE=image/jpeg:https://www.mnhum.org/wp-content/uploads/2024/03/event_poet_laureate_poetry_sparks.jpg
ORGANIZER;CN="Corey China":MAILTO:corey@mnhum.org
END:VEVENT
END:VCALENDAR