BEGIN:VCALENDAR
VERSION:2.0
PRODID:-//Minnesota Humanities Center - ECPv6.15.20//NONSGML v1.0//EN
CALSCALE:GREGORIAN
METHOD:PUBLISH
X-ORIGINAL-URL:https://www.mnhum.org
X-WR-CALDESC:Events for Minnesota Humanities Center
REFRESH-INTERVAL;VALUE=DURATION:PT1H
X-Robots-Tag:noindex
X-PUBLISHED-TTL:PT1H
BEGIN:VTIMEZONE
TZID:America/Chicago
BEGIN:DAYLIGHT
TZOFFSETFROM:-0600
TZOFFSETTO:-0500
TZNAME:CDT
DTSTART:20240310T080000
END:DAYLIGHT
BEGIN:STANDARD
TZOFFSETFROM:-0500
TZOFFSETTO:-0600
TZNAME:CST
DTSTART:20241103T070000
END:STANDARD
BEGIN:DAYLIGHT
TZOFFSETFROM:-0600
TZOFFSETTO:-0500
TZNAME:CDT
DTSTART:20250309T080000
END:DAYLIGHT
BEGIN:STANDARD
TZOFFSETFROM:-0500
TZOFFSETTO:-0600
TZNAME:CST
DTSTART:20251102T070000
END:STANDARD
BEGIN:DAYLIGHT
TZOFFSETFROM:-0600
TZOFFSETTO:-0500
TZNAME:CDT
DTSTART:20260308T080000
END:DAYLIGHT
BEGIN:STANDARD
TZOFFSETFROM:-0500
TZOFFSETTO:-0600
TZNAME:CST
DTSTART:20261101T070000
END:STANDARD
END:VTIMEZONE
BEGIN:VEVENT
DTSTART;TZID=America/Chicago:20250423T180000
DTEND;TZID=America/Chicago:20250423T200000
DTSTAMP:20260419T180627
CREATED:20250307T193443Z
LAST-MODIFIED:20250416T194111Z
UID:10000492-1745431200-1745438400@www.mnhum.org
SUMMARY:Minneapolis - Minnesota Writers Off the Page: Tarik Dobbs
DESCRIPTION:Join us for a special Poetry Month event featuring poet Tarik Dobbs in conversation with Sagirah Shahid\, discussing Dobbs’ powerful collection\, “Nazar Boy.” This thought-provoking work explores themes of identity\, surveillance\, and the complexities of Arab American life through sharp\, evocative verse. \nFollowing the discussion\, audience members are invited to participate in a Q&A session\, enjoy light refreshments\, and have further informal conversation with the featured speakers. Copies of “Nazar Boy” will be available for purchase\, and the evening will finish with a book signing. \nAbout the Author\nTarik Dobbs (b. 1997\, Dearborn\, MI) is a writer\, artist\, and Poetry Foundation Ruth Lilly & Dorothy Sargent Rosenberg Poetry Fellow. Dobbs holds an M.F.A. in creative writing from the University of Minnesota and an M.F.A. in art\, theory\, practice from Northwestern University. Dobbs is assistant professor of English in creative writing (poetry) at Southwest Minnesota State University. The debut poetry collections by Dobbs\, Nazar Boy (2024) and Dearbornistan (2026)\, are from Haymarket Books. \nAbout the Moderator\nSagirah Shahid is an African American Muslim poet\, editor\, arts administrator\, and performance artist from Minneapolis\, MN. She is a recipient of awards\, fellowship\, and residencies from the Loft Literary Center\, Minnesota Center for Book Arts\, Twin Cities Media Alliance\, Shangri La Museum of Islamic Art and Muslim Advocates\, Strive Publishing\, Wisdom Ways\, Nicollet Lanterns\, and 826 MSP. Sagirah’s prose and poetry have been published by Mizna\, The Drinking Gourd\, Insight News\, Winter Tangerine\, Pollen\, Blue Minaret\, Puerto Del Sol\, Paper Darts\, Juked\, Walker Art Center\, About Place Journal\, the Saint Paul Almanac\, and elsewhere. \nThis event is presented in partnership with New Arab American Theater Works\, a Minnesota based collective of SWANA (Southwest Asian/North African) playwrights\, musicians\, and performing artists\, and is part of the Minnesota Writers Off the Page series\, bringing the inspirational voices of Minnesota’s authors directly to you. \nRegistration\nThis event is free\, however registration is required. \nRegistration Questions: registrations@mnhum.org \nRegister Now
URL:https://www.mnhum.org/event/minneapolis-minnesota-writers-off-the-page-tarik-dobbs/
LOCATION:The Loft at Open Book\, 1011 Washington Ave S\, Minneapolis\, MN\, 55415\, United States
CATEGORIES:Books, Poetry, and Literature,Free,Minnesota Writers Off the Page,Public Programming,Public Programs
ATTACH;FMTTYPE=image/png:https://www.mnhum.org/wp-content/uploads/2025/03/event_mn_writer_off_page_dobbs.png
ORGANIZER;CN="Corey China":MAILTO:corey@mnhum.org
END:VEVENT
END:VCALENDAR