BEGIN:VCALENDAR
VERSION:2.0
PRODID:-//Minnesota Humanities Center - ECPv6.15.20//NONSGML v1.0//EN
CALSCALE:GREGORIAN
METHOD:PUBLISH
X-WR-CALNAME:Minnesota Humanities Center
X-ORIGINAL-URL:https://www.mnhum.org
X-WR-CALDESC:Events for Minnesota Humanities Center
REFRESH-INTERVAL;VALUE=DURATION:PT1H
X-Robots-Tag:noindex
X-PUBLISHED-TTL:PT1H
BEGIN:VTIMEZONE
TZID:America/Chicago
BEGIN:DAYLIGHT
TZOFFSETFROM:-0600
TZOFFSETTO:-0500
TZNAME:CDT
DTSTART:20240310T080000
END:DAYLIGHT
BEGIN:STANDARD
TZOFFSETFROM:-0500
TZOFFSETTO:-0600
TZNAME:CST
DTSTART:20241103T070000
END:STANDARD
BEGIN:DAYLIGHT
TZOFFSETFROM:-0600
TZOFFSETTO:-0500
TZNAME:CDT
DTSTART:20250309T080000
END:DAYLIGHT
BEGIN:STANDARD
TZOFFSETFROM:-0500
TZOFFSETTO:-0600
TZNAME:CST
DTSTART:20251102T070000
END:STANDARD
BEGIN:DAYLIGHT
TZOFFSETFROM:-0600
TZOFFSETTO:-0500
TZNAME:CDT
DTSTART:20260308T080000
END:DAYLIGHT
BEGIN:STANDARD
TZOFFSETFROM:-0500
TZOFFSETTO:-0600
TZNAME:CST
DTSTART:20261101T070000
END:STANDARD
BEGIN:DAYLIGHT
TZOFFSETFROM:-0600
TZOFFSETTO:-0500
TZNAME:CDT
DTSTART:20270314T080000
END:DAYLIGHT
BEGIN:STANDARD
TZOFFSETFROM:-0500
TZOFFSETTO:-0600
TZNAME:CST
DTSTART:20271107T070000
END:STANDARD
END:VTIMEZONE
BEGIN:VEVENT
DTSTART;TZID=America/Chicago:20250410T180000
DTEND;TZID=America/Chicago:20250410T190000
DTSTAMP:20260419T235704
CREATED:20250307T193502Z
LAST-MODIFIED:20250418T143531Z
UID:10000490-1744308000-1744311600@www.mnhum.org
SUMMARY:Rochester - Resistance\, Voice\, and Verse: A Latino Poetry Reading
DESCRIPTION:Join us for a special Poetry Month celebration of Latino poetry at the Rochester Public Library! This engaging event will feature readings of powerful poems\, and opportunities for discussion and reflection. Students from Rochester Public Schools will read poems from the recently released anthology\, “Latino Poetry: The Library of America Anthology” as well as their original work\, and the event will be emceed by City of Rochester Poet Laureate\, Jean Prokott. \nAttendees will have a chance to win a copy of “Latino Poetry: Library of America Anthology” – come celebrate the rich tradition of Latino poetry\, connect with fellow poetry lovers\, and share in the beauty of language and storytelling. Free to attend\, light refreshments provided. All are welcome! \nLatino Poetry: Places We Call Home is a major public humanities initiative\, planned for 2024–25\, that celebrates and explores the multifaceted legacy of Latino poetry. It is directed by Library of America and funded with generous support from the National Endowment for the Humanities and Emerson Collective. \nLatino Poetry: Places We Call Home es una iniciativa de gran alcance en el campo de las humanidades públicas que celebra el legado multifacético de la poesía latina. Esta iniciativa de realiza bajo el auspicio de Library of America con el generoso financiamiento del Fondo Nacional para las Humanidades y Emerson Collective.
URL:https://www.mnhum.org/event/rochester-resistance-voice-and-verse-a-latino-poetry-reading/
LOCATION:Rochester Public Library\, 101 2nd St SE\, Rochester\, 55904\, United States
CATEGORIES:Books, Poetry, and Literature,Free,Greater Minnesota,Public Programming,Public Programs
ATTACH;FMTTYPE=image/png:https://www.mnhum.org/wp-content/uploads/2025/03/event_resistan_voice_verse_latino_poetry.png
ORGANIZER;CN="Corey China":MAILTO:corey@mnhum.org
END:VEVENT
BEGIN:VEVENT
DTSTART;TZID=America/Chicago:20250416T190000
DTEND;TZID=America/Chicago:20250416T201500
DTSTAMP:20260419T235704
CREATED:20250307T193511Z
LAST-MODIFIED:20250418T143549Z
UID:10000488-1744830000-1744834500@www.mnhum.org
SUMMARY:Online - Let’s Animate! Poetry Craft Talk and Workshop with Heid E. Erdrich
DESCRIPTION:Join us for an engaging and interactive online poetry craft talk and workshop! Featuring her most recent collection\, “Verb Animate\,” this workshop will be led by esteemed writer and the first poet laureate of the City of Minneapolis\, Heid E. Erdrich. \nIn this session\, participants will dip into creative activities using poems and prompts from “Verb Animate.” Heid will also read poems from this collection and share more about its creation; each poem included arose from a collaborative act with another poet or artist. Whether you are a seasoned poet or just beginning\, don’t miss this opportunity to write and learn more about community centered\, collaborative poetry. \nAbout the Poet\nHeid E. Erdrich is the author of a dozen books in both poetry and prose. She grew up in North Dakota and is Ojibwe\, enrolled at Turtle Mountain. She curates art exhibits\, teaches\, researches\, and collaborates with other artists. In 2024\, Heid served as the Inaugural Minneapolis Poet Laureate. She is the 2025 James Welch Visiting Writer at University of Montana Missoula. \nThis event is presented in partnership with Trio House Press\, publisher of “Verb Animate” and the Minnesota Marine Art Museum\, which engages visitors and the community with great art inspired by water; don’t miss the opportunity to see their current exhibit “Once Upon A Shore\,” curated by Heid E. Erdrich. \nRegistration\nRegistration cost includes a copy of “Verb Animate.” Please register by April 9\, 2025 to allow time to mail a book to you — you won’t want to miss this great opportunity! By registering you’ll also have a chance to receive two (2) complimentary admission tickets to the MN Marine Art Museum\, compliments of Minnesota Marine Art Museum. Drawing for the tickets will take place during the workshop. \nRegistration Questions: registrations@mnhum.org \nREGISTRATION FOR THIS EVENT HAS CLOSED
URL:https://www.mnhum.org/event/online-lets-animate-poetry-craft-talk-and-workshop-with-heid-e-erdrich/
LOCATION:https://www.mnhum.org/event/online-lets-animate-poetry-craft-talk-and-workshop-with-heid-e-erdrich/
CATEGORIES:Books, Poetry, and Literature,Online,Public Programming,Public Programs
ATTACH;FMTTYPE=image/jpeg:https://www.mnhum.org/wp-content/uploads/2025/03/event_verb_animate.jpg
ORGANIZER;CN="Corey China":MAILTO:corey@mnhum.org
END:VEVENT
BEGIN:VEVENT
DTSTART;TZID=America/Chicago:20250423T180000
DTEND;TZID=America/Chicago:20250423T200000
DTSTAMP:20260419T235704
CREATED:20250307T193443Z
LAST-MODIFIED:20250416T194111Z
UID:10000492-1745431200-1745438400@www.mnhum.org
SUMMARY:Minneapolis - Minnesota Writers Off the Page: Tarik Dobbs
DESCRIPTION:Join us for a special Poetry Month event featuring poet Tarik Dobbs in conversation with Sagirah Shahid\, discussing Dobbs’ powerful collection\, “Nazar Boy.” This thought-provoking work explores themes of identity\, surveillance\, and the complexities of Arab American life through sharp\, evocative verse. \nFollowing the discussion\, audience members are invited to participate in a Q&A session\, enjoy light refreshments\, and have further informal conversation with the featured speakers. Copies of “Nazar Boy” will be available for purchase\, and the evening will finish with a book signing. \nAbout the Author\nTarik Dobbs (b. 1997\, Dearborn\, MI) is a writer\, artist\, and Poetry Foundation Ruth Lilly & Dorothy Sargent Rosenberg Poetry Fellow. Dobbs holds an M.F.A. in creative writing from the University of Minnesota and an M.F.A. in art\, theory\, practice from Northwestern University. Dobbs is assistant professor of English in creative writing (poetry) at Southwest Minnesota State University. The debut poetry collections by Dobbs\, Nazar Boy (2024) and Dearbornistan (2026)\, are from Haymarket Books. \nAbout the Moderator\nSagirah Shahid is an African American Muslim poet\, editor\, arts administrator\, and performance artist from Minneapolis\, MN. She is a recipient of awards\, fellowship\, and residencies from the Loft Literary Center\, Minnesota Center for Book Arts\, Twin Cities Media Alliance\, Shangri La Museum of Islamic Art and Muslim Advocates\, Strive Publishing\, Wisdom Ways\, Nicollet Lanterns\, and 826 MSP. Sagirah’s prose and poetry have been published by Mizna\, The Drinking Gourd\, Insight News\, Winter Tangerine\, Pollen\, Blue Minaret\, Puerto Del Sol\, Paper Darts\, Juked\, Walker Art Center\, About Place Journal\, the Saint Paul Almanac\, and elsewhere. \nThis event is presented in partnership with New Arab American Theater Works\, a Minnesota based collective of SWANA (Southwest Asian/North African) playwrights\, musicians\, and performing artists\, and is part of the Minnesota Writers Off the Page series\, bringing the inspirational voices of Minnesota’s authors directly to you. \nRegistration\nThis event is free\, however registration is required. \nRegistration Questions: registrations@mnhum.org \nRegister Now
URL:https://www.mnhum.org/event/minneapolis-minnesota-writers-off-the-page-tarik-dobbs/
LOCATION:The Loft at Open Book\, 1011 Washington Ave S\, Minneapolis\, MN\, 55415\, United States
CATEGORIES:Books, Poetry, and Literature,Free,Minnesota Writers Off the Page,Public Programming,Public Programs
ATTACH;FMTTYPE=image/png:https://www.mnhum.org/wp-content/uploads/2025/03/event_mn_writer_off_page_dobbs.png
ORGANIZER;CN="Corey China":MAILTO:corey@mnhum.org
END:VEVENT
BEGIN:VEVENT
DTSTART;TZID=America/Chicago:20250426T110000
DTEND;TZID=America/Chicago:20250426T123000
DTSTAMP:20260419T235704
CREATED:20250307T193434Z
LAST-MODIFIED:20250307T193434Z
UID:10000493-1745665200-1745670600@www.mnhum.org
SUMMARY:Northfield - Threads of Tanka: A Reading and Poetry Writing Event
DESCRIPTION:Celebrate National Poetry Month this April with the Poet Laureate of Northfield\, Russ Paladin\, and the Minnesota Poet Laureate\, Gwen Nell Westerman! Russ and Gwen will come together for an interactive event that includes poetry readings\, a conversation on craft and inspiration\, and writing – with a focus on the poetic form of tanka. \nAs part of the event\, participants will have the chance to dive deeper into the art of tanka with a short\, guided writing activity—an opportunity to create your own verse\, no matter your level of experience. We’ll have also have light refreshments and each participant will receive a complimentary copy of “Songs\, Blood Deep” to take home. \nWhether you’re a seasoned poetry lover or simply curious about exploring this unique art form\, come celebrate the power of words with the laureates! \nAbout the Poets\nUnder his pen name Russ Paladin\, Russel Boyington has published work in The Brasilia Review\, DISTURBED Digest\, and Medusa’s Laugh Press. His novel SOUND OF DARKNESS was runner-up for the Joanna Catherine Scott Novel Excerpt Prize. When not slaving over one pencil sketch or another\, practicing piano\, or directing middle school or community theater\, he supervises the Before/After School Care program at Prairie Creek Community School. Northfield\, Minnesota\, located in the Upper Mississppi River Valley\, has been his home for 10 years. Russel is the current Northfield Poet Laureate. \nGwen Nell Westerman is a poet\, visual artist\, and scholar. Her roots are deep in the landscape of the tallgrass prairie and reveal themselves in her art and writing. She is an enrolled citizen of the Sisseton Wahpeton Oyate\, and her father’s family is from the Heipa District. Her mother’s family is from the Flint District of the Cherokee Nation of Oklahoma. Neither of her parents spoke English when they were sent as small children to boarding schools in Oklahoma and South Dakota. Singing and writing for as long as she can remember\, Gwen understands from experience the important ways language and the land shape who we are. She was appointed as the Poet Laureate of Minnesota by Governor Tim Walz in 2021. \nRegistration\nThis event is free to attend\, however registration is required. Light refreshments will be provided. Space is limited so register soon! \nRegistration Questions: registrations@mnhum.org \nRegister Now
URL:https://www.mnhum.org/event/northfield-threads-of-tanka-a-reading-and-poetry-writing-event/
LOCATION:Northfield Public Library\, 210 Washington St\, Northfield\, MN\, 55057\, United States
CATEGORIES:Books, Poetry, and Literature,Free,Minnesota's Poet Laureate,Public Programming
ATTACH;FMTTYPE=image/png:https://www.mnhum.org/wp-content/uploads/2025/03/event_threads_tanka.png
ORGANIZER;CN="Corey China":MAILTO:corey@mnhum.org
END:VEVENT
BEGIN:VEVENT
DTSTART;TZID=America/Chicago:20250913T110000
DTEND;TZID=America/Chicago:20250913T160000
DTSTAMP:20260419T235704
CREATED:20250818T133433Z
LAST-MODIFIED:20250818T134616Z
UID:10000561-1757761200-1757779200@www.mnhum.org
SUMMARY:Red Wing – Minnesota Children’s Book Festival
DESCRIPTION:The Anderson Center at Tower View is pleased to announce that the 26th annual Minnesota Children’s Book Festival will be held on Saturday\, September 13\, 2025 from 11 a.m. – 4 p.m. This beloved event features presentations of new books by award-winning authors and illustrators writing for young readers through middle grade. Taking place at the Anderson Center’s beautiful\, historic Tower View campus\, the Children’s Book Festival is an ideal opportunity for families to connect\, learn\, and play. \nThroughout the afternoon\, each author or illustrator presents their work\, reads from their book\, and participates in a meet & greet and book signing booth. Taking place outdoors\, the event also features hands-on activities that engage the mind\, body\, and imagination. With balloons\, face painting\, art-making\, kid-friendly food trucks\, and more\, there’s something to delight the inner child in all of us.  \nThis event is FREE and all ages are welcome! \nThe Minnesota Humanities Center will be tabling throughout the day — stop by to say hello\, learn more about our book projects\, and let us know you saw the event on our website to win a prize! \nFor a complete schedule of events\, please visit the Anderson Center website. \nSchedule of Events
URL:https://www.mnhum.org/event/minnesota-childrens-book-festival/
LOCATION:Anderson Center at Tower View\, 163 Tower View Drive\, Red Wing\, MN\, 55066\, United States
CATEGORIES:Books, Poetry, and Literature,Free,Kid Friendly,Public Programming
ATTACH;FMTTYPE=image/jpeg:https://www.mnhum.org/wp-content/uploads/2025/08/event_mn_childrens_book_festival_2025.jpg
ORGANIZER;CN="Colin Nelson-Dusek":MAILTO:colin@mnhum.org
END:VEVENT
BEGIN:VEVENT
DTSTART;TZID=America/Chicago:20250919T180000
DTEND;TZID=America/Chicago:20250919T210000
DTSTAMP:20260419T235704
CREATED:20250731T204858Z
LAST-MODIFIED:20250731T204858Z
UID:10000540-1758304800-1758315600@www.mnhum.org
SUMMARY:Winona - Shorelines and Storylines: An Artist Gathering
DESCRIPTION:Join us for a special evening of reflection\, story\, and shared warmth around the fire (weather permitting). This gathering offers an opportunity to connect with the artists of Once Upon A Shore through a special panel conversation moderated by guest exhibition curator\, Heid E. Erdrich. Enjoy passed appetizers\, and purchase drinks from Minnesota Marine Art Museum (MMAM)’s Water Bar Cafe & Provisions. The Minnesota Humanities Center is excited to partner with MMAM to highlight artists Gwen Nell Westerman\, Tashia Hart\, and Cole Redhorse Taylor who have contributed to the Native American Lives Series\, books by and about Dakota and Ojibwe Minnesotans\, for middle grade readers. Guests are also invited to purchase a variety of books created by exhibition artists\, including the newest publications Ella Cara Deloria: Dakota Language Protector\, Charles Albert Bender: National Baseball Hall of Fame Pitcher\, Peggy Flanagan: Lieutenant Governor\, and Carrie Cavender Schommer: Dakota Language Teacher\, and have your copy signed and personalized. \nRegistration\nShorelines and Storylines is organized by the Minnesota Marine Art Museum. Registration through the Minnesota Marine Art Museum is required to attend. \nRegister Now
URL:https://www.mnhum.org/event/winona-shorelines-and-storylines-an-artist-gathering/
LOCATION:Minnesota Marine Art Museum\, 800 Riverview Drive\, Winona\, 55987\, United States
CATEGORIES:Books, Poetry, and Literature,Free,Greater Minnesota,Native American Lives Series,Public Programming
ATTACH;FMTTYPE=image/jpeg:https://www.mnhum.org/wp-content/uploads/2025/07/event_once_upon_a_shore_2025.jpg
ORGANIZER;CN="Corey China":MAILTO:corey@mnhum.org
END:VEVENT
BEGIN:VEVENT
DTSTART;TZID=America/Chicago:20260321T100000
DTEND;TZID=America/Chicago:20260321T150000
DTSTAMP:20260419T235704
CREATED:20260302T222654Z
LAST-MODIFIED:20260302T222654Z
UID:10000633-1774087200-1774105200@www.mnhum.org
SUMMARY:St. Paul - Meet the Finalists of the 2026 Minnesota Book Awards
DESCRIPTION:The Minnesota Humanities Center is proud to sponsor the 2026 Minnesota Books Awards category of Novel/Short Story. Join us to meet the finalists for this year’s award at a Meet the Finalists event\, hosted by The Friends of the Saint Paul Public Library. \nThis year’s finalists in the Novel/Short Story category are: \n\n“Ashes to Ashes” by Thomas Maltman\n“If the Dead Belong Here: A Novel” by Carson Faust\n“Lucky Tomorrow: Stories” by Deborah Jiang-Stein\n“The Many Mothers of Dolores Moore” by Anika Fajardo\n\nMinnesota Book Award finalist authors from all nine awards categories will participate in readings\, panel discussions\, and other activities about their books and their work at this special event. Events will take place in different rooms of the library throughout the day. Come for one or stay for all! It’s your choice. Attendees can also buy finalist books and enjoy library activities. \nRegistration\nRegistration for this free event is through The Friends of the Saint Paul Public Library. \nRegister Now
URL:https://www.mnhum.org/event/st-paul-meet-the-finalists-of-the-2026-minnesota-book-awards/
LOCATION:George Latimer Central Library\, 90 W. Fourth Street\, St. Paul\, 55102\, United States
CATEGORIES:Books, Poetry, and Literature,Free,Public Programming
ATTACH;FMTTYPE=image/jpeg:https://www.mnhum.org/wp-content/uploads/2026/03/event_mn_book_awards_2026.jpg
ORGANIZER;CN="Corey China":MAILTO:corey@mnhum.org
END:VEVENT
BEGIN:VEVENT
DTSTART;TZID=America/Chicago:20260404T140000
DTEND;TZID=America/Chicago:20260404T160000
DTSTAMP:20260419T235704
CREATED:20260323T210843Z
LAST-MODIFIED:20260324T155003Z
UID:10000641-1775311200-1775318400@www.mnhum.org
SUMMARY:St. Paul - Hope is a Force
DESCRIPTION:Celebrate National Poetry Month at the Minnesota Humanities Center! In partnership with the East Side Arts Council\, this free community gathering brings together a vibrant lineup of local poets sharing original work shaped by a range of perspectives and ways of seeing the world. Poets reading include: \n\nJoe Alfano\nJan Borofka\nColleen Callahan\nDiane Jarvenpa\nMarla Kennedy\nDiane Brady Leighton\nMem Lloyd\nSheila OKeefe\nRomi Slowiak\nLeslie Thomas\nRoslye Ultan\nCarol Wichers\n\nThrough an inspiring showcase of readings\, this afternoon will highlight the richness of our local literary community. Poetry invites us to pause\, listen\, and connect. Light refreshments will be available—come enjoy an afternoon of words that resonate. \nThis event is held in partnership with East Side Arts Council (ESAC)\, a community arts organization offering accessible\, low-cost\, or free arts programs led by accomplished professional artists. ESAC celebrates the diversity of its neighborhood and builds appreciation of the arts. \nRegistration\nThis event is free\, however registration is required. \nRegistration Questions: registrations@mnhum.org  \nRegister Now
URL:https://www.mnhum.org/event/st-paul-hope-is-a-force/
LOCATION:Minnesota Humanities Event Center\, 987 Ivy Avenue East\, Saint Paul\, MN\, 55106\, United States
CATEGORIES:Books, Poetry, and Literature,Free,Public Programming
ATTACH;FMTTYPE=image/png:https://www.mnhum.org/wp-content/uploads/2026/03/event_hope_is_a_force_2026.png
ORGANIZER;CN="Corey China":MAILTO:corey@mnhum.org
END:VEVENT
END:VCALENDAR