BEGIN:VCALENDAR
VERSION:2.0
PRODID:-//Minnesota Humanities Center - ECPv6.15.20//NONSGML v1.0//EN
CALSCALE:GREGORIAN
METHOD:PUBLISH
X-WR-CALNAME:Minnesota Humanities Center
X-ORIGINAL-URL:https://www.mnhum.org
X-WR-CALDESC:Events for Minnesota Humanities Center
REFRESH-INTERVAL;VALUE=DURATION:PT1H
X-Robots-Tag:noindex
X-PUBLISHED-TTL:PT1H
BEGIN:VTIMEZONE
TZID:America/Chicago
BEGIN:DAYLIGHT
TZOFFSETFROM:-0600
TZOFFSETTO:-0500
TZNAME:CDT
DTSTART:20240310T080000
END:DAYLIGHT
BEGIN:STANDARD
TZOFFSETFROM:-0500
TZOFFSETTO:-0600
TZNAME:CST
DTSTART:20241103T070000
END:STANDARD
BEGIN:DAYLIGHT
TZOFFSETFROM:-0600
TZOFFSETTO:-0500
TZNAME:CDT
DTSTART:20250309T080000
END:DAYLIGHT
BEGIN:STANDARD
TZOFFSETFROM:-0500
TZOFFSETTO:-0600
TZNAME:CST
DTSTART:20251102T070000
END:STANDARD
BEGIN:DAYLIGHT
TZOFFSETFROM:-0600
TZOFFSETTO:-0500
TZNAME:CDT
DTSTART:20260308T080000
END:DAYLIGHT
BEGIN:STANDARD
TZOFFSETFROM:-0500
TZOFFSETTO:-0600
TZNAME:CST
DTSTART:20261101T070000
END:STANDARD
END:VTIMEZONE
BEGIN:VEVENT
DTSTART;TZID=America/Chicago:20250810T150000
DTEND;TZID=America/Chicago:20250810T170000
DTSTAMP:20260420T032520
CREATED:20250612T171420Z
LAST-MODIFIED:20250612T171420Z
UID:10000517-1754838000-1754845200@www.mnhum.org
SUMMARY:St. Paul - Summer on the Lawn: Puppets & Performance
DESCRIPTION:MHC concludes its 2025 “Summer on the Lawn” series with a fun-filled\, festive\, family friendly music and puppetry double feature! The event begins with a children’s concert by local favorites Rose Lani and The Rosie Posies\, who will lead the audience in singalongs and games through musical storytelling. After that\, Open Eye Theatre’s Driveway Tour performers will present “The Adventures of Juan Bobo\,” a puppet show inspired by Puerto Rican folk stories. Open Eye performers will remain after the show to give curious kids and adults a behind the scenes peek and a closer look at the featured puppets. \nPlease note that this event will be outdoors\, weather permitting. MHC will provide light refreshments during the event. Picnics\, lawn chairs\, and blankets are welcome. Both performances will be in an area with some shading\, but audience members should expect exposure to the sun. Please plan accordingly. Restrooms will be available for use at the Minnesota Humanities Event Center. In case of inclement weather\, the performances will be moved indoors to the Minnesota Humanities Event Center. \nThis event is part of MHC’s 2025 summer “Summer on the Lawn” series. \nAbout Open Eye Theatre\nOpen Eye Theatre is nationally recognized for bringing a visual feast of evocative figure theater to the stage. The company’s whimsical yet profound work surprises and delights whether experienced in the company’s historic jewel box theater in Minneapolis or in neighborhoods throughout the Twin Cities with the Driveway Tour. From experimental object works to puppet shows in backyards to community pageants to miniature spectacles\, Open Eye consistently creates a unique\, contagious exchange between artists and audiences. \nAbout Rose Lani and The Rosies Posies\nRose Lani is a children’s musician who combines her love for music & literacy with children of all ages! She delights kids and families with her ‘ukulele and fun\, original songs which promote learning\, positivity\, and community. \nMusician friends Caitlin Halmrast Lucic and Miz Kathleen are The Rosie Posies\, who bring on the energetic beat! Caitlin (on drums and percussion) is a longtime music educator and musician in the Twin Cities and beyond. Miz Kathleen (on electric bass) is a Saint Paul librarian who performs music in libraries and other venues. \nWith upbeat and positive original songs\, plus new spins on traditional tunes\, Rose Lani and The Rosie Posies can’t wait to music-a-long with you! \nRegistration\nRegistration is encouraged but not required. There is no cost to attend. \nRegistration Questions: registrations@mnhum.org \nRegister Now
URL:https://www.mnhum.org/event/summer-on-the-lawn-puppets-performance/
LOCATION:Minnesota Humanities Event Center\, 987 Ivy Avenue East\, Saint Paul\, MN\, 55106\, United States
CATEGORIES:Free,Kid Friendly,Public Programming,Summer on the Lawn
ATTACH;FMTTYPE=image/png:https://www.mnhum.org/wp-content/uploads/2025/06/event_summer_lawn_puppets_performance_2025.png
ORGANIZER;CN="Colin Nelson-Dusek":MAILTO:colin@mnhum.org
END:VEVENT
END:VCALENDAR