BEGIN:VCALENDAR
VERSION:2.0
PRODID:-//Minnesota Humanities Center - ECPv6.15.20//NONSGML v1.0//EN
CALSCALE:GREGORIAN
METHOD:PUBLISH
X-WR-CALNAME:Minnesota Humanities Center
X-ORIGINAL-URL:https://www.mnhum.org
X-WR-CALDESC:Events for Minnesota Humanities Center
REFRESH-INTERVAL;VALUE=DURATION:PT1H
X-Robots-Tag:noindex
X-PUBLISHED-TTL:PT1H
BEGIN:VTIMEZONE
TZID:America/Chicago
BEGIN:DAYLIGHT
TZOFFSETFROM:-0600
TZOFFSETTO:-0500
TZNAME:CDT
DTSTART:20210314T080000
END:DAYLIGHT
BEGIN:STANDARD
TZOFFSETFROM:-0500
TZOFFSETTO:-0600
TZNAME:CST
DTSTART:20211107T070000
END:STANDARD
BEGIN:DAYLIGHT
TZOFFSETFROM:-0600
TZOFFSETTO:-0500
TZNAME:CDT
DTSTART:20220313T080000
END:DAYLIGHT
BEGIN:STANDARD
TZOFFSETFROM:-0500
TZOFFSETTO:-0600
TZNAME:CST
DTSTART:20221106T070000
END:STANDARD
BEGIN:DAYLIGHT
TZOFFSETFROM:-0600
TZOFFSETTO:-0500
TZNAME:CDT
DTSTART:20230312T080000
END:DAYLIGHT
BEGIN:STANDARD
TZOFFSETFROM:-0500
TZOFFSETTO:-0600
TZNAME:CST
DTSTART:20231105T070000
END:STANDARD
BEGIN:DAYLIGHT
TZOFFSETFROM:-0600
TZOFFSETTO:-0500
TZNAME:CDT
DTSTART:20240310T080000
END:DAYLIGHT
BEGIN:STANDARD
TZOFFSETFROM:-0500
TZOFFSETTO:-0600
TZNAME:CST
DTSTART:20241103T070000
END:STANDARD
END:VTIMEZONE
BEGIN:VEVENT
DTSTART;TZID=America/Chicago:20230125T173000
DTEND;TZID=America/Chicago:20230125T193000
DTSTAMP:20260419T110032
CREATED:20221208T215824Z
LAST-MODIFIED:20230118T143634Z
UID:10000333-1674667800-1674675000@www.mnhum.org
SUMMARY:Online - Woman Life Freedom (3 part series)
DESCRIPTION:Illustration by Roshi Rouzbehani \n*$30 is the fee for all three sessions. Participants must attend all three sessions. \nThis winter\, MHC will be hosting a timely virtual course\, Woman\, Life\, Freedom: The Iranian Women’s Revolution in Transnational Context\, with Dr. Yalda Hamidi from Minnesota State University-Mankato. The Iranian Feminist Movement of the moment is the first female-led movement in the Middle East and the world\, which received global support and transnational solidarities\, and incited several national and regional feminist resistance movements in Afghanistan\, Turkey\, India\, and more. Understanding this movement can change our knowledge of the “other women” and how we perceive them in America and will challenge how we locate our feminist demand here in Minnesota. \nThis virtual course will meet for three weeks\, and participants will learn more about Iranian history and culture\, women’s rights in Iran\, and the current women’s revolution\, using pre-assigned readings and primary resources to guide their discussions. Key speakers will also be involved in each session to contribute their perspectives and engage participants in conversation. \nYalda Hamidi (She/Her/Hers) is an Assistant Professor of Gender and Women’s Studies at Minnesota State University Mankato and a member of the Ms. Committee of Scholars. She identifies as a teacher\, mentor\, storyteller\, sister\, and auntie. At MNSU Mankato\, Yalda teaches transnational feminism\, feminist pedagogy\, and queer identities courses. In her research\, she writes about the importance of politics of location for understanding the feminism/s of non-white and non-Western women. Yalda’s non-academic work strives to share the stories of Iranian women championing and fighting intersectional systems of oppression.  \nView Full Bio \nSchedule:\nJanuary 18\, 2023 – 5:30-7:30 p.m.\nJanuary 25\, 2023 – 5:30-7:30 p.m.\nFebruary 1\, 2023 – 5:30-7:30 p.m. \nRegistration\n*$30 is the fee for all three sessions. If cost is a barrier\, please contact Jessica Rust at jessica@mnhum.org. \nParticipants must attend all three sessions. Educators will receive 6 CEUs for this course. All are welcome to participate. \nRegistration Questions: registrations@mnhum.org | MHC Cancellation Policy \nREGISTRATION FOR THIS EVENT HAS CLOSED
URL:https://www.mnhum.org/event/online-woman-life-freedom/2023-01-25/
LOCATION:Online
CATEGORIES:Civic Renewal,Many Fronts,Professional Development,Public Programming,Public Programs
ATTACH;FMTTYPE=image/jpeg:https://www.mnhum.org/wp-content/uploads/2022/12/event_woman_life_freedom.jpg
ORGANIZER;CN="Corey China":MAILTO:corey@mnhum.org
END:VEVENT
BEGIN:VEVENT
DTSTART;TZID=America/Chicago:20230118T173000
DTEND;TZID=America/Chicago:20230118T193000
DTSTAMP:20260419T110032
CREATED:20221208T215824Z
LAST-MODIFIED:20230118T143634Z
UID:10000332-1674063000-1674070200@www.mnhum.org
SUMMARY:Online - Woman Life Freedom (3 part series)
DESCRIPTION:Illustration by Roshi Rouzbehani \n*$30 is the fee for all three sessions. Participants must attend all three sessions. \nThis winter\, MHC will be hosting a timely virtual course\, Woman\, Life\, Freedom: The Iranian Women’s Revolution in Transnational Context\, with Dr. Yalda Hamidi from Minnesota State University-Mankato. The Iranian Feminist Movement of the moment is the first female-led movement in the Middle East and the world\, which received global support and transnational solidarities\, and incited several national and regional feminist resistance movements in Afghanistan\, Turkey\, India\, and more. Understanding this movement can change our knowledge of the “other women” and how we perceive them in America and will challenge how we locate our feminist demand here in Minnesota. \nThis virtual course will meet for three weeks\, and participants will learn more about Iranian history and culture\, women’s rights in Iran\, and the current women’s revolution\, using pre-assigned readings and primary resources to guide their discussions. Key speakers will also be involved in each session to contribute their perspectives and engage participants in conversation. \nYalda Hamidi (She/Her/Hers) is an Assistant Professor of Gender and Women’s Studies at Minnesota State University Mankato and a member of the Ms. Committee of Scholars. She identifies as a teacher\, mentor\, storyteller\, sister\, and auntie. At MNSU Mankato\, Yalda teaches transnational feminism\, feminist pedagogy\, and queer identities courses. In her research\, she writes about the importance of politics of location for understanding the feminism/s of non-white and non-Western women. Yalda’s non-academic work strives to share the stories of Iranian women championing and fighting intersectional systems of oppression.  \nView Full Bio \nSchedule:\nJanuary 18\, 2023 – 5:30-7:30 p.m.\nJanuary 25\, 2023 – 5:30-7:30 p.m.\nFebruary 1\, 2023 – 5:30-7:30 p.m. \nRegistration\n*$30 is the fee for all three sessions. If cost is a barrier\, please contact Jessica Rust at jessica@mnhum.org. \nParticipants must attend all three sessions. Educators will receive 6 CEUs for this course. All are welcome to participate. \nRegistration Questions: registrations@mnhum.org | MHC Cancellation Policy \nREGISTRATION FOR THIS EVENT HAS CLOSED
URL:https://www.mnhum.org/event/online-woman-life-freedom/2023-01-18/
LOCATION:Online
CATEGORIES:Civic Renewal,Many Fronts,Professional Development,Public Programming,Public Programs
ATTACH;FMTTYPE=image/jpeg:https://www.mnhum.org/wp-content/uploads/2022/12/event_woman_life_freedom.jpg
ORGANIZER;CN="Corey China":MAILTO:corey@mnhum.org
END:VEVENT
BEGIN:VEVENT
DTSTART;TZID=America/Chicago:20221210T140000
DTEND;TZID=America/Chicago:20221210T160000
DTSTAMP:20260419T110032
CREATED:20221109T211519Z
LAST-MODIFIED:20250620T132134Z
UID:10000325-1670680800-1670688000@www.mnhum.org
SUMMARY:St. Paul - Minnesota Writers Series: The Latitude of a Mercy
DESCRIPTION:Poet Stefan Lovasik is the next featured author in our new Minnesota Writers Series. Lovasik\, a Viet Nam combat veteran\, has published three poetry collections. His most recent\, The Latitude of a Mercy\, was published by New York Quarterly Books. His work has appeared in national magazines such as American Literary Review\, Consequence and New York Quarterly. He is a facilitator for Warrior Writers-Twin Cities and a staff editor for Pedestal Magazine. Lovasik’s work brings into striking focus the landscape of war; the lasting physical\, moral and psychological consequences of it; and the resilience of the human spirit. He will discuss his latest collection\, the power of writing as a tool for healing\, and his work on his upcoming memoir. Introducing the poet and doing her own reading will be fellow Veteran Chante Wolfe\, who is part of a Warriors Writers group with Lovasik. \nCo-sponsored by Veterans For Peace. \nRegistration\nThis event is free\, but registration is required. \nREGISTRATION FOR THIS EVENT HAS CLOSED
URL:https://www.mnhum.org/event/mn-writers-series-latitude-mercy/
LOCATION:Minnesota Humanities Event Center\, 987 Ivy Avenue East\, Saint Paul\, MN\, 55106\, United States
CATEGORIES:Books, Poetry, and Literature,Free,Many Fronts,Minnesota Writers Series,Public Programming,Public Programs
ATTACH;FMTTYPE=image/png:https://www.mnhum.org/wp-content/uploads/2022/11/event_mn_writers_series_latitude.png
ORGANIZER;CN="Corey China":MAILTO:corey@mnhum.org
END:VEVENT
BEGIN:VEVENT
DTSTART;TZID=America/Chicago:20221105T103000
DTEND;TZID=America/Chicago:20221105T123000
DTSTAMP:20260419T110032
CREATED:20220914T210840Z
LAST-MODIFIED:20250620T132640Z
UID:10000320-1667644200-1667651400@www.mnhum.org
SUMMARY:St. Paul - Objects of War: A Storytelling Circle
DESCRIPTION:Join the Minnesota Humanities Center on Saturday\, November 5 at 10:30 a.m. for a storytelling circle centered around “Objects of War.” Whether dog tags of a family member lost in service\, a good luck charm kept by a soldier\, or a family heirloom that traveled across the world by a refugee\, objects can hold deep meaning for those who have been impacted by war.  \nParticipants are invited to bring their own object to share that helps them tell the story of their own connection to war\, whether direct or indirect. Moderated by a Veteran and a refugee\, the conversation will examine why we hold on to certain material objects\, and how they can help us better understand the human experience of war. Noted photographer Xavier Tavera will be on hand to photograph interested participants with their objects. Co-sponsored by the Minnesota Historical Society and the Minnesota Assistance Council for Veterans. \nRegistration\nRegistration is required for this free event. Open to the public; lunch will be provided.  \nREGISTRATION FOR THIS EVENT HAS CLOSED
URL:https://www.mnhum.org/event/st-paul-objects-of-war/
LOCATION:Minnesota Humanities Event Center\, 987 Ivy Avenue East\, Saint Paul\, MN\, 55106\, United States
CATEGORIES:Free,Many Fronts,Public Programs,Refugees,Veterans
ATTACH;FMTTYPE=image/png:https://www.mnhum.org/wp-content/uploads/2022/09/event_objects_of_war.png
ORGANIZER;CN="Colin Nelson-Dusek":MAILTO:colin@mnhum.org
END:VEVENT
BEGIN:VEVENT
DTSTART;TZID=America/Chicago:20221020T180000
DTEND;TZID=America/Chicago:20221020T200000
DTSTAMP:20260419T110032
CREATED:20220913T171445Z
LAST-MODIFIED:20250620T132631Z
UID:10000318-1666288800-1666296000@www.mnhum.org
SUMMARY:St. Paul - Armed With Language: Film Talk
DESCRIPTION:In the height of WWII\, Historic Ft. Snelling was home to a little-known Military Intelligence Service Language School (MISLS). Thousands of Nisei men and women (second generation Japanese Americans) were trained as linguists and translators and played a crucial role in helping the U.S. to end the war. They served in the U.S. military despite the fact that tens of thousands of Americans of Japanese descent were being imprisoned in concentration camps for the supposed security risk they posed to the country.  \nTheir story is shared in the 2021 TPT documentary\, Armed With Language. Join producer Katie O’Rourke as she engages the film’s writer David Mura\, and Karen Tanaka Lucas who is featured in the film\, in a reflective conversation\, a year on from its debut. Along with viewing some of the film footage\, Katie\, David and Karen will explore why this history has remained so hidden from public knowledge\, their personal stories and connections with MISLS\, and the complicated histories that intertwine at the site of Historic Ft. Snelling. The conversation will end with a Q&A session with audience members.  \nHosted by Historic Ft. Snelling\, in partnership with the Minnesota Historical Society\, TPT Twin Cities\, and the Twin Cities Chapter of the Japanese American Citizens League (JACL). This is a free event. \nRegistration\nDoors of the Plank Museum and Visitors Center at Historic Fort Snelling will open at 5:15 p.m.; the event will begin at 6:00 p.m.in the Event Space on the second floor; audience members are invited to bring their curiosity and questions to share with the speakers. \nREGISTRATION FOR THIS EVENT HAS CLOSED
URL:https://www.mnhum.org/event/st-paul-armed-with-language/
LOCATION:Plank Museum and Visitors Center at Historic Fort Snelling\, 200 Tower Avenue\, St. Paul\, MN\, 55111\, United States
CATEGORIES:Civic Renewal,Free,Many Fronts,Public Programs,Veterans
ATTACH;FMTTYPE=image/png:https://www.mnhum.org/wp-content/uploads/2022/09/event_armed_language.png
ORGANIZER;CN="Colin Nelson-Dusek":MAILTO:colin@mnhum.org
END:VEVENT
BEGIN:VEVENT
DTSTART;TZID=America/Chicago:20220623T180000
DTEND;TZID=America/Chicago:20220623T200000
DTSTAMP:20260419T110032
CREATED:20220504T023044Z
LAST-MODIFIED:20230606T171354Z
UID:10000248-1656007200-1656014400@www.mnhum.org
SUMMARY:St. Paul – The Impact of War\, Writing Workshops Facilitated by Warrior Writers
DESCRIPTION:Join Warrior Writers for a series of workshops to address the myriad experiences of war for Veterans and non-Veterans through the medium of writing. In these workshops you’ll be putting pen to paper to record feelings\, memories\, traumas\, personal histories or whatever comes to mind in the moment. There is no such thing as correct or polished writing\, and no previous experience is necessary. We’ll help you keep the pen moving! \nAlong with writing\, the workshops will foster positive relationships between those impacted by war\, and develop a deeper understanding and reclaiming of our personal and generational histories. Although the workshops are not therapy\, many find this format to be cathartic and useful in the reintegration into society. Many also find the process insightful and validating as you can make sense out of your experience through writing it down. \nWe recommend participants attend all four sessions if possible. Refreshments will be provided for morning sessions; dinner will be provided for the evening session. \nWarrior Writers is a national non-profit whose mission is to create a culture that articulates veterans’ experiences\, build a collaborative community for artistic expression\, and bear witness to war and the full range of military experiences. \nSchedule\nSaturday\, June 4\, 2022 – 10:00 a.m. – 12:00 p.m. – Session One\nSaturday\, June 11\, 2022 – 10:00 a.m. – 12:00 p.m. – Session Two\nSaturday\, June 18\, 2022 – 10:00 a.m. – 12:00 p.m. – Session Three\nThursday\, June 23\, 2022 – 6:00 p.m. – 8:00 p.m. – Session Four \nRegistration\nRegistration Questions: registrations@mnhum.org | MHC Cancellation Policy \nREGISTRATION FOR THIS EVENT HAS CLOSED
URL:https://www.mnhum.org/event/impact-of-war-writing-workshops/2022-06-23/
LOCATION:Minnesota Humanities Event Center\, 987 Ivy Avenue East\, Saint Paul\, MN\, 55106\, United States
CATEGORIES:Books, Poetry, and Literature,Many Fronts,Refugees,Veterans
ATTACH;FMTTYPE=image/jpeg:https://www.mnhum.org/wp-content/uploads/2022/05/event_impact_war_warrior_writers.jpg
ORGANIZER;CN="Corey China":MAILTO:corey@mnhum.org
END:VEVENT
BEGIN:VEVENT
DTSTART;TZID=America/Chicago:20220618T100000
DTEND;TZID=America/Chicago:20220618T120000
DTSTAMP:20260419T110032
CREATED:20220504T023044Z
LAST-MODIFIED:20230606T171354Z
UID:10000247-1655546400-1655553600@www.mnhum.org
SUMMARY:St. Paul – The Impact of War\, Writing Workshops Facilitated by Warrior Writers
DESCRIPTION:Join Warrior Writers for a series of workshops to address the myriad experiences of war for Veterans and non-Veterans through the medium of writing. In these workshops you’ll be putting pen to paper to record feelings\, memories\, traumas\, personal histories or whatever comes to mind in the moment. There is no such thing as correct or polished writing\, and no previous experience is necessary. We’ll help you keep the pen moving! \nAlong with writing\, the workshops will foster positive relationships between those impacted by war\, and develop a deeper understanding and reclaiming of our personal and generational histories. Although the workshops are not therapy\, many find this format to be cathartic and useful in the reintegration into society. Many also find the process insightful and validating as you can make sense out of your experience through writing it down. \nWe recommend participants attend all four sessions if possible. Refreshments will be provided for morning sessions; dinner will be provided for the evening session. \nWarrior Writers is a national non-profit whose mission is to create a culture that articulates veterans’ experiences\, build a collaborative community for artistic expression\, and bear witness to war and the full range of military experiences. \nSchedule\nSaturday\, June 4\, 2022 – 10:00 a.m. – 12:00 p.m. – Session One\nSaturday\, June 11\, 2022 – 10:00 a.m. – 12:00 p.m. – Session Two\nSaturday\, June 18\, 2022 – 10:00 a.m. – 12:00 p.m. – Session Three\nThursday\, June 23\, 2022 – 6:00 p.m. – 8:00 p.m. – Session Four \nRegistration\nRegistration Questions: registrations@mnhum.org | MHC Cancellation Policy \nREGISTRATION FOR THIS EVENT HAS CLOSED
URL:https://www.mnhum.org/event/impact-of-war-writing-workshops/2022-06-18/
LOCATION:Minnesota Humanities Event Center\, 987 Ivy Avenue East\, Saint Paul\, MN\, 55106\, United States
CATEGORIES:Books, Poetry, and Literature,Many Fronts,Refugees,Veterans
ATTACH;FMTTYPE=image/jpeg:https://www.mnhum.org/wp-content/uploads/2022/05/event_impact_war_warrior_writers.jpg
ORGANIZER;CN="Corey China":MAILTO:corey@mnhum.org
END:VEVENT
BEGIN:VEVENT
DTSTART;TZID=America/Chicago:20220611T100000
DTEND;TZID=America/Chicago:20220611T120000
DTSTAMP:20260419T110032
CREATED:20220504T023044Z
LAST-MODIFIED:20230606T171354Z
UID:10000246-1654941600-1654948800@www.mnhum.org
SUMMARY:St. Paul – The Impact of War\, Writing Workshops Facilitated by Warrior Writers
DESCRIPTION:Join Warrior Writers for a series of workshops to address the myriad experiences of war for Veterans and non-Veterans through the medium of writing. In these workshops you’ll be putting pen to paper to record feelings\, memories\, traumas\, personal histories or whatever comes to mind in the moment. There is no such thing as correct or polished writing\, and no previous experience is necessary. We’ll help you keep the pen moving! \nAlong with writing\, the workshops will foster positive relationships between those impacted by war\, and develop a deeper understanding and reclaiming of our personal and generational histories. Although the workshops are not therapy\, many find this format to be cathartic and useful in the reintegration into society. Many also find the process insightful and validating as you can make sense out of your experience through writing it down. \nWe recommend participants attend all four sessions if possible. Refreshments will be provided for morning sessions; dinner will be provided for the evening session. \nWarrior Writers is a national non-profit whose mission is to create a culture that articulates veterans’ experiences\, build a collaborative community for artistic expression\, and bear witness to war and the full range of military experiences. \nSchedule\nSaturday\, June 4\, 2022 – 10:00 a.m. – 12:00 p.m. – Session One\nSaturday\, June 11\, 2022 – 10:00 a.m. – 12:00 p.m. – Session Two\nSaturday\, June 18\, 2022 – 10:00 a.m. – 12:00 p.m. – Session Three\nThursday\, June 23\, 2022 – 6:00 p.m. – 8:00 p.m. – Session Four \nRegistration\nRegistration Questions: registrations@mnhum.org | MHC Cancellation Policy \nREGISTRATION FOR THIS EVENT HAS CLOSED
URL:https://www.mnhum.org/event/impact-of-war-writing-workshops/2022-06-11/
LOCATION:Minnesota Humanities Event Center\, 987 Ivy Avenue East\, Saint Paul\, MN\, 55106\, United States
CATEGORIES:Books, Poetry, and Literature,Many Fronts,Refugees,Veterans
ATTACH;FMTTYPE=image/jpeg:https://www.mnhum.org/wp-content/uploads/2022/05/event_impact_war_warrior_writers.jpg
ORGANIZER;CN="Corey China":MAILTO:corey@mnhum.org
END:VEVENT
BEGIN:VEVENT
DTSTART;TZID=America/Chicago:20220604T100000
DTEND;TZID=America/Chicago:20220604T120000
DTSTAMP:20260419T110032
CREATED:20220504T023044Z
LAST-MODIFIED:20230606T171354Z
UID:10000245-1654336800-1654344000@www.mnhum.org
SUMMARY:St. Paul – The Impact of War\, Writing Workshops Facilitated by Warrior Writers
DESCRIPTION:Join Warrior Writers for a series of workshops to address the myriad experiences of war for Veterans and non-Veterans through the medium of writing. In these workshops you’ll be putting pen to paper to record feelings\, memories\, traumas\, personal histories or whatever comes to mind in the moment. There is no such thing as correct or polished writing\, and no previous experience is necessary. We’ll help you keep the pen moving! \nAlong with writing\, the workshops will foster positive relationships between those impacted by war\, and develop a deeper understanding and reclaiming of our personal and generational histories. Although the workshops are not therapy\, many find this format to be cathartic and useful in the reintegration into society. Many also find the process insightful and validating as you can make sense out of your experience through writing it down. \nWe recommend participants attend all four sessions if possible. Refreshments will be provided for morning sessions; dinner will be provided for the evening session. \nWarrior Writers is a national non-profit whose mission is to create a culture that articulates veterans’ experiences\, build a collaborative community for artistic expression\, and bear witness to war and the full range of military experiences. \nSchedule\nSaturday\, June 4\, 2022 – 10:00 a.m. – 12:00 p.m. – Session One\nSaturday\, June 11\, 2022 – 10:00 a.m. – 12:00 p.m. – Session Two\nSaturday\, June 18\, 2022 – 10:00 a.m. – 12:00 p.m. – Session Three\nThursday\, June 23\, 2022 – 6:00 p.m. – 8:00 p.m. – Session Four \nRegistration\nRegistration Questions: registrations@mnhum.org | MHC Cancellation Policy \nREGISTRATION FOR THIS EVENT HAS CLOSED
URL:https://www.mnhum.org/event/impact-of-war-writing-workshops/2022-06-04/
LOCATION:Minnesota Humanities Event Center\, 987 Ivy Avenue East\, Saint Paul\, MN\, 55106\, United States
CATEGORIES:Books, Poetry, and Literature,Many Fronts,Refugees,Veterans
ATTACH;FMTTYPE=image/jpeg:https://www.mnhum.org/wp-content/uploads/2022/05/event_impact_war_warrior_writers.jpg
ORGANIZER;CN="Corey China":MAILTO:corey@mnhum.org
END:VEVENT
BEGIN:VEVENT
DTSTART;TZID=America/Chicago:20220331T180000
DTEND;TZID=America/Chicago:20220331T200000
DTSTAMP:20260419T110032
CREATED:20220608T155311Z
LAST-MODIFIED:20220928T192450Z
UID:10000288-1648749600-1648756800@www.mnhum.org
SUMMARY:Minneapolis – Dialogues of War Listening Session: Somali Community (women focused)
DESCRIPTION:Join Marian Hassan for a Community Listening Session\, part of Minnesota Humanities Center’s program\, Dialogues of War. In this facilitated discussion\, participants will be led in meaningful dialogue to connect with others and share their perspectives as relates to their experiences with war and conflict. The Minnesota Humanities Center is committed to engaging audiences in new and deeper understandings of histories\, cultures\, borders\, boundaries\, and identities. We are expanding our understanding of war and conflict to hear how community members and families have been impacted by war whether integenerationally\, through immigration\, or refugee resettlement. \nThis Community Listening Session is being held for women of the Somali community. \nDinner will be provided; spaces are limited and there is no cost to attend this event. Attendees must be able to attend the full 2 hour session. \nRegistration\nRegistration Questions: registrations@mnhum.org \n \nREGISTRATION FOR THIS EVENT HAS CLOSED
URL:https://www.mnhum.org/event/dialogues-of-war-somali-women/
LOCATION:Franklin Library\, 1314 East Franklin Avenue\, Minneapolis\, MN\, 55404\, United States
CATEGORIES:Free,Public Programs,Refugees
ATTACH;FMTTYPE=image/jpeg:https://www.mnhum.org/wp-content/uploads/2022/06/event_dialogues_war_somali_community.jpg
ORGANIZER;CN="Corey China":MAILTO:corey@mnhum.org
END:VEVENT
BEGIN:VEVENT
DTSTART;TZID=America/Chicago:20220224T180000
DTEND;TZID=America/Chicago:20220224T200000
DTSTAMP:20260419T110032
CREATED:20220608T161932Z
LAST-MODIFIED:20230710T205815Z
UID:10000292-1645725600-1645732800@www.mnhum.org
SUMMARY:St. Paul – Dialogues of War Listening Session: Southeast Asian Experience
DESCRIPTION:Join us for Minnesota Humanities Center’s Hmong and Southeast Asian Dialogues of War Community Listening Session. As part of our commitment to build and deepen relationships across the region\, we are engaging audiences in new and deeper understandings of histories and cultures\, borders and boundaries\, and identities\, we are expanding our understanding of war and conflict to hear how community members\, families\, and members of the public have been impacted by war. In doing so\, we are creating a space to hear from those who may not be directly involved with the military\, but who remain affected through their experiences\, whether intergenerationally\, through immigration\, or refugee resettlement. In this facilitated listening session\, participants will be led in a meaningful dialogue to connect with others and share their perspectives. Dinner will be provided; spaces are limited and there is no cost to attend this event. Attendees must be able to attend the full two hour session. \nIn order to provide for social distancing our capacity is limited to 40. For groups of 6 or more please contact Corey China directly to accommodate reserved seating. \nRegistration\nRegistration Deadline Date: Friday\, February 18\, 2022 \nRegistration Questions: registrations@mnhum.org | MHC Cancellation Policy \n \nREGISTRATION FOR THIS EVENT HAS CLOSED
URL:https://www.mnhum.org/event/dialogues-war-southeast-asian/
LOCATION:Minnesota Humanities Event Center\, 987 Ivy Avenue East\, Saint Paul\, MN\, 55106\, United States
CATEGORIES:Public Programs,Refugees
ATTACH;FMTTYPE=image/png:https://www.mnhum.org/wp-content/uploads/2022/06/dialogues_war_se_asian.png
ORGANIZER;CN="Corey China":MAILTO:corey@mnhum.org
END:VEVENT
END:VCALENDAR