BEGIN:VCALENDAR
VERSION:2.0
PRODID:-//Minnesota Humanities Center - ECPv6.15.20//NONSGML v1.0//EN
CALSCALE:GREGORIAN
METHOD:PUBLISH
X-WR-CALNAME:Minnesota Humanities Center
X-ORIGINAL-URL:https://www.mnhum.org
X-WR-CALDESC:Events for Minnesota Humanities Center
REFRESH-INTERVAL;VALUE=DURATION:PT1H
X-Robots-Tag:noindex
X-PUBLISHED-TTL:PT1H
BEGIN:VTIMEZONE
TZID:America/Chicago
BEGIN:DAYLIGHT
TZOFFSETFROM:-0600
TZOFFSETTO:-0500
TZNAME:CDT
DTSTART:20230312T080000
END:DAYLIGHT
BEGIN:STANDARD
TZOFFSETFROM:-0500
TZOFFSETTO:-0600
TZNAME:CST
DTSTART:20231105T070000
END:STANDARD
BEGIN:DAYLIGHT
TZOFFSETFROM:-0600
TZOFFSETTO:-0500
TZNAME:CDT
DTSTART:20240310T080000
END:DAYLIGHT
BEGIN:STANDARD
TZOFFSETFROM:-0500
TZOFFSETTO:-0600
TZNAME:CST
DTSTART:20241103T070000
END:STANDARD
BEGIN:DAYLIGHT
TZOFFSETFROM:-0600
TZOFFSETTO:-0500
TZNAME:CDT
DTSTART:20250309T080000
END:DAYLIGHT
BEGIN:STANDARD
TZOFFSETFROM:-0500
TZOFFSETTO:-0600
TZNAME:CST
DTSTART:20251102T070000
END:STANDARD
END:VTIMEZONE
BEGIN:VEVENT
DTSTART;TZID=America/Chicago:20241113T180000
DTEND;TZID=America/Chicago:20241113T200000
DTSTAMP:20260420T125422
CREATED:20241015T200657Z
LAST-MODIFIED:20250418T142722Z
UID:10000459-1731520800-1731528000@www.mnhum.org
SUMMARY:Minneapolis - Examining Military Service From the Margins
DESCRIPTION:Session 2: How has the military service of certain populations been hidden devalued\, limited\, or discriminated against?\nVeterans\, active service members\, and civilians are invited to contribute to the “Examining Military Service From the Margins” discussion series. Facilitated by pairs of Discussion Leaders\, each session will use guiding questions\, and a set of core-shared resources like oral histories and films\, to better understand how race\, class\, gender\, sexuality\, religion\, and other factors have caused the military service of some individuals to be devalued or limited in some capacity. All Discussion Leaders are either active service members or Veterans.  \nConsideration of central topics and themes\, and discussion of key moments from military history\, such as self-emancipation among the U.S. Colored Troops members in the Civil War\, or the repeal of Don’t Ask Don’t Tell more recently\, will spark greater conversations about service\, democracy\, citizenship\, equality and more. Additional resources will be offered for those with extra time wanting to explore even further. \nSession Two of “Examining Military Service From the Margins” will build upon the discussion from the previous session and consider the guiding question\, “How has the military service of certain populations been hidden\, devalued\, limited\, or discriminated against?”   \nWhat you can expect from this series:\n\nDiscussion Leaders\, Veterans\, active service members\, and civilians will share information on military service\, as well as talk about their personal experiences and perspectives.\nEach session will have a resource list of articles\, books\, and organizations to help you gain a deeper understanding of the issues at hand.\nEngage in small and large group discussions.\n\nRegistration\nRegistration is required. There is no cost to attend; sign up for one or two sessions. \nRegistration Questions: registrations@mnhum.org \nRegister Now
URL:https://www.mnhum.org/event/minneapolis-examining-military-service-from-the-margins-session-2/
LOCATION:Urban Research and Outreach-Engagement Center (UROC)\, 2001 Plymouth Avenue\, Minneapolis\, MN\, 55411\, United States
CATEGORIES:Free,Many Fronts,Public Programming,Veterans
ATTACH;FMTTYPE=image/png:https://www.mnhum.org/wp-content/uploads/2024/03/event_examining_military_service_margins.png
ORGANIZER;CN="Colin Nelson-Dusek":MAILTO:colin@mnhum.org
END:VEVENT
END:VCALENDAR