BEGIN:VCALENDAR
VERSION:2.0
PRODID:-//Minnesota Humanities Center - ECPv6.15.20//NONSGML v1.0//EN
CALSCALE:GREGORIAN
METHOD:PUBLISH
X-ORIGINAL-URL:https://www.mnhum.org
X-WR-CALDESC:Events for Minnesota Humanities Center
REFRESH-INTERVAL;VALUE=DURATION:PT1H
X-Robots-Tag:noindex
X-PUBLISHED-TTL:PT1H
BEGIN:VTIMEZONE
TZID:America/Chicago
BEGIN:DAYLIGHT
TZOFFSETFROM:-0600
TZOFFSETTO:-0500
TZNAME:CDT
DTSTART:20210314T080000
END:DAYLIGHT
BEGIN:STANDARD
TZOFFSETFROM:-0500
TZOFFSETTO:-0600
TZNAME:CST
DTSTART:20211107T070000
END:STANDARD
BEGIN:DAYLIGHT
TZOFFSETFROM:-0600
TZOFFSETTO:-0500
TZNAME:CDT
DTSTART:20220313T080000
END:DAYLIGHT
BEGIN:STANDARD
TZOFFSETFROM:-0500
TZOFFSETTO:-0600
TZNAME:CST
DTSTART:20221106T070000
END:STANDARD
BEGIN:DAYLIGHT
TZOFFSETFROM:-0600
TZOFFSETTO:-0500
TZNAME:CDT
DTSTART:20230312T080000
END:DAYLIGHT
BEGIN:STANDARD
TZOFFSETFROM:-0500
TZOFFSETTO:-0600
TZNAME:CST
DTSTART:20231105T070000
END:STANDARD
END:VTIMEZONE
BEGIN:VEVENT
DTSTART;TZID=America/Chicago:20220601T160000
DTEND;TZID=America/Chicago:20220601T190000
DTSTAMP:20260421T174631
CREATED:20220608T144823Z
LAST-MODIFIED:20220928T191934Z
UID:10000267-1654099200-1654110000@www.mnhum.org
SUMMARY:St. Paul - The Art of Healing and Resilience Through Permaculture
DESCRIPTION:*75 is the fee for all four sessions. Participants are expected to attend all four sessions.  \nIn celebration of May\, Asian American and Pacific Islander Heritage Month\, and the beginning of Minnesota’s planting season\, the Minnesota Humanities Center is collaborating with The SEAD Project (Southeast Asian Diaspora) to provide a cohort interactive learning workshop series based on permaculture\, a philosophy that integrates land\, resources\, people\, culture\, and the environment through mutually beneficial synergies—imitating systems in nature. This unique series was co-created by SEAD Project\, Hindolo Pokawa of Midwest Farmers of Color\, and Southeast Asian community healers. \nLearning outcomes include: \n\n	Introduction to permaculture philosophy and Southeast Asian practices\nCross cultural shared knowledge on sustainable community building and living (individually and collectively) \nHealing and connection through planting\, storytelling\, group reflection\, and community meal sharing\nAwareness of agricultural ecosystems\nGardening and nature tending skills \n\nNo prior gardening experience required. \nEach session includes authentic Southeast Asian cuisine prepared from local vendors\, materials and supplies. \nSchedule\nEach session will be in-person. The first session will be held at The SEAD Project offices in North Minneapolis; remaining sessions will be held at the MHC Event Center (987 Ivy Avenue\, St. Paul\, MN 55106).  Space is limited to a maximum of 40 participants. \nWednesday\, May 25\, 2022 – 3:00p.m. – 7:00p.m. – Session One (SEAD Project offices)\nWednesday\, June 1\, 2022 – 4:00p.m. – 7:00p.m. – Session Two (MHC Event Center)\nWednesday\, June 8\, 2022 – 4:00p.m. – 7:00p.m. – Session Three (MHC Event Center)\nWednesday\, June 15\, 2022 – 4:00p.m. – 7:00p.m. – Session Four (MHC Event Center) \nRegistration\nSpecial Announcement from The SEAD Project for Southeast Asian Community Members: \nThrough The SEAD Project\, limited stipends up to $200 per participant are available for Southeast Asian community members who attend all four sessions to help cover registration fee\, childcare\, transportation\, or other barriers to participation.  For more information regarding The SEAD Project stipends\, please contact The SEAD Project program director Jessica Eckerstorfer at jessica@theseadproject.org.  \nFor participants who don’t qualify for the stipend\, MHC scholarships are available for Minnesota residents. Please contact Jessica Rust at jessica@mnhum.org. \nRegistration Questions: registrations@mnhum.org | MHC Cancellation Policy \n  \nREGISTRATION FOR THIS EVENT HAS CLOSED
URL:https://www.mnhum.org/event/st-paul-the-art-of-healing-and-resilience-through-permaculture/2022-06-01/
LOCATION:Minnesota Humanities Event Center\, 987 Ivy Avenue East\, Saint Paul\, MN\, 55106\, United States
CATEGORIES:Public Programs
ATTACH;FMTTYPE=image/jpeg:https://www.mnhum.org/wp-content/uploads/2022/06/event_art_healing_permaculture.jpg
ORGANIZER;CN="Eden Bart":MAILTO:eden@mnhum.org
END:VEVENT
BEGIN:VEVENT
DTSTART;TZID=America/Chicago:20220608T160000
DTEND;TZID=America/Chicago:20220608T190000
DTSTAMP:20260421T174631
CREATED:20220608T144823Z
LAST-MODIFIED:20220928T191934Z
UID:10000268-1654704000-1654714800@www.mnhum.org
SUMMARY:St. Paul - The Art of Healing and Resilience Through Permaculture
DESCRIPTION:*75 is the fee for all four sessions. Participants are expected to attend all four sessions.  \nIn celebration of May\, Asian American and Pacific Islander Heritage Month\, and the beginning of Minnesota’s planting season\, the Minnesota Humanities Center is collaborating with The SEAD Project (Southeast Asian Diaspora) to provide a cohort interactive learning workshop series based on permaculture\, a philosophy that integrates land\, resources\, people\, culture\, and the environment through mutually beneficial synergies—imitating systems in nature. This unique series was co-created by SEAD Project\, Hindolo Pokawa of Midwest Farmers of Color\, and Southeast Asian community healers. \nLearning outcomes include: \n\n	Introduction to permaculture philosophy and Southeast Asian practices\nCross cultural shared knowledge on sustainable community building and living (individually and collectively) \nHealing and connection through planting\, storytelling\, group reflection\, and community meal sharing\nAwareness of agricultural ecosystems\nGardening and nature tending skills \n\nNo prior gardening experience required. \nEach session includes authentic Southeast Asian cuisine prepared from local vendors\, materials and supplies. \nSchedule\nEach session will be in-person. The first session will be held at The SEAD Project offices in North Minneapolis; remaining sessions will be held at the MHC Event Center (987 Ivy Avenue\, St. Paul\, MN 55106).  Space is limited to a maximum of 40 participants. \nWednesday\, May 25\, 2022 – 3:00p.m. – 7:00p.m. – Session One (SEAD Project offices)\nWednesday\, June 1\, 2022 – 4:00p.m. – 7:00p.m. – Session Two (MHC Event Center)\nWednesday\, June 8\, 2022 – 4:00p.m. – 7:00p.m. – Session Three (MHC Event Center)\nWednesday\, June 15\, 2022 – 4:00p.m. – 7:00p.m. – Session Four (MHC Event Center) \nRegistration\nSpecial Announcement from The SEAD Project for Southeast Asian Community Members: \nThrough The SEAD Project\, limited stipends up to $200 per participant are available for Southeast Asian community members who attend all four sessions to help cover registration fee\, childcare\, transportation\, or other barriers to participation.  For more information regarding The SEAD Project stipends\, please contact The SEAD Project program director Jessica Eckerstorfer at jessica@theseadproject.org.  \nFor participants who don’t qualify for the stipend\, MHC scholarships are available for Minnesota residents. Please contact Jessica Rust at jessica@mnhum.org. \nRegistration Questions: registrations@mnhum.org | MHC Cancellation Policy \n  \nREGISTRATION FOR THIS EVENT HAS CLOSED
URL:https://www.mnhum.org/event/st-paul-the-art-of-healing-and-resilience-through-permaculture/2022-06-08/
LOCATION:Minnesota Humanities Event Center\, 987 Ivy Avenue East\, Saint Paul\, MN\, 55106\, United States
CATEGORIES:Public Programs
ATTACH;FMTTYPE=image/jpeg:https://www.mnhum.org/wp-content/uploads/2022/06/event_art_healing_permaculture.jpg
ORGANIZER;CN="Eden Bart":MAILTO:eden@mnhum.org
END:VEVENT
BEGIN:VEVENT
DTSTART;TZID=America/Chicago:20220615T160000
DTEND;TZID=America/Chicago:20220615T190000
DTSTAMP:20260421T174631
CREATED:20220608T144823Z
LAST-MODIFIED:20220928T191934Z
UID:10000269-1655308800-1655319600@www.mnhum.org
SUMMARY:St. Paul - The Art of Healing and Resilience Through Permaculture
DESCRIPTION:*75 is the fee for all four sessions. Participants are expected to attend all four sessions.  \nIn celebration of May\, Asian American and Pacific Islander Heritage Month\, and the beginning of Minnesota’s planting season\, the Minnesota Humanities Center is collaborating with The SEAD Project (Southeast Asian Diaspora) to provide a cohort interactive learning workshop series based on permaculture\, a philosophy that integrates land\, resources\, people\, culture\, and the environment through mutually beneficial synergies—imitating systems in nature. This unique series was co-created by SEAD Project\, Hindolo Pokawa of Midwest Farmers of Color\, and Southeast Asian community healers. \nLearning outcomes include: \n\n	Introduction to permaculture philosophy and Southeast Asian practices\nCross cultural shared knowledge on sustainable community building and living (individually and collectively) \nHealing and connection through planting\, storytelling\, group reflection\, and community meal sharing\nAwareness of agricultural ecosystems\nGardening and nature tending skills \n\nNo prior gardening experience required. \nEach session includes authentic Southeast Asian cuisine prepared from local vendors\, materials and supplies. \nSchedule\nEach session will be in-person. The first session will be held at The SEAD Project offices in North Minneapolis; remaining sessions will be held at the MHC Event Center (987 Ivy Avenue\, St. Paul\, MN 55106).  Space is limited to a maximum of 40 participants. \nWednesday\, May 25\, 2022 – 3:00p.m. – 7:00p.m. – Session One (SEAD Project offices)\nWednesday\, June 1\, 2022 – 4:00p.m. – 7:00p.m. – Session Two (MHC Event Center)\nWednesday\, June 8\, 2022 – 4:00p.m. – 7:00p.m. – Session Three (MHC Event Center)\nWednesday\, June 15\, 2022 – 4:00p.m. – 7:00p.m. – Session Four (MHC Event Center) \nRegistration\nSpecial Announcement from The SEAD Project for Southeast Asian Community Members: \nThrough The SEAD Project\, limited stipends up to $200 per participant are available for Southeast Asian community members who attend all four sessions to help cover registration fee\, childcare\, transportation\, or other barriers to participation.  For more information regarding The SEAD Project stipends\, please contact The SEAD Project program director Jessica Eckerstorfer at jessica@theseadproject.org.  \nFor participants who don’t qualify for the stipend\, MHC scholarships are available for Minnesota residents. Please contact Jessica Rust at jessica@mnhum.org. \nRegistration Questions: registrations@mnhum.org | MHC Cancellation Policy \n  \nREGISTRATION FOR THIS EVENT HAS CLOSED
URL:https://www.mnhum.org/event/st-paul-the-art-of-healing-and-resilience-through-permaculture/2022-06-15/
LOCATION:Minnesota Humanities Event Center\, 987 Ivy Avenue East\, Saint Paul\, MN\, 55106\, United States
CATEGORIES:Public Programs
ATTACH;FMTTYPE=image/jpeg:https://www.mnhum.org/wp-content/uploads/2022/06/event_art_healing_permaculture.jpg
ORGANIZER;CN="Eden Bart":MAILTO:eden@mnhum.org
END:VEVENT
BEGIN:VEVENT
DTSTART;TZID=America/Chicago:20220616T110000
DTEND;TZID=America/Chicago:20220616T130000
DTSTAMP:20260421T174631
CREATED:20220520T035952Z
LAST-MODIFIED:20250620T132726Z
UID:10000263-1655377200-1655384400@www.mnhum.org
SUMMARY:St. Paul - Lunch and Learn: Juneteenth in Historical Context
DESCRIPTION:The Minnesota Humanities Center\, in partnership with the Minnesota Association of Black Lawyers\, welcomes the public to a boxed lunch and learn event at Macalester College’s Arts Commons on “Juneteenth in Historical Context.” Scholar Angela Tate\, curator of Women’s History at Smithsonian National Museum of African American History and Culture\, will provide an in-depth background on: the history and significance of Juneteenth\, how celebrations differ across the Black diaspora\, the holiday’s recent reemergence\, and how Juneteenth fits into the long civil rights movement. Professor Duchess Harris (Macalester College) will moderate a discussion.  \nRegistration\nRegistration is required. Please select whether you will be attending the in person lunch and learn or joining the virtual talk only.  \nREGISTRATION FOR THIS EVENT HAS CLOSED
URL:https://www.mnhum.org/event/st-paul-lunch-and-learn-juneteenth-in-historical-context/
LOCATION:Janet Wallace Fine Arts Center\, 130 South Macalester Street\, Saint Paul\, MN\, 55105\, United States
CATEGORIES:Free,Juneteenth,Public Programs
ATTACH;FMTTYPE=image/jpeg:https://www.mnhum.org/wp-content/uploads/2022/05/event_juneteenth.jpg
ORGANIZER;CN="Casey DeMarais":MAILTO:casey@mnhum.org
END:VEVENT
BEGIN:VEVENT
DTSTART;TZID=America/Chicago:20220617T083000
DTEND;TZID=America/Chicago:20220617T103000
DTSTAMP:20260421T174631
CREATED:20220522T130219Z
LAST-MODIFIED:20250620T132727Z
UID:10000264-1655454600-1655461800@www.mnhum.org
SUMMARY:St. Paul - Juneteenth Breakfast
DESCRIPTION:Join the Minnesota Humanities Center for a Juneteenth breakfast. Musical guest Jevetta Steele will perform\, followed by a talk by Angela Tate\, curator of women’s history at the Smithsonian’s National Museum of African American History and Culture\, who will highlight the role of women\, and in particular Black sororities\, in upholding Juneteenth traditions nationwide. Professor Duchess Harris will moderate a discussion.  \nRegistration\nREGISTRATION FOR THIS EVENT HAS CLOSED
URL:https://www.mnhum.org/event/st-paul-juneteenth-breakfast/
LOCATION:Minnesota Humanities Event Center\, 987 Ivy Avenue East\, Saint Paul\, MN\, 55106\, United States
CATEGORIES:Juneteenth,Public Programs
ATTACH;FMTTYPE=image/png:https://www.mnhum.org/wp-content/uploads/2022/05/event_juneteenth_breakfast.png
ORGANIZER;CN="Corey China":MAILTO:corey@mnhum.org
END:VEVENT
BEGIN:VEVENT
DTSTART;TZID=America/Chicago:20220617T100000
DTEND;TZID=America/Chicago:20220617T120000
DTSTAMP:20260421T174631
CREATED:20220504T051656Z
LAST-MODIFIED:20230712T140759Z
UID:10000254-1655460000-1655467200@www.mnhum.org
SUMMARY:Golden Valley - Kumbayah The Juneteenth Story (Morning Performance)
DESCRIPTION:In 2021\, Juneteenth was written into law as a national day of observance\, yet many people are unfamiliar with its meaning and the insight it offers in addressing current social injustice. Minnesota Humanities Center is honored to collaborate with Sweet Potato Comfort Pie and community to bring the significance of this day to life. \nKumbayah The Juneteenth Story written by Rose McGee is a 90-minute fictitious\, two-act play that addresses a factual and traumatic time in our history – when news was deliberately withheld that Black people were no longer to be kept as slaves in this country. Storytelling and music weave together mesmerizing scenes. Although tragedy is depicted\, this play within a play is tremendously uplifting. The story begins with a Prologue set in the early 1800s in a small West African village where a young mother and her small son are being abducted from their home by slave catchers. Act One: Scene One is set in present time in a popular North Minneapolis soul-food restaurant where a group of youths and adults ultimately end up discussing what Juneteenth means. Before long they all agree to attend a play about Juneteenth. The story then shifts into 1863 on the Turner Plantation in Tyler\, Texas with the character Frederick Douglass as Narrator. \nAlthough interpretation is best suited for ages 8 and up\, children of all ages are welcome to attend. \nPerformances are free to attend\, but registration is required. \nRegistration\nRegistration Questions: registrations@mnhum.org \n  \nREGISTRATION FOR THIS EVENT HAS CLOSED
URL:https://www.mnhum.org/event/kumbayah-the-juneteenth-story-morning/
LOCATION:Breck School\, 123 Ottawa Avenue North\, Golden Valley\, MN\, 55422\, United States
CATEGORIES:Free,Immersive Experiences,Juneteenth,Kid Friendly,Kumbayah,Professional Development,Public Programs
ATTACH;FMTTYPE=image/jpeg:https://www.mnhum.org/wp-content/uploads/2023/04/event_kumbayah_juneteenth.jpg
ORGANIZER;CN="Rose McGee":MAILTO:rose@mnhum.org
END:VEVENT
BEGIN:VEVENT
DTSTART;TZID=America/Chicago:20220617T173000
DTEND;TZID=America/Chicago:20220617T210000
DTSTAMP:20260421T174631
CREATED:20220504T051118Z
LAST-MODIFIED:20230712T140824Z
UID:10000253-1655487000-1655499600@www.mnhum.org
SUMMARY:Golden Valley – Kumbayah The Juneteenth Story (Reception and Evening Performance)
DESCRIPTION:In 2021\, Juneteenth was written into law as a national day of observance\, yet many people are unfamiliar with its meaning and the insight it offers in addressing current social injustice. Minnesota Humanities Center is honored to collaborate with Sweet Potato Comfort Pie and community to bring the significance of this day to life. \nKumbayah The Juneteenth Story written by Rose McGee is a 90-minute fictitious\, two-act play that addresses a factual and traumatic time in our history – when news was deliberately withheld that Black people were no longer to be kept as slaves in this country. Storytelling and music weave together mesmerizing scenes. Although tragedy is depicted\, this play within a play is tremendously uplifting. The story begins with a Prologue set in the early 1800s in a small West African village where a young mother and her small son are being abducted from their home by slave catchers. Act One: Scene One is set in present time in a popular North Minneapolis soul-food restaurant where a group of youths and adults ultimately end up discussing what Juneteenth means. Before long they all agree to attend a play about Juneteenth. The story then shifts into 1863 on the Turner Plantation in Tyler\, Texas with the character Frederick Douglass as Narrator. \nAlthough interpretation is best suited for ages 8 and up\, children of all ages are welcome to attend. A special reception with light refreshments and emphasis on the significance of voting precedes the 7:00 p.m. show from 5:30 p.m. to 6:50 p.m. \nPerformances are free to attend\, but registration is required. \nRegistration\nRegistration Questions: registrations@mnhum.org \n  \nREGISTRATION FOR THIS EVENT HAS CLOSED
URL:https://www.mnhum.org/event/kumbayah-the-juneteenth-story-evening/
LOCATION:Breck School\, 123 Ottawa Avenue North\, Golden Valley\, MN\, 55422\, United States
CATEGORIES:Free,Immersive Experiences,Juneteenth,Kid Friendly,Kumbayah,Professional Development,Public Programs
ATTACH;FMTTYPE=image/jpeg:https://www.mnhum.org/wp-content/uploads/2023/04/event_kumbayah_juneteenth.jpg
ORGANIZER;CN="Rose McGee":MAILTO:rose@mnhum.org
END:VEVENT
BEGIN:VEVENT
DTSTART;TZID=America/Chicago:20220621T190000
DTEND;TZID=America/Chicago:20220621T203000
DTSTAMP:20260421T174631
CREATED:20220522T132533Z
LAST-MODIFIED:20250620T131720Z
UID:10000265-1655838000-1655843400@www.mnhum.org
SUMMARY:St. Paul – Minnesota Writers Series: We Are Meant to Rise
DESCRIPTION:Join the Minnesota Humanities Center (MHC) for readings and an interactive round table discussion around the book\, “We Are Meant to Rise: Voices for Justice from Minneapolis to the World\,” which was published by University of Minnesota Press with More Than a Single Story. \nThe book’s editors\, Carolyn Holbrook and David Mura\, will be joined by contributors Anika Fajardo\, Samantha Sencer-Mura\, Suleiman Adan\, and Tess Montgomery\, to discuss the heavy task of writing about the past few years as writers of color\, from COVID-19 and the rise of anti-Asian hate crimes to the community’s response to the murder of George Floyd.  The panel\, which includes two sets of family members\, will also discuss how we talk about trauma and share stories generationally. Audience members will be invited to join in on the conversation at various points in the evening. \nThis event is part of the MHC’s new Minnesota Writers Series\, which amplifies recent publications from Minnesota authors\, and is being co-sponsored by Saint Paul Almanac. \nThis event is free but registration is required. \nRegistration\nRegistration Questions: registrations@mnhum.org  \n  \nREGISTRATION FOR THIS EVENT HAS CLOSED
URL:https://www.mnhum.org/event/we-are-meant-to-rise/
LOCATION:Minnesota Humanities Event Center\, 987 Ivy Avenue East\, Saint Paul\, MN\, 55106\, United States
CATEGORIES:Books, Poetry, and Literature,Free,Minnesota Writers Series,Public Programs
ATTACH;FMTTYPE=image/png:https://www.mnhum.org/wp-content/uploads/2022/05/event_we_are_meant_to_rise.png
ORGANIZER;CN="Corey China":MAILTO:corey@mnhum.org
END:VEVENT
END:VCALENDAR