BEGIN:VCALENDAR
VERSION:2.0
PRODID:-//Minnesota Humanities Center - ECPv6.15.20//NONSGML v1.0//EN
CALSCALE:GREGORIAN
METHOD:PUBLISH
X-WR-CALNAME:Minnesota Humanities Center
X-ORIGINAL-URL:https://www.mnhum.org
X-WR-CALDESC:Events for Minnesota Humanities Center
REFRESH-INTERVAL;VALUE=DURATION:PT1H
X-Robots-Tag:noindex
X-PUBLISHED-TTL:PT1H
BEGIN:VTIMEZONE
TZID:America/Chicago
BEGIN:DAYLIGHT
TZOFFSETFROM:-0600
TZOFFSETTO:-0500
TZNAME:CDT
DTSTART:20220313T080000
END:DAYLIGHT
BEGIN:STANDARD
TZOFFSETFROM:-0500
TZOFFSETTO:-0600
TZNAME:CST
DTSTART:20221106T070000
END:STANDARD
BEGIN:DAYLIGHT
TZOFFSETFROM:-0600
TZOFFSETTO:-0500
TZNAME:CDT
DTSTART:20230312T080000
END:DAYLIGHT
BEGIN:STANDARD
TZOFFSETFROM:-0500
TZOFFSETTO:-0600
TZNAME:CST
DTSTART:20231105T070000
END:STANDARD
BEGIN:DAYLIGHT
TZOFFSETFROM:-0600
TZOFFSETTO:-0500
TZNAME:CDT
DTSTART:20240310T080000
END:DAYLIGHT
BEGIN:STANDARD
TZOFFSETFROM:-0500
TZOFFSETTO:-0600
TZNAME:CST
DTSTART:20241103T070000
END:STANDARD
END:VTIMEZONE
BEGIN:VEVENT
DTSTART;TZID=America/Chicago:20230504T180000
DTEND;TZID=America/Chicago:20230504T200000
DTSTAMP:20260421T014613
CREATED:20230215T143345Z
LAST-MODIFIED:20230606T192030Z
UID:10000285-1683223200-1683230400@www.mnhum.org
SUMMARY:St. Paul - Feeding Our Souls: The Essence of Asian Joy
DESCRIPTION:Join us as we commemorate Asian Cultural Heritage Month in May through food. Award-winning Chef Ann Ahmed\, owner of Lat14 and Khâluna Restaurants\, will prepare a few of her own authentic dishes. Anh-Hoa Nguyen\, cultural food artist\, poet\, community activist\, and educator will take audiences on a tasting journey of “rice.” These comfort foods will be served through Chef Ann and Anh-Hoa’s experiences from the richness of diverse Asian cultures. Special storytelling by award-winning artist and comedian Tou Ger Xiong. Participants will partake in the variety of flavors through “taste circles” and share memories of food from their own experiences. \nÁnh-Hoa Thị Nguyễn\, MFA is a refugee\, poet\, community artist\, curator\, educator and food scholar/writer. In 2018\, she was the artist-in-residence for The Floating Library with her project Waves Enfolding: A Paper Memorial that honored lives lost during the Vietnamese refugee waves of 1954 and after the war in Vietnam and South East Asia\, 1975-1992. Her most recent publication is a food essay titled Buy 10 Get 1 Free! Open Letter to Bánh Mì Wanna Be’s in “What We Hunger For: Refugee and Immigrant Stories about Food and Family” edited by Sun Yung Shin 신 선 영. Inspired by “What We Hunger For” Ánh-Hoa was also the artist-in-residence for Saint Paul Public Library’s 2022 Read Brave program where she created and curated an interactive community art installation called Recipes for Care that invited community members to share “recipes that ignite\, shape\, and support a community of care in their lives.” Ánh-Hoa is currently working on a food memoir with the Minnesota Historical Society Press and is a member of She Who Has No Master(s)\, a collective of women and gender-nonconforming writers of the Vietnamese diaspora. \nTou Ger Xiong (TOO-JUR-SHONG) was born in Laos in 1973. Since Xiong’s father served with the CIA\, his family had to flee Laos after the communist takeover in 1975. Xiong’s family escaped across the border and sought refuge in a Thai refugee camp. After four years in the camp\, Xiong’s family immigrated to the United States as refugees of war. Xiong’s childhood in America began in the public housing projects of St. Paul. In 1992\, Xiong graduated valedictorian from Humboldt High School. He went on to receive a degree in political science from Carleton College in Northfield\, Minn. In 1996\, Xiong created Project Respectism\, an educational service project that uses comedy\, storytelling and rap music to bridge cultures and generations. Since then\, Project Respectism has evolved into a program that provides cultural entertainment and education for people of all professions and backgrounds. Xiong has taken his message about respect to 44 states in the past 12 years. He has given over 1\,600 presentations nationwide to audiences of all ages and ethnic backgrounds\, sometimes reaching as many as 10\,000 people in a week.  Xiong’s work as a Hmong artist and activist has been featured on national television\, radio and newspaper. He has been quoted as “one of the most influential Hmong in America today.” \nChef Ann Ahmed’s love for cooking started at a very young age\, working in the kitchen alongside her mother whenever she could. She and her family left her birth country of Laos when Ann was two years old. They lived in a Thai refugee camp until she was four\, at which point they were sponsored by her great uncle to come live with him in Minnesota\, which has been home ever since.  Upon their arrival\, her mother took multiple jobs to support their family. Because of her mom’s busy schedule\, Ann rarely had time to spend with her\, so whenever she was home\, Ann was glued to her mother’s side\, especially in the kitchen! This is where Ann’s love of cooking began.  After graduating from high school\, Ann shared with her mother her dream of owning a restaurant. She rejected the idea\, explaining why life in the restaurant industry can be very difficult. Instead\, she suggested Ann go to college and get a degree – in anything except culinary studies.  As such\, Ann moved to San Diego and attended San Diego State University\, where she later earned a BA in Liberal Studies.  One day\, out of the blue\, her mother called – she had gone on a walk that morning\, saw a restaurant for sale\, and asked if Ann would be interested. Of course\, Ann instantly said YES! Ann’s mother was planning to attend Ann’s commencement that week\, and instead\, headed to the bank to start the process of buying the restaurant which is now Lemon Grass. \nThirteen years later\, Ann opened her second restaurant\, Lat14 Asian Eatery; inspired by her love of food and desire to share culture. Mostly\, she wanted to cook the food that brings people together around the table. Lat14 Asian Eatery provides diners the opportunity to eat their way along the exciting\, diverse 14th parallel – without the long airplane trip. Small\, shareable plates are inspired by Chef Ann Ahmed’s connections to Laos\, Thailand\, Cambodia\, Philippines\, and their neighboring countries\, bringing their flavorful cuisines\, ingredients\, and cultural traditions\, to deliver an exceptional culinary experience. \nRegistration\nIf cost is a barrier\, please contact Jessica Rust at jessica@mnhum.org before registering. Due to the focus of this program\, the fee is waived for Asian community members residing in Minnesota. You are invited to register with promo code COMMUNITY23. \nRegistration Questions: registrations@mnhum.org | MHC Cancellation Policy \nREGISTRATION FOR THIS EVENT HAS CLOSED
URL:https://www.mnhum.org/event/feeding-our-souls-asian-joy/
LOCATION:Minnesota Humanities Event Center\, 987 Ivy Avenue East\, Saint Paul\, MN\, 55106\, United States
CATEGORIES:Cultural Harmony,Feeding Our Souls,Immersive Experiences,Public Programs
ATTACH;FMTTYPE=image/png:https://www.mnhum.org/wp-content/uploads/2023/02/event_feeding_our_souls_asian_joy.png
ORGANIZER;CN="Rose McGee":MAILTO:rose@mnhum.org
END:VEVENT
BEGIN:VEVENT
DTSTART;TZID=America/Chicago:20230506T120000
DTEND;TZID=America/Chicago:20230506T160000
DTSTAMP:20260421T014613
CREATED:20230328T140340Z
LAST-MODIFIED:20250620T132700Z
UID:10000351-1683374400-1683388800@www.mnhum.org
SUMMARY:St. Paul - Children's Book Week Celebration
DESCRIPTION:Children’s literature is one of the first ways in which storytelling makes an impact in young humans’ lives\, teaching them about the world they live in and the power of their own imagination\, and celebrating what makes us all both similar and unique. Join the Minnesota Humanities Center for a celebration on the lawn honoring Children’s Book Week\, with guest author readings\, book art workshops\, story walks\, games\, crafts\, book sales\, food trucks\, and special giveaways. Authors and book illustrators joining include Diane Wilson\, Sun Yung Shin 신 선 영\, Shannon Gibney\, John Coy\, Marian Hassan\, Magdalena Mora\, Remona Htoo\, and Dr. Artika Tyner. ARTrageous will also be setting up a Creation Station for kids and kids at heart to make their own bookmarks\, and Babycakes Book Stack bus will also be on site selling books. In partnership with Diverse Reads and AMPACT. \nStory Time Schedule\n12:00 p.m. – My Daddy Tells Me with Thuba Nguyen\n12:30 p.m. – Somali folktales with Marian Hassan\n1:00 p.m. – Magdalena Mora\n1:30 p.m. – My Little Legs with Remona Htoo\n2:00 p.m. – Where We Come From with John Coy\, Shannon Gibney\, Sun Yung Shin\, and Diane Wilson\n2:30 p.m. – Sam and the Incredible African and American Food Fight with Shannon Gibney\n3:00 p.m. – Joey and Grandpa Johnson’s Day in Rondo with Dr. Artika Tyner \nRegistration\nRegistration is appreciated but not required for this event. \nRegistration Questions: registrations@mnhum.org | MHC Cancellation Policy \nREGISTRATION FOR THIS EVENT HAS CLOSED
URL:https://www.mnhum.org/event/childrens-book-week-celebration/
LOCATION:Minnesota Humanities Event Center\, 987 Ivy Avenue East\, Saint Paul\, MN\, 55106\, United States
CATEGORIES:Books, Poetry, and Literature,Free,Kid Friendly,Public Programming,Public Programs
ATTACH;FMTTYPE=image/png:https://www.mnhum.org/wp-content/uploads/2023/03/event_childrens_book_week.png
ORGANIZER;CN="Colin Nelson-Dusek":MAILTO:colin@mnhum.org
END:VEVENT
BEGIN:VEVENT
DTSTART;TZID=America/Chicago:20230513T090000
DTEND;TZID=America/Chicago:20230513T120000
DTSTAMP:20260421T014613
CREATED:20230303T151949Z
LAST-MODIFIED:20230711T201355Z
UID:10000345-1683968400-1683979200@www.mnhum.org
SUMMARY:St. Paul - Headscarf Story Circle: The Gift
DESCRIPTION:The Minnesota Humanities Center (MHC) is excited to host Headscarf Story Circle – a series of four offerings that recognizes the strength and resiliency of women. Join us as we gather together through the shared connection of the headscarf and its complexity. Events feature engaging activities that inspire perseverance\, hope and healing. Guests are encouraged to wear a headscarf or head dress that is symbolic of anything from a fashion statement\, cultural identity\, health related\, or memories\, and beliefs. \nOur first session\, held in March\, included inspiring stories and conversation over tea. Our second session is centered around “The Gift.” Participants are encouraged to bring an object that is symbolic of their own personal life lesson\, acquired strength\, or journey of resiliency – such as a book\, food item\, photo\, or cultural piece. Or they may choose to offer something intangible such as a song\, poem\, or dance. Each person will share a story of the item they are gifting. Then each listener will select a gift based upon the story that most impacts them. The object itself may be one that is given or can be returned to the owner at the end of the experience. Through the act of gift sharing\, participants will leave feeling connected and uplifted.  \nA breakfast buffet with live music will be available from 8:30-9:00 only. The program will begin at 9:00. \nWe want to thank the following community ambassadors and supporters:\nAfrican American Leadership Forum\, CAPI\, Centro Tyrone Guzman\, Coalition of Asian American Leaders\, Hmong American Partnership\, LatinoLead\, LinkingLeaders\, Minnesota Women’s Press\, Reviving the Islamic Sisterhood for Empowerment\, SEWA (to serve in Hindi)-Asian Indian Family Wellness\, Somali Community Resettlement Services\, Sweet Potato Comfort Pie\, Tiwahe Foundation\, and Women’s Foundation of Minnesota \nRegistration\nTo ensure that cost is not a barrier\, we have a limited number of complimentary spaces available for Minnesota residents. If you would like to receive a complimentary spot\, please register with the promo code FEEWAIVER. \nRegistration Questions: registrations@mnhum.org | MHC Cancellation Policy \nREGISTRATION FOR THIS EVENT HAS CLOSED
URL:https://www.mnhum.org/event/headscarf-story-circle-the-gift/
LOCATION:Minnesota Humanities Event Center\, 987 Ivy Avenue East\, Saint Paul\, MN\, 55106\, United States
CATEGORIES:Cultural Harmony,Headscarf Story Circle,Immersive Experiences,Public Programs
ATTACH;FMTTYPE=image/jpeg:https://www.mnhum.org/wp-content/uploads/2023/03/event_headscarf_story_circle_gift.jpg
ORGANIZER;CN="Eden Bart":MAILTO:eden@mnhum.org
END:VEVENT
BEGIN:VEVENT
DTSTART;TZID=America/Chicago:20230516T143000
DTEND;TZID=America/Chicago:20230516T160000
DTSTAMP:20260421T014613
CREATED:20230426T193429Z
LAST-MODIFIED:20230606T173311Z
UID:10000357-1684247400-1684252800@www.mnhum.org
SUMMARY:Online - True Tuesdays: Youth Voice in Decision-Making with Minnesota Youth Council (MYC)
DESCRIPTION:Did you know that Minnesota youth are the only youth in the nation that have an official voice in legislation? Join us on May 16th to learn about the four key initiatives of the Minnesota Youth Council (MYC) and the work they have done this legislative session in pursuit of a just and equitable Minnesota. \nThe MYC envisions a state that prioritizes the agency and voice of young people from all backgrounds. The MYC is a collaborative of youth leaders that works to amplify the voice and power of their peers across the state of Minnesota. These young leaders are the go-to group in Minnesota for elevating and championing youth voice in decision-making. Members of the MYC are change agents in their communities and across the state\, leading the way with youth-centered systems change. The Council is comprised of 8th-12th graders representing each congressional district in Minnesota and provides guidance to the legislature\, governor\, and Department of Education on issues affecting young people. \nRegistration\nRegistration Questions: registrations@mnhum.org  \nREGISTRATION FOR THIS EVENT HAS CLOSED
URL:https://www.mnhum.org/event/true-tuesdays-youth-voice/
LOCATION:Online
CATEGORIES:Civic Renewal,Free,Online,Public Programs,TRUE Tuesdays
ATTACH;FMTTYPE=image/jpeg:https://www.mnhum.org/wp-content/uploads/2023/04/event_true_tuesday_youth_voice.jpg
ORGANIZER;CN="Jessica Rust":MAILTO:jessica@mnhum.org
END:VEVENT
BEGIN:VEVENT
DTSTART;TZID=America/Chicago:20230520T180000
DTEND;TZID=America/Chicago:20230520T203000
DTSTAMP:20260421T014613
CREATED:20230511T165511Z
LAST-MODIFIED:20230511T165610Z
UID:10000359-1684605600-1684614600@www.mnhum.org
SUMMARY:Minneapolis and Online - Westminster Town Hall Forum: Arc Toward Justice 2023
DESCRIPTION:Join renowned philosopher and social critic Dr. Cornel West and social impact strategist and professional disruptor Ifeoma Ike in Minneapolis in a collaborative event with our partners Westminster Town Hall Forum and Minnesota Association of Black Lawyers. Minnesota Public Radio Host Angela Davis will serve as our moderator for the “ARC Toward Justice” event.  \nWest has written 20 books and he is best known for the classics\, Race Matters and Democracy Matters\, and his memoir\, Brother West: Living and Loving Out Loud. Dr. West’s most recent book\, Black Prophetic Fire\, offers an unflinching look at nineteenth and twentieth-century African American leaders and their visionary legacies. He is the former Professor of the Practice of Public Philosophy at Harvard University and Professor Emeritus at Princeton University. \nIke has co-engineered Just Leadership USA and Mass Bail Out NYC efforts as well as the formation of three congressional caucuses: Caucus on Black Men and Boys\, Caucus on Black Women and Girls\, and Caucus on Black Innovation. As a movement lawyer\, Ike has been a policy advisor regarding human rights violations in Haiti\, mistreatment of Afro-Columbians\, and non-consent medical practices in Africa. \nFollowing the thought-provoking conversation by our celebrated speakers Dr. West and Ms. Ike of telling the truth and bearing witness to love and justice\, attendees will have an opportunity to continue the conversation with fellow attendees to create the beloved community and ensure that the moral arc of the universe continues to bend toward justice.  \nLivestream\nThis event will be available via livestream on May 20 on the Westminster Town Hall Forum website and Facebook page. \nRegistration\nThis event is free and open to all. \nThere is no ticketing or registration. Seating at Westminster is on a first-come\, first seated basis. Doors will open at 5:00 p.m. Music by Singers Of This Age at 5:30 p.m. Forum will begin at 6:00 p.m.
URL:https://www.mnhum.org/event/arc-toward-justice-2023/
LOCATION:Westminster Presbyterian Church\, 1200 Marquette Avenue\, Minneapolis\, MN\, 55403\, United States
CATEGORIES:Civic Renewal,Free,Online,Public Programs
ATTACH;FMTTYPE=image/png:https://www.mnhum.org/wp-content/uploads/2023/05/event_westminster_thf_west_ike.png
END:VEVENT
END:VCALENDAR