BEGIN:VCALENDAR
VERSION:2.0
PRODID:-//Minnesota Humanities Center - ECPv6.15.20//NONSGML v1.0//EN
CALSCALE:GREGORIAN
METHOD:PUBLISH
X-ORIGINAL-URL:https://www.mnhum.org
X-WR-CALDESC:Events for Minnesota Humanities Center
REFRESH-INTERVAL;VALUE=DURATION:PT1H
X-Robots-Tag:noindex
X-PUBLISHED-TTL:PT1H
BEGIN:VTIMEZONE
TZID:America/Chicago
BEGIN:DAYLIGHT
TZOFFSETFROM:-0600
TZOFFSETTO:-0500
TZNAME:CDT
DTSTART:20230312T080000
END:DAYLIGHT
BEGIN:STANDARD
TZOFFSETFROM:-0500
TZOFFSETTO:-0600
TZNAME:CST
DTSTART:20231105T070000
END:STANDARD
BEGIN:DAYLIGHT
TZOFFSETFROM:-0600
TZOFFSETTO:-0500
TZNAME:CDT
DTSTART:20240310T080000
END:DAYLIGHT
BEGIN:STANDARD
TZOFFSETFROM:-0500
TZOFFSETTO:-0600
TZNAME:CST
DTSTART:20241103T070000
END:STANDARD
BEGIN:DAYLIGHT
TZOFFSETFROM:-0600
TZOFFSETTO:-0500
TZNAME:CDT
DTSTART:20250309T080000
END:DAYLIGHT
BEGIN:STANDARD
TZOFFSETFROM:-0500
TZOFFSETTO:-0600
TZNAME:CST
DTSTART:20251102T070000
END:STANDARD
END:VTIMEZONE
BEGIN:VEVENT
DTSTART;TZID=America/Chicago:20240322T080000
DTEND;TZID=America/Chicago:20240322T100000
DTSTAMP:20260420T105038
CREATED:20240227T201752Z
LAST-MODIFIED:20240228T140449Z
UID:10000405-1711094400-1711101600@www.mnhum.org
SUMMARY:St. Paul - Language Centered Care: Through the Lens of Elder Care Services
DESCRIPTION:The Minnesota Humanities Center is excited to host the March installment of the University of St. Thomas Morrison Family College of Health Breakfast Series. This interactive session aims to highlight the critical role of language in caregiving\, particularly in the context of Minnesota’s culturally diverse and aging population. Through authentic stories shared by elders and their caregivers\, spanning diverse familial and institutional contexts\, participants will gain valuable insights into the importance of language in shaping caregiving dynamics. They’ll also receive practical advice on enhancing care practices to better serve Minnesotans while embracing a global perspective on health and healing. \nBreakfast and Networking starts at 8:00 a.m.; program starts promptly at 8:30 a.m. \nRegistration\nAll refunds are available up to 48 hours prior to the event. For questions\, comments\, or order status\, email coh@stthomas.edu and reference your order number. \nRegistration Questions: wholepersonhealth@stthomas.edu \nRegister Now
URL:https://www.mnhum.org/event/language-centered-care/
LOCATION:Minnesota Humanities Event Center\, 987 Ivy Avenue East\, Saint Paul\, MN\, 55106\, United States
CATEGORIES:Immersive Experiences,Public Programs
ATTACH;FMTTYPE=image/png:https://www.mnhum.org/wp-content/uploads/2024/02/event_language_centered_care.png
ORGANIZER;CN="MayKao Fredericks":MAILTO:maykao@mnhum.org
END:VEVENT
BEGIN:VEVENT
DTSTART;TZID=America/Chicago:20240324T130000
DTEND;TZID=America/Chicago:20240324T153000
DTSTAMP:20260420T105038
CREATED:20240104T173049Z
LAST-MODIFIED:20240319T210711Z
UID:10000344-1711285200-1711294200@www.mnhum.org
SUMMARY:St. Paul - Headscarf Story Circle: Tea Gathering
DESCRIPTION:IMPORTANT: We have decided to cancel the March 24 Headscarf Story Circle: Tea Gathering event in order to respect several observances and partner events happening at the same time. Thank you to those who were interested in the event\, and thank you to the community members who gave their feedback!  \nMinnesota Humanities Center (MHC) is excited to host our second year of the Headscarf Story Circle Gatherings. Join us as we gather together through the shared connection of the headscarf and its complexity. Guests are encouraged to wear a headscarf or head dress that is symbolic of anything from a fashion statement\, cultural identity\, health related\, or memories\, and beliefs. \nBe Our Guest for Tea! The first event features engaging conversations that inspire perseverance\, hope and healing\, while enjoying several courses of delicious food items and teas. We are honored to have Rose McGee\, founder of Headscarf Society TeaLit and a Humanities Officer at MHC\, serve as tea host.
URL:https://www.mnhum.org/event/headscarf-tea-gathering/
LOCATION:Minnesota Humanities Event Center\, 987 Ivy Avenue East\, Saint Paul\, MN\, 55106\, United States
CATEGORIES:Cultural Harmony,Headscarf Story Circle,Immersive Experiences,Public Programs
ATTACH;FMTTYPE=image/jpeg:https://www.mnhum.org/wp-content/uploads/2023/01/event_head_scarf_story_circle.jpg
ORGANIZER;CN="Rose McGee":MAILTO:rose@mnhum.org
END:VEVENT
BEGIN:VEVENT
DTSTART;TZID=America/Chicago:20240327T180000
DTEND;TZID=America/Chicago:20240327T200000
DTSTAMP:20260420T105038
CREATED:20240227T202202Z
LAST-MODIFIED:20240313T144437Z
UID:10000406-1711562400-1711569600@www.mnhum.org
SUMMARY:Minneapolis - Minnesota Writers Series: American Precariat
DESCRIPTION:Join us for the March 2024 edition of the Minnesota Writers Series as we welcome Zeke Caligiuri\, Chris Fausto\, and Fong Lee\, three editors of the anthology “American Precariat: Parables of Exclusion\,” published by Coffee House Press. Through readings and discussions\, the editors will share the genesis of the anthology\, and the importance of bringing to light the stories of those society deems invisible and chooses to exclude. The editors will be joined by Mike Alberti\, executive director of the Minnesota Prison Writing Workshop\, who will moderate the discussion. \nZeke\, Chris\, and Fong will be available for book signing and further conversation after the event. “American Precariat: Parables of Exclusion” will be available for purchase from Subtext Books at the event. \nThis event will take place at the Capri Theater in North Minneapolis and is presented in partnership with the Minnesota Prison Writing Workshop (MPWW)\, which connects incarcerated individuals to arts and educational programming and fosters a creative community of writers both within and outside of prisons and correctional facilities. \nAbout the Book\nThis groundbreaking anthology of essays edited by incarcerated writers takes a sharp look at the complexity and fluidity of class and caste systems in the United States. Featuring accounts that include gig work as a delivery driver\, homelessness among trans youth\, and life with immense student loan debt\, in addition to transcripts of insightful discussions between the editors\, “American Precariat” demonstrates how various and often invisible extreme instability can be. With the understanding that widespread recognition of collective precarity is an urgent concern\, the anthology situates each individual portrait within societal structures of exclusion\, scarcity\, and criminality.  \nAbout the Editors\nZeke Caligiuri is a writer and activist from South Minneapolis. He is the author of “This is Where I Am\,” published by University of Minnesota Press. He has won multiple awards through the PEN Prison Writing Contest and is the co-founder of the Stillwater Writer’s Collective\, the first all-prisoner created and facilitated collective in the country. He is a contributor to “The Sentences That Create Us: Crafting a Writer’s Life in Prison” as well as “School\, Not Jail: How Educators Can Disrupt School Pushout and Mass Incarceration.” He is directly impacted by over two decades of incarceration and is now currently the re-entry education coordinator for the Minnesota Justice Research Center re-investing in the humanization of those still stuck within the captivity business. \nChris Fausto Cabrera is a multi-genre artist\, writer & activist recently released from incarceration after 21 years. His work has appeared in: The Colorado Review\, The Antioch Review\, Puerto del Sol\, The Woodward Review\, among others. “The Parameters of Our Cage\,” his prose epistle project with photographer Alec Soth is released through MACK books. His latest project is “American Precariat: Parables of Exclusion” where he serves as an editor\, published by Coffee House Press. Cabrera co-founded The Stillwater Writers Collective\, partnered with the Minnesota Prison Writing Workshop. He works closely with Until We Are All Free and We Are All Criminals to bring attention to the multifaceted ways justice impacts people. \nFong Lee is a Saint-Paul-based artist and We Are All Criminal’s first Storytelling Fellow. Fong spent nearly 18 years inside Minnesota State prisons; he is a celebrated poet\, with publications through the Minnesota Prison Writing Workshop and Asian American Writers Workshop\, a beloved painter\, and a published photographer. Fong is a restorative justice practitioner and the Storytelling Curator with The Legal Revolution. Fong and his family immigrated to the U.S. as Hmong refugees when Fong was a child\, after his family was displaced from their home in Laos. His experience and expertise with incarceration and displacement enable him to make We Are All Criminals all the more dynamic\, including strengthening the collaborations between inside and outside artistic partners. \nAbout the Moderator\nMike Alberti has been an administrator for MPWW since 2016\, when he graduated from the University of Minnesota with his MFA in Creative Writing. Mike’s fiction has been published in many venues\, and his first book\, “Some People Let You Down\,” won the 2020 Katherine Anne Porter Prize in Short Fiction. He was born and raised in Albuquerque\, New Mexico and now lives in Minneapolis. In addition to his work with MPWW\, he teaches at Century College. \nRegistration\nThis event is free but registration is required. K-12 Educators will receive 1 clock hour upon completion of the event. \nRegistration Questions: registrations@mnhum.org \nRegister Now
URL:https://www.mnhum.org/event/american-precariat/
LOCATION:Capri Theater\, 2027 W Broadway\, Minneapolis\, 55411\, United States
CATEGORIES:Books, Poetry, and Literature,Free,Minnesota Writers Series,Public Programming,Public Programs
ATTACH;FMTTYPE=image/jpeg:https://www.mnhum.org/wp-content/uploads/2024/02/event_american_precariat.jpg
ORGANIZER;CN="Corey China":MAILTO:corey@mnhum.org
END:VEVENT
END:VCALENDAR