BEGIN:VCALENDAR
VERSION:2.0
PRODID:-//Minnesota Humanities Center - ECPv6.15.20//NONSGML v1.0//EN
CALSCALE:GREGORIAN
METHOD:PUBLISH
X-WR-CALNAME:Minnesota Humanities Center
X-ORIGINAL-URL:https://www.mnhum.org
X-WR-CALDESC:Events for Minnesota Humanities Center
REFRESH-INTERVAL;VALUE=DURATION:PT1H
X-Robots-Tag:noindex
X-PUBLISHED-TTL:PT1H
BEGIN:VTIMEZONE
TZID:America/Chicago
BEGIN:DAYLIGHT
TZOFFSETFROM:-0600
TZOFFSETTO:-0500
TZNAME:CDT
DTSTART:20210314T080000
END:DAYLIGHT
BEGIN:STANDARD
TZOFFSETFROM:-0500
TZOFFSETTO:-0600
TZNAME:CST
DTSTART:20211107T070000
END:STANDARD
BEGIN:DAYLIGHT
TZOFFSETFROM:-0600
TZOFFSETTO:-0500
TZNAME:CDT
DTSTART:20220313T080000
END:DAYLIGHT
BEGIN:STANDARD
TZOFFSETFROM:-0500
TZOFFSETTO:-0600
TZNAME:CST
DTSTART:20221106T070000
END:STANDARD
BEGIN:DAYLIGHT
TZOFFSETFROM:-0600
TZOFFSETTO:-0500
TZNAME:CDT
DTSTART:20230312T080000
END:DAYLIGHT
BEGIN:STANDARD
TZOFFSETFROM:-0500
TZOFFSETTO:-0600
TZNAME:CST
DTSTART:20231105T070000
END:STANDARD
END:VTIMEZONE
BEGIN:VEVENT
DTSTART;TZID=America/Chicago:20220916T190000
DTEND;TZID=America/Chicago:20220916T210000
DTSTAMP:20260421T145048
CREATED:20220811T165323Z
LAST-MODIFIED:20230712T140744Z
UID:10000313-1663354800-1663362000@www.mnhum.org
SUMMARY:Duluth - Kumbayah The Juneteenth Story
DESCRIPTION:In 2021\, Juneteenth was written into law as a national day of observance\, yet many people are unfamiliar with its meaning and the insight it offers in addressing current social injustice. Minnesota Humanities Center is honored to collaborate with Duluth Public Schools\, Sweet Potato Comfort Pie and the greater Duluth community to bring the significance of this day to life. \nKumbayah The Juneteenth Story\, written by Rose McGee\, is a 90-minute  two-act  dramatization of a traumatic time in our history – when news was deliberately withheld that Black people were no longer enslaved in this country. Storytelling and music weave together mesmerizing scenes. Although tragedy is depicted\, this play within a play is tremendously uplifting. The story begins with a Prologue set in the early 1800s in a small West African village where a young mother and her small son are being abducted from their home by slave catchers. Act One: Scene One is set in present time in a popular North Minneapolis soul-food restaurant where a group of youths and adults ultimately end up discussing what Juneteenth means. Before long they all agree to attend a play about Juneteenth. The story then shifts into 1863 on the Turner Plantation in Tyler\, Texas with the character Frederick Douglass as Narrator.  \nAlthough interpretation is best suited for ages 8 and up\, children of all ages are welcome to attend. Stay for a post-show discussion with the cast moderated by Carl Crawford from the Duluth Office of Human Rights. \nOpen seating will begin at 6:45 p.m.  The show will start promptly at 7:00 p.m. \nRegistration\nThe performance is free to attend but registration is required in managing seating capacity. \nOpen seating will begin at 6:45 p.m.  The show will start promptly at 7:00 p.m. \nREGISTRATION FOR THIS EVENT HAS CLOSED
URL:https://www.mnhum.org/event/duluth-kumbayah/
LOCATION:Denfeld High School\, 401 North 44th Avenue West\, Duluth\, MN\, 55807\, United States
CATEGORIES:Free,Greater Minnesota,Public Programs
ATTACH;FMTTYPE=image/jpeg:https://www.mnhum.org/wp-content/uploads/2023/04/event_kumbayah_juneteenth.jpg
ORGANIZER;CN="Eden Bart":MAILTO:eden@mnhum.org
END:VEVENT
END:VCALENDAR