BEGIN:VCALENDAR
VERSION:2.0
PRODID:-//Minnesota Humanities Center - ECPv6.15.20//NONSGML v1.0//EN
CALSCALE:GREGORIAN
METHOD:PUBLISH
X-WR-CALNAME:Minnesota Humanities Center
X-ORIGINAL-URL:https://www.mnhum.org
X-WR-CALDESC:Events for Minnesota Humanities Center
REFRESH-INTERVAL;VALUE=DURATION:PT1H
X-Robots-Tag:noindex
X-PUBLISHED-TTL:PT1H
BEGIN:VTIMEZONE
TZID:America/Chicago
BEGIN:DAYLIGHT
TZOFFSETFROM:-0600
TZOFFSETTO:-0500
TZNAME:CDT
DTSTART:20220313T080000
END:DAYLIGHT
BEGIN:STANDARD
TZOFFSETFROM:-0500
TZOFFSETTO:-0600
TZNAME:CST
DTSTART:20221106T070000
END:STANDARD
BEGIN:DAYLIGHT
TZOFFSETFROM:-0600
TZOFFSETTO:-0500
TZNAME:CDT
DTSTART:20230312T080000
END:DAYLIGHT
BEGIN:STANDARD
TZOFFSETFROM:-0500
TZOFFSETTO:-0600
TZNAME:CST
DTSTART:20231105T070000
END:STANDARD
BEGIN:DAYLIGHT
TZOFFSETFROM:-0600
TZOFFSETTO:-0500
TZNAME:CDT
DTSTART:20240310T080000
END:DAYLIGHT
BEGIN:STANDARD
TZOFFSETFROM:-0500
TZOFFSETTO:-0600
TZNAME:CST
DTSTART:20241103T070000
END:STANDARD
END:VTIMEZONE
BEGIN:VEVENT
DTSTART;TZID=America/Chicago:20230228T150000
DTEND;TZID=America/Chicago:20230228T170000
DTSTAMP:20260421T055111
CREATED:20230111T205050Z
LAST-MODIFIED:20250620T132650Z
UID:10000343-1677596400-1677603600@www.mnhum.org
SUMMARY:Mankato and Online - Transnational Feminism\, Solidarity\, and Care for #WomanLifeFreedom
DESCRIPTION:Recent events and protests in Iran have catapulted human rights and feminist issues onto the world stage\, and yet these movements in Iran are not new. Join Dr. Yalda Hamidi (Minnesota State University\, Mankato) and special guest panelists Prof. Ibtesam Al Atiyat (St. Olaf College) and Ph.D. student and human rights lawyer Tahmina Sobat (University of Minnesota) as they reflect on the Iranian feminist revolution of 2022 and the politics of solidarity\, care\, and transnational feminism. This event will be held both virtually and in-person on campus.  \nPrior to a panel discussion\, each scholar will discuss how the current women’s revolution in Iran aligns with their own research. Dr. Hamidi will consider Iranian diasporic feminism/s and how her participation and engagement with the Green Movement of 2009 shapes her understanding of the current unfolding feminist revolution. Dr. Al Atiyat will share examples of Arab women’s solidarity with Iranian women and share reflections on the limits that have surfaced.  Finally\, Ph.D. student Tahmina Sobat will discuss Afghan women’s longstanding advocacies against imperialism and war\, noting the possibilities and perils of transnational feminist solidarities regarding the situation in Iran. \nCo-sponsored by the Women’s Center at Minnesota State University\, Mankato.  \nPanelists\nYalda Hamidi (She/Her/Hers) is an Assistant Professor of Gender and Women’s Studies at Minnesota State University Mankato and a member of the Ms. Committee of Scholars. She identifies as a teacher\, mentor\, storyteller\, sister\, and auntie. At MNSU Mankato\, Yalda teaches transnational feminism\, feminist pedagogy\, and queer identities courses. In her research\, she writes about the importance of politics of location for understanding the feminism/s of non-white and non-Western women. Yalda’s non-academic work strives to share the stories of Iranian women championing and fighting intersectional systems of oppression. \nIbtesam Al Atiyat is a professor of sociology\, and the director of the Enduring Questions Program at St. Olaf College. She is the author of “The Jordanian Women’s Movement: Activism\, Strategies and Discourses”\, published by Friedrich Ebert Foundation (Berlin) in 2004\,  and the editor of “The Uprisings and Gender Equity in the Arab World” published by the Kettering Foundation\, the Arab Network for the Study of Democracy\, and the Issam Fares Institute for Public Policy at the American University of Beirut in 2017.  \nTahmina Sobat is a women’s human rights lawyer from Afghanistan. She holds a law degree from Herat University of Afghanistan\, an LLM degree in International Human Rights Law from the University of Notre Dame\, and a Master’s degree in Gender and Women Studies through the prestigious Fulbright Scholarship at Minnesota State University\, Mankato. She is currently working on her Ph.D. at the University of Minnesota where her thesis will examine “The Role of Grassroots Feminism in Demilitarization and Peace-Building in Afghanistan.” \nRegistration\nFor those coming from off campus\, please indicate when registering if you will need a parking voucher.  \nIf you plan to join remotely please indicate so when registering.   \nRegistration Questions: registrations@mnhum.org  \nREGISTRATION FOR THIS EVENT HAS CLOSED
URL:https://www.mnhum.org/event/transnational-feminism-solidarity-and-care/
LOCATION:Ostrander Auditorium – Minnesota State University – Mankato\, 540 W Road\, Mankato\, MN\, 56001\, United States
CATEGORIES:Civic Renewal,Free,Greater Minnesota,Public Programs
ATTACH;FMTTYPE=image/png:https://www.mnhum.org/wp-content/uploads/2023/01/event_transnational_feminism_wlf.png
ORGANIZER;CN="Colin Nelson-Dusek":MAILTO:colin@mnhum.org
END:VEVENT
END:VCALENDAR