BEGIN:VCALENDAR
VERSION:2.0
PRODID:-//Minnesota Humanities Center - ECPv6.15.20//NONSGML v1.0//EN
CALSCALE:GREGORIAN
METHOD:PUBLISH
X-WR-CALNAME:Minnesota Humanities Center
X-ORIGINAL-URL:https://www.mnhum.org
X-WR-CALDESC:Events for Minnesota Humanities Center
REFRESH-INTERVAL;VALUE=DURATION:PT1H
X-Robots-Tag:noindex
X-PUBLISHED-TTL:PT1H
BEGIN:VTIMEZONE
TZID:America/Chicago
BEGIN:DAYLIGHT
TZOFFSETFROM:-0600
TZOFFSETTO:-0500
TZNAME:CDT
DTSTART:20220313T080000
END:DAYLIGHT
BEGIN:STANDARD
TZOFFSETFROM:-0500
TZOFFSETTO:-0600
TZNAME:CST
DTSTART:20221106T070000
END:STANDARD
BEGIN:DAYLIGHT
TZOFFSETFROM:-0600
TZOFFSETTO:-0500
TZNAME:CDT
DTSTART:20230312T080000
END:DAYLIGHT
BEGIN:STANDARD
TZOFFSETFROM:-0500
TZOFFSETTO:-0600
TZNAME:CST
DTSTART:20231105T070000
END:STANDARD
BEGIN:DAYLIGHT
TZOFFSETFROM:-0600
TZOFFSETTO:-0500
TZNAME:CDT
DTSTART:20240310T080000
END:DAYLIGHT
BEGIN:STANDARD
TZOFFSETFROM:-0500
TZOFFSETTO:-0600
TZNAME:CST
DTSTART:20241103T070000
END:STANDARD
END:VTIMEZONE
BEGIN:VEVENT
DTSTART;TZID=America/Chicago:20230516T143000
DTEND;TZID=America/Chicago:20230516T160000
DTSTAMP:20260421T033034
CREATED:20230426T193429Z
LAST-MODIFIED:20230606T173311Z
UID:10000357-1684247400-1684252800@www.mnhum.org
SUMMARY:Online - True Tuesdays: Youth Voice in Decision-Making with Minnesota Youth Council (MYC)
DESCRIPTION:Did you know that Minnesota youth are the only youth in the nation that have an official voice in legislation? Join us on May 16th to learn about the four key initiatives of the Minnesota Youth Council (MYC) and the work they have done this legislative session in pursuit of a just and equitable Minnesota. \nThe MYC envisions a state that prioritizes the agency and voice of young people from all backgrounds. The MYC is a collaborative of youth leaders that works to amplify the voice and power of their peers across the state of Minnesota. These young leaders are the go-to group in Minnesota for elevating and championing youth voice in decision-making. Members of the MYC are change agents in their communities and across the state\, leading the way with youth-centered systems change. The Council is comprised of 8th-12th graders representing each congressional district in Minnesota and provides guidance to the legislature\, governor\, and Department of Education on issues affecting young people. \nRegistration\nRegistration Questions: registrations@mnhum.org  \nREGISTRATION FOR THIS EVENT HAS CLOSED
URL:https://www.mnhum.org/event/true-tuesdays-youth-voice/
LOCATION:Online
CATEGORIES:Civic Renewal,Free,Online,Public Programs,TRUE Tuesdays
ATTACH;FMTTYPE=image/jpeg:https://www.mnhum.org/wp-content/uploads/2023/04/event_true_tuesday_youth_voice.jpg
ORGANIZER;CN="Jessica Rust":MAILTO:jessica@mnhum.org
END:VEVENT
END:VCALENDAR