BEGIN:VCALENDAR
VERSION:2.0
PRODID:-//Minnesota Humanities Center - ECPv6.15.20//NONSGML v1.0//EN
CALSCALE:GREGORIAN
METHOD:PUBLISH
X-WR-CALNAME:Minnesota Humanities Center
X-ORIGINAL-URL:https://www.mnhum.org
X-WR-CALDESC:Events for Minnesota Humanities Center
REFRESH-INTERVAL;VALUE=DURATION:PT1H
X-Robots-Tag:noindex
X-PUBLISHED-TTL:PT1H
BEGIN:VTIMEZONE
TZID:America/Chicago
BEGIN:DAYLIGHT
TZOFFSETFROM:-0600
TZOFFSETTO:-0500
TZNAME:CDT
DTSTART:20220313T080000
END:DAYLIGHT
BEGIN:STANDARD
TZOFFSETFROM:-0500
TZOFFSETTO:-0600
TZNAME:CST
DTSTART:20221106T070000
END:STANDARD
BEGIN:DAYLIGHT
TZOFFSETFROM:-0600
TZOFFSETTO:-0500
TZNAME:CDT
DTSTART:20230312T080000
END:DAYLIGHT
BEGIN:STANDARD
TZOFFSETFROM:-0500
TZOFFSETTO:-0600
TZNAME:CST
DTSTART:20231105T070000
END:STANDARD
BEGIN:DAYLIGHT
TZOFFSETFROM:-0600
TZOFFSETTO:-0500
TZNAME:CDT
DTSTART:20240310T080000
END:DAYLIGHT
BEGIN:STANDARD
TZOFFSETFROM:-0500
TZOFFSETTO:-0600
TZNAME:CST
DTSTART:20241103T070000
END:STANDARD
END:VTIMEZONE
BEGIN:VEVENT
DTSTART;TZID=America/Chicago:20231104T173000
DTEND;TZID=America/Chicago:20231104T200000
DTSTAMP:20260420T175519
CREATED:20230906T193334Z
LAST-MODIFIED:20231101T175709Z
UID:10000385-1699119000-1699128000@www.mnhum.org
SUMMARY:St. Paul - Poetry Sparks! Book Discussion and Open Mic with Minnesota’s Poet Laureate\, Gwen Nell Westerman
DESCRIPTION:Join us for a two-part event\, a book launch of Minnesota Poet Laureate Gwen Nell Westerman’s new collection\, “Songs\, Blood Deep”\, followed by an Open Mic! Poet and author Heid Erdrich will engage Gwen in conversation about her new collection\, and what the role of the Poet Laureate has meant for her. Their discussion will be followed by an all-ages Open Mic emceed by former St. Paul Youth Poet Laureate\, Chavah Gabrielle. Hear Gwen\, Heid\, and Chavah read some of their work\, and then take the stage yourself to read or perform!  \nBooks will be available for purchase and signing after the Open Mic. This event is free\, however registration is required; a light dinner will be provided. If you would like to read a poem during the open mic\, email Corey China at corey@mnhum.org to be added to the program! \nRegistration\nRegistration Questions: registrations@mnhum.org \nSOLD OUT – REGISTRATION FOR THIS EVENT HAS CLOSED
URL:https://www.mnhum.org/event/poetry-sparks-open-mic-night/
LOCATION:Minnesota Humanities Event Center\, 987 Ivy Avenue East\, Saint Paul\, MN\, 55106\, United States
CATEGORIES:Free,Kid Friendly,Minnesota's Poet Laureate,Public Programming,Public Programs
ATTACH;FMTTYPE=image/png:https://www.mnhum.org/wp-content/uploads/2023/09/event_open_mic_book_discussion.png
ORGANIZER;CN="Corey China":MAILTO:corey@mnhum.org
END:VEVENT
END:VCALENDAR