BEGIN:VCALENDAR
VERSION:2.0
PRODID:-//Minnesota Humanities Center - ECPv6.15.20//NONSGML v1.0//EN
CALSCALE:GREGORIAN
METHOD:PUBLISH
X-WR-CALNAME:Minnesota Humanities Center
X-ORIGINAL-URL:https://www.mnhum.org
X-WR-CALDESC:Events for Minnesota Humanities Center
REFRESH-INTERVAL;VALUE=DURATION:PT1H
X-Robots-Tag:noindex
X-PUBLISHED-TTL:PT1H
BEGIN:VTIMEZONE
TZID:America/Chicago
BEGIN:DAYLIGHT
TZOFFSETFROM:-0600
TZOFFSETTO:-0500
TZNAME:CDT
DTSTART:20230312T080000
END:DAYLIGHT
BEGIN:STANDARD
TZOFFSETFROM:-0500
TZOFFSETTO:-0600
TZNAME:CST
DTSTART:20231105T070000
END:STANDARD
BEGIN:DAYLIGHT
TZOFFSETFROM:-0600
TZOFFSETTO:-0500
TZNAME:CDT
DTSTART:20240310T080000
END:DAYLIGHT
BEGIN:STANDARD
TZOFFSETFROM:-0500
TZOFFSETTO:-0600
TZNAME:CST
DTSTART:20241103T070000
END:STANDARD
BEGIN:DAYLIGHT
TZOFFSETFROM:-0600
TZOFFSETTO:-0500
TZNAME:CDT
DTSTART:20250309T080000
END:DAYLIGHT
BEGIN:STANDARD
TZOFFSETFROM:-0500
TZOFFSETTO:-0600
TZNAME:CST
DTSTART:20251102T070000
END:STANDARD
END:VTIMEZONE
BEGIN:VEVENT
DTSTART;TZID=America/Chicago:20240523T180000
DTEND;TZID=America/Chicago:20240523T203000
DTSTAMP:20260420T093224
CREATED:20240430T174059Z
LAST-MODIFIED:20240516T200105Z
UID:10000412-1716487200-1716496200@www.mnhum.org
SUMMARY:Minneapolis - Westminster Town Hall Forum: Arc Toward Justice 2024
DESCRIPTION:Wesley Lowery is the author of American Whitelash: A Changing Nation and the Cost of Progress. It tells the story of how the election of the nation’s first Black president reignited long-burning embers of white supremacy. It was a New York Times best-seller\, was named one of NPR’s books of the year\, and described as “indispensable” by Ibram X. Kendi. \nFollowing the police killing of Michael Brown\, Lowery launched Fatal Force — a real-time national database of people shot and killed by the police. That database — which remains the most reliable public data on police shootings — won the Pulitzer Prize\, the George Polk Award\, and the Peabody Award and was named one of the decade’s top 10 works of journalism. \nHe is also a Journalist-in-Residence at the CUNY Newmark Graduate School of Journalism and a contributing editor at The Marshall Project. He is the executive editor of the Investigative Reporting Workshop\, an innovative “training hospital” journalism non-profit based at American University in Washington DC that trains a rising generation of journalists by partnering them with professional newsrooms to work on projects that fill crucial gaps in media coverage. \nMore About Wesley Lowery\nLowery began his career covering politics\, but in 2014 was sent to Ferguson\, Mo.\, to cover the police killing of Michael Brown for the Washington Post. In the years that followed\, he would chronicle the early years of the Black Lives Matter movement\, writing a bestselling book and launching Fatal Force. \nIn the years that followed he led and contributed to investigative projects that examined unsolved homicides in major American cities (Pulitzer Prize finalist)\, what happens to fired police officers\, so-called repeat offender criminal defendants\, fentanyl overdoses in major cities (in 2017 and 2022)\, the failures to catch the deadliest serial killer in American history\, and what happens to people who are shot by the police and survive. He’s latest book\, American Whitelash\, published in June 2023\, chronicles the rise in white supremacist violence in the years since Barack Obama’s election. \nLowery hosted “Unfinished: Ernie’s Secret” an investigative podcast that explores the life of Ernest Withers\, a legendary civil rights photographer who was also a paid FBI informant. He also served as co-host of “More Than A Vote: Our Voices\, Our Vote.” He was an executive producer of In the Cold Dark Night\, an Emmy-nominated documentary chronicling the effort to solve the 1983 lynching of Timothy Coggins. \nWebby Award for Best News and Politics Podcast (2021)\nThe Frederick Douglass 200 (2019)\nChristopher Isherwood prize for autobiographical prose (2017)\nEbony 100 (2016)\nThe Root 100 (2015 & 2016)\nApex Society Power 30 under 30 recipient\nRARE 40 under 40 recipient\nLotos Foundation Prize in the Arts and Sciences (2017)\nWayne State University “Spirit of Diversity” Award (2015)\nEmerging Journalist of the Year\, The National Assoc of Black Journalists (2014) \nRegistration\nThis event is free and open to all. \nThere is no ticketing or registration. Seating at Westminster is on a first-come\, first seated basis. Doors will open at 5:00 p.m. Music at 5:30 p.m. Forum will begin at 6:00 p.m.
URL:https://www.mnhum.org/event/arc-toward-justice-2024/
LOCATION:Westminster Presbyterian Church\, 1200 Marquette Avenue\, Minneapolis\, MN\, 55403\, United States
CATEGORIES:Free,Public Programs
ATTACH;FMTTYPE=image/png:https://www.mnhum.org/wp-content/uploads/2024/04/event_westminster_thf_lowery.png
ORGANIZER;CN="Jessica Rust":MAILTO:jessica@mnhum.org
END:VEVENT
END:VCALENDAR