BEGIN:VCALENDAR
VERSION:2.0
PRODID:-//Minnesota Humanities Center - ECPv6.15.20//NONSGML v1.0//EN
CALSCALE:GREGORIAN
METHOD:PUBLISH
X-WR-CALNAME:Minnesota Humanities Center
X-ORIGINAL-URL:https://www.mnhum.org
X-WR-CALDESC:Events for Minnesota Humanities Center
REFRESH-INTERVAL;VALUE=DURATION:PT1H
X-Robots-Tag:noindex
X-PUBLISHED-TTL:PT1H
BEGIN:VTIMEZONE
TZID:America/Chicago
BEGIN:DAYLIGHT
TZOFFSETFROM:-0600
TZOFFSETTO:-0500
TZNAME:CDT
DTSTART:20230312T080000
END:DAYLIGHT
BEGIN:STANDARD
TZOFFSETFROM:-0500
TZOFFSETTO:-0600
TZNAME:CST
DTSTART:20231105T070000
END:STANDARD
BEGIN:DAYLIGHT
TZOFFSETFROM:-0600
TZOFFSETTO:-0500
TZNAME:CDT
DTSTART:20240310T080000
END:DAYLIGHT
BEGIN:STANDARD
TZOFFSETFROM:-0500
TZOFFSETTO:-0600
TZNAME:CST
DTSTART:20241103T070000
END:STANDARD
BEGIN:DAYLIGHT
TZOFFSETFROM:-0600
TZOFFSETTO:-0500
TZNAME:CDT
DTSTART:20250309T080000
END:DAYLIGHT
BEGIN:STANDARD
TZOFFSETFROM:-0500
TZOFFSETTO:-0600
TZNAME:CST
DTSTART:20251102T070000
END:STANDARD
END:VTIMEZONE
BEGIN:VEVENT
DTSTART;TZID=America/Chicago:20240817T110000
DTEND;TZID=America/Chicago:20240817T140000
DTSTAMP:20260420T064615
CREATED:20240607T182328Z
LAST-MODIFIED:20240813T133649Z
UID:10000427-1723892400-1723903200@www.mnhum.org
SUMMARY:St. Paul - Summer Book Fest & Little Free Library Opening
DESCRIPTION:Join us for a summer celebration of books and storytelling as we open our new Little Free Library. Community partner Little Free Library (LFL) will be on hand to share more on how you can start your own LFL or bring your own books and participate in an LFL book share. Local authors Dr. Artika Tyner\, Ty Chapman\, and Monica Rojas will give readings of their children’s books; musician and storyteller Ms. Rose will lead a musical storytime; we’ll have story strolls\, a scavenger hunt\, book giveaways\, prizes\, and more! In addition\, local favorite Eggroll Queen will be selling their treats and eats for you to enjoy. Bring your family\, friends\, and neighbors to enjoy the magic of books together on MHC’s front lawn. \nFree to attend\, no registration required. In case of inclement weather\, events will take place inside the MHC event center.
URL:https://www.mnhum.org/event/summer-book-fest-little-free-library-opening/
LOCATION:Minnesota Humanities Event Center\, 987 Ivy Avenue East\, Saint Paul\, MN\, 55106\, United States
CATEGORIES:Books, Poetry, and Literature,Free,Kid Friendly,Public Programs
ATTACH;FMTTYPE=image/png:https://www.mnhum.org/wp-content/uploads/2024/06/event_book_fest_little_free_library.png
ORGANIZER;CN="Corey China":MAILTO:corey@mnhum.org
END:VEVENT
END:VCALENDAR