BEGIN:VCALENDAR
VERSION:2.0
PRODID:-//Minnesota Humanities Center - ECPv6.15.20//NONSGML v1.0//EN
CALSCALE:GREGORIAN
METHOD:PUBLISH
X-WR-CALNAME:Minnesota Humanities Center
X-ORIGINAL-URL:https://www.mnhum.org
X-WR-CALDESC:Events for Minnesota Humanities Center
REFRESH-INTERVAL;VALUE=DURATION:PT1H
X-Robots-Tag:noindex
X-PUBLISHED-TTL:PT1H
BEGIN:VTIMEZONE
TZID:America/Chicago
BEGIN:DAYLIGHT
TZOFFSETFROM:-0600
TZOFFSETTO:-0500
TZNAME:CDT
DTSTART:20220313T080000
END:DAYLIGHT
BEGIN:STANDARD
TZOFFSETFROM:-0500
TZOFFSETTO:-0600
TZNAME:CST
DTSTART:20221106T070000
END:STANDARD
BEGIN:DAYLIGHT
TZOFFSETFROM:-0600
TZOFFSETTO:-0500
TZNAME:CDT
DTSTART:20230312T080000
END:DAYLIGHT
BEGIN:STANDARD
TZOFFSETFROM:-0500
TZOFFSETTO:-0600
TZNAME:CST
DTSTART:20231105T070000
END:STANDARD
BEGIN:DAYLIGHT
TZOFFSETFROM:-0600
TZOFFSETTO:-0500
TZNAME:CDT
DTSTART:20240310T080000
END:DAYLIGHT
BEGIN:STANDARD
TZOFFSETFROM:-0500
TZOFFSETTO:-0600
TZNAME:CST
DTSTART:20241103T070000
END:STANDARD
BEGIN:DAYLIGHT
TZOFFSETFROM:-0600
TZOFFSETTO:-0500
TZNAME:CDT
DTSTART:20250309T080000
END:DAYLIGHT
BEGIN:STANDARD
TZOFFSETFROM:-0500
TZOFFSETTO:-0600
TZNAME:CST
DTSTART:20251102T070000
END:STANDARD
END:VTIMEZONE
BEGIN:VEVENT
DTSTART;TZID=America/Chicago:20231116T190000
DTEND;TZID=America/Chicago:20231116T210000
DTSTAMP:20260422T030523
CREATED:20230831T204229Z
LAST-MODIFIED:20250620T131552Z
UID:10000382-1700161200-1700168400@www.mnhum.org
SUMMARY:Red Wing - Minnesota Writers Series: Break Point: Two Minnesota Athletes and the Road to Title IX
DESCRIPTION:The Minnesota Writers Series welcomes Sheri Brenden\, author of “Break Point: Two Minnesota Athletes and the Road to Title IX” in a conversation with her sister\, Peg Brenden\, one of the St. Cloud student athletes behind the groundbreaking 1972 federal court case that took on the unequal system of school athletics nationwide. The event will take place in coordination with our partners at Anderson Center at Tower View\, as part of their Books in the Barn series. \nBooks will be available for purchase and signing following the reading\, courtesy of Fair Trade Books.  \nRegistration is required for this in-person event in Red Wing. \nRegistration\nRegistration Questions: registrations@mnhum.org  \nRegister Now
URL:https://www.mnhum.org/event/break-point-title-ix/
LOCATION:Anderson Center at Tower View\, 163 Tower View Drive\, Red Wing\, MN\, 55066\, United States
CATEGORIES:Free,Minnesota Writers Series,Public Programming,Public Programs
ATTACH;FMTTYPE=image/png:https://www.mnhum.org/wp-content/uploads/2023/06/event_mn_writers_series_break_point.png
ORGANIZER;CN="Corey China":MAILTO:corey@mnhum.org
END:VEVENT
BEGIN:VEVENT
DTSTART;TZID=America/Chicago:20231203T130000
DTEND;TZID=America/Chicago:20231203T160000
DTSTAMP:20260422T030523
CREATED:20230706T175442Z
LAST-MODIFIED:20231128T194417Z
UID:10000374-1701608400-1701619200@www.mnhum.org
SUMMARY:St. Paul - Headscarf Story Circle: Tea Celebration
DESCRIPTION:The Minnesota Humanities Center (MHC) is excited to host Headscarf Story Circle – a series of offerings that recognizes the strength and resiliency of women. Join us for our fourth offering as we gather together through the shared connection of the headscarf and its complexity. Guests are encouraged to wear a headscarf or head dress that is symbolic of anything from a fashion statement\, cultural identity\, health related\, or memories\, and beliefs. \nDuring these historical and current challenges\, we will come together to share stories\, embrace our differences\, and support each other along the way. Reflecting on previous offerings\, we will highlight the impact and discoveries made during previous gatherings as well as hold space for new stories.  As we sip on teas and food from around the world\, we will embark on a journey with cultural wellness professionals who will unveil their unique strategies for achieving balance and inner peace. Participation in past offerings is not required. \nPresenters\nWendy Goldberg is an adjunct professor in the religion department at Augsburg University and teaches first and seventh grades at the Heilicher Minneapolis Jewish Day School. Prior to these positions Wendy was the Director of Spiritual Engagement at Shir Tikvah Congregation in Minneapolis. Educated at Brandeis University\, the Jewish Theological Seminary of America\, and at Pardes Institute for Jewish Studies\, Wendy’s vocation is doing interfaith work and bringing a social and racial justice lens to all of her endeavors. \nIn 2022\, Malika Dahir joined RISE as the new Executive Director. She also started a story-time program at her local co-op so that Muslim youth could see themselves represented positively and expanded this initiative to libraries throughout the county. She served as Executive Director at Pearls of Hope supporting young Muslims in becoming more confident\, compassionate citizens of their communities through the power of mentorship. \nPamela Zeller is first generation born in the U.S. on her father’s side and is proud of her Mestiza ethnicity and culture she has over thirty-five years of nonprofit management and development experience. She shares this experience with other organizations through her nonprofit management company\, Zeller Solutions. Her experience in all facets of nonprofit work\, direct service provider\, program developer\, fundraiser\, financial manager\, strategic planner\, facilitator\, informs her work with WISE and other nonprofits. \nBorn and raised in North Minneapolis into an Afrocentric family\, Thandisizwe Jackson-Nisan was taught to serve at a young age. She founded Vegan By Nature which has served over 1\,000 free vegan meals in 2020 and is continuing to expand its reach. As an entrepreneur\, she continues to work as a Vegan Chef\, Poet\, and Educator with the goal of helping to “Heal the Hood” with food and art. \nLupe Castillo (She/Her) creator of HeartSpeaks: Voices of Cultura Healing & Writing Circles is a proclaimed XicanaIndia from the Southern lands. Lupe is a Poet\, whose recent written work is documented in the Northside Green “Our Urban Canopy” Art/Coloring Book\, published in June\, 2023 and featured at the 2023 State Fair. As a Culture Bearer\, HeartSpeaks provides activated radical collaborations in writing and spoken word artistry. Lupe is also a co-founding member of Palabristas\, a Spoken Word LatineCollective. Lupe is deepening her work as an Artist by partnering with other BIPOC & LatineArtist Collectives in the Twin Cities and beyond. She facilitates community gatherings and offers writing guidance where participants write about their connections to home\, family\, significant others\, spirituality\, Indigenous Identities\, Murals and Cultural Arts. \nRegistration\nTo ensure that cost is not a barrier\, we have a limited number of complimentary spaces available for Minnesota residents. If you would like to receive a complimentary spot\, please register early with the promo code FEEWAIVER. \nRegistration Questions: registrations@mnhum.org | MHC Cancellation Policy \nRegister Now
URL:https://www.mnhum.org/event/headscarf-story-circle-tea-celebration/
LOCATION:Minnesota Humanities Event Center\, 987 Ivy Avenue East\, Saint Paul\, MN\, 55106\, United States
CATEGORIES:Cultural Harmony,Headscarf Story Circle,Immersive Experiences,Public Programs
ATTACH;FMTTYPE=image/jpeg:https://www.mnhum.org/wp-content/uploads/2023/06/event_headscarf_story_tea_celebration.jpg
ORGANIZER;CN="Eden Bart":MAILTO:eden@mnhum.org
END:VEVENT
BEGIN:VEVENT
DTSTART;TZID=America/Chicago:20231207T180000
DTEND;TZID=America/Chicago:20231207T200000
DTSTAMP:20260422T030523
CREATED:20231109T210002Z
LAST-MODIFIED:20250620T131603Z
UID:10000389-1701972000-1701979200@www.mnhum.org
SUMMARY:St. Paul & Online - Minnesota Writers Series: Trauma Sponges
DESCRIPTION:The Minnesota Writers Series welcomes Jeremy Norton\, author of “Trauma Sponges: Dispatches from the Scarred Heart of Emergency Response” for a hybrid in-person and virtual event. Norton will use excerpts from his new book\, published by University of Minnesota Press\, to spark conversations with his co-panelists\, Jeanelle Austin from the George Floyd Global Memorial\, and attorney and police-reform activist Abigail Cerra. The three will explore topics ranging from racial inequality to mental health to toxic masculinity for a conversation titled\, “Witness and Testify: Towards a More Just Community.” \nThe Minnesota Writers Series is thankful for partners doing similarly aligned work supporting a diversity of Minnesota voices\, like our community partner for this event\, the MN Black Authors Expo: Leading\, promoting and showcasing MN Black Authors. \nAbout the book:\nIn this remarkable memoir\, Jeremy Norton marshals twenty-two years of professional experience to offer\, with compassion and critique\, an extraordinary portrayal of emergency responders. Trauma Sponges captures in arresting detail the personal and social toll the job exacts\, as well as the unique perspective afforded by sustained direct encounters with the sick\, the dying\, and the dead. \n“While many bear witness to injustice and decide that silence best serves their privilege\, some use their privilege to dismantle the inequities that created the disparities in the first place. Jeremy Norton is the latter.”\n—Dr. Michele Harper\, author of The Beauty in Breaking \nAbout the author:\nJeremy Norton has been a firefighter/EMT with the Minneapolis Fire Department since 2000; he was promoted to captain in 2007 and heads Station 17 in south Minneapolis. Born and raised in Washington\, D.C.\, he received a bachelor’s degree from Tufts University and a master’s degree in creative writing from Boston University. After teaching high school in Chattanooga\, Tennessee\, Norton moved to Minneapolis\, where he taught creative writing at the Loft Literary Center before joining the MFD. \nRegistration\nThis event is free but registration is required. \nRegistration Questions: registrations@mnhum.org  \nRegister Now
URL:https://www.mnhum.org/event/mn-writers-series-trauma-sponges/
LOCATION:Minnesota Humanities Event Center\, 987 Ivy Avenue East\, Saint Paul\, MN\, 55106\, United States
CATEGORIES:Books, Poetry, and Literature,Free,Minnesota Writers Series,Online,Public Programming,Public Programs
ATTACH;FMTTYPE=image/png:https://www.mnhum.org/wp-content/uploads/2023/11/mn_writers_series_trauma_sponges.png
ORGANIZER;CN="Corey China":MAILTO:corey@mnhum.org
END:VEVENT
BEGIN:VEVENT
DTSTART;TZID=America/Chicago:20240127T140000
DTEND;TZID=America/Chicago:20240127T160000
DTSTAMP:20260422T030523
CREATED:20231219T161526Z
LAST-MODIFIED:20240313T144502Z
UID:10000331-1706364000-1706371200@www.mnhum.org
SUMMARY:St. Paul & Online - Minnesota Writers Series: A Council of Dolls
DESCRIPTION:The Minnesota Writers Series begins 2024 by welcoming Mona Susan Power\, author of “A Council of Dolls” (Mariner Books\, 2023). The acclaimed author will read excerpts from her recently published book\, which will inspire conversation with the event moderator\, Sheila O’Connor. Join Mona and Sheila as they discuss topics from the brutal impacts of generational trauma and systemic racism to the healing powers of love\, family\, and hope. This event is presented in partnership with The National Native American Boarding School Healing Coalition\, which works to understand and address the ongoing trauma created by U.S. Indian boarding school policies. \nMona Susan Power will be available for book signing and conversation after the event. “A Council of Dolls” will be available for purchase at the event\, courtesy of Birchbark Books. You may also purchase the book online. \nAbout the Book\nFrom the mid-century metropolis of Chicago to the windswept ancestral lands of the Dakota people\, to the bleak and brutal Indian boarding schools\, “A Council of Dolls” is the story of three generations of Iháŋktȟuŋwaŋna Dakhóta women\, told in part through the stories of the dolls they carried. Gorgeous\, quietly devastating\, and ultimately hopeful\, the novel shines a light on the echoing damage wrought by the boarding school system and the historical massacres of Indigenous people. \nAbout the author\nMona Susan Power is the author of four books of fiction and has written short stories and essays that have appeared in publications and anthologies such as The Atlantic\, The Paris Review\, Ploughshares\, and Granta. She received a bachelor’s degree and JD from Harvard University and earned an MFA from the University of Iowa Writers’ Workshop. Her first novel\, “The Grass Dancer\,” was published in 1994. \nMona is an enrolled member of the Standing Rock Sioux Tribe (Iháŋktȟuŋwaŋna Dakhóta). She was born and raised in Chicago and now lives in Minneapolis. \nAbout the moderator\nAuthor Sheila O’Connor has written six novels and her short stories\, poems\, and essays have been featured in The New York Times\, Minnesota Monthly\, and Bellingham Review\, among other publications. She is a graduate of the University of Iowa Writers’ Workshop and a professor emeritus at Hamline University. Her most recent novel\, “Evidence of V: A Novel in Fragments\, Facts\, and Fictions\,” won the 2020 Minnesota Book Award (Novel & Short Story). \nRegistration\nThis free event will be in person with an option to attend virtually via Zoom. Registration required. Captioning will be available for those attending virtually.  \nRegistration Questions: registrations@mnhum.org  \nRegister Now
URL:https://www.mnhum.org/event/council-of-dolls/
LOCATION:Minnesota Humanities Event Center\, 987 Ivy Avenue East\, Saint Paul\, MN\, 55106\, United States
CATEGORIES:Books, Poetry, and Literature,Free,Minnesota Writers Series,Online,Public Programming,Public Programs
ATTACH;FMTTYPE=image/png:https://www.mnhum.org/wp-content/uploads/2023/12/mn_writers_series_council_dolls.png
ORGANIZER;CN="Colin Nelson-Dusek":MAILTO:colin@mnhum.org
END:VEVENT
BEGIN:VEVENT
DTSTART;TZID=America/Chicago:20240128T130000
DTEND;TZID=America/Chicago:20240128T150000
DTSTAMP:20260422T030523
CREATED:20231117T194628Z
LAST-MODIFIED:20231120T165135Z
UID:10000395-1706446800-1706454000@www.mnhum.org
SUMMARY:The Great Northern Festival - Learning from Place: Bdote
DESCRIPTION:Learning from Place: Bdote is an immersive experience offered by the Minnesota Humanities Center that invites participants to visit\, inhabit\, and expand their understanding of Twin Cities sites with deep significance to Dakota people. Participants learn from Dakota community members to reconsider their relationship to land\, water\, sky\, and all life—including other humans—through stories and perspectives that are often left out of our state’s history.  \nBdote is a Dakota word that generally means “where two waters come together.” The bdote where Ȟaȟáwakpa (Mississippi River) and the Mnísota Wakpá (Minnesota River) come together is central to Dakota spirituality and history. Participants will leave with a deeper understanding about Dakota people’s relationship to the place we now call Minnesota and will be encouraged to put newfound knowledge into action and further learning. \nPlease note: This event will primarily be outdoors so dress accordingly. A Minnesota state parks vehicle permit is required (one-day permits are available for $7 and can be purchased online or at any Minnesota state park office). \nRegistration\nRegistration for this event must be made through the Great Northern Festival website. \nRegister Now
URL:https://www.mnhum.org/event/great-northern-bdote-january/
LOCATION:Fort Snelling State Park\, 101 Snelling Lake Road\, St. Paul\, MN\, 55111\, United States
CATEGORIES:Immersive Experiences,Learning from Place,Public Programs
ATTACH;FMTTYPE=image/jpeg:https://www.mnhum.org/wp-content/uploads/2023/11/2024_great_northern_lfp_bdote.jpg
ORGANIZER;CN="Eden Bart":MAILTO:eden@mnhum.org
END:VEVENT
BEGIN:VEVENT
DTSTART;TZID=America/Chicago:20240201T083000
DTEND;TZID=America/Chicago:20240201T123000
DTSTAMP:20260422T030523
CREATED:20240117T200104Z
LAST-MODIFIED:20240117T200239Z
UID:10000346-1706776200-1706790600@www.mnhum.org
SUMMARY:St. Paul - Symposium on Voting Rights: Our Past\, Our Present\, Our Future
DESCRIPTION:Please join FairVote Minnesota\, the University of St. Thomas Racial Justice Initiative\, Macalester College\, the Hubert H. Humphrey School of Public Affairs\, and the African American Leadership Forum for a groundbreaking Symposium on Voting Rights: Our Past\, Our Present\, Our Future at the University of St. Thomas Anderson Student Center\, Woulfe Hall\, 2115 Summit Ave\, St Paul on Thursday\, Feb. 1\, 8:30 am-12:30 pm\, followed by a reception. \nThe symposium will convene a diverse and influential gathering of voting rights academics\, thought leaders\, students\, community members\, and political figures to engage in deep and meaningful conversations about the evolution of voting rights in Minnesota. We will tackle the challenges our democracy currently faces and explore critical reforms like ranked choice voting\, campaign finance\, redistricting\, countering disinformation\, and democratic participation\, among others––and work together to build a more representative and inclusive future for our state and our country. MHC’s CEO\, Kevin Lindsey\, will moderate the panel entitled “Democracy Under Threat: Rise of Extremism.” There will be plenty of opportunity for Q&A throughout the morning and mingling with fellow participants at the reception.  \nPanels will cover the evolution of voting rights and democratic participation\, threats to our democracy\, and the future of democracy reform in Minnesota and the country. Confirmed speakers and panelists include: Gov. Tim Walz\, Lt. Gov. Peggy Flanagan\, Secretary of State Steve Simon\, Attorney General Keith Ellison\, former Secretary of State Mark Ritchie\, University of St. Thomas President Rob Vischer\, St. Thomas Professor Yoruhu Williams\, Humphrey School Dean Nisha Botchwey\, Harvard Professor Danielle Allen\, Stanford Professor Larry Diamond\, MN House Majority Whip Athena Hollins\,  Rep. Cedrick Frazier\, Rep. Esther Agbaje\, and Rep. Emma Greenman.   \nRegistration\nThis event is free but registration is required. Registration conducted by FairVote Minnesota. \nRegister Now
URL:https://www.mnhum.org/event/symposium-on-voting-rights/
LOCATION:Anderson Student Center\, Woulfe Hall\, UST\, 2115 Summit Ave\, St. Paul\, 55105\, United States
CATEGORIES:Civic Renewal,Free,Public Programs
ATTACH;FMTTYPE=image/jpeg:https://www.mnhum.org/wp-content/uploads/2024/01/event_symposium_voting_rights.jpg
ORGANIZER;CN="Trygve Throntveit":MAILTO:trygve@mnhum.org
END:VEVENT
BEGIN:VEVENT
DTSTART;TZID=America/Chicago:20240201T180000
DTEND;TZID=America/Chicago:20240201T203000
DTSTAMP:20260422T030523
CREATED:20240124T223721Z
LAST-MODIFIED:20240124T223721Z
UID:10000349-1706810400-1706819400@www.mnhum.org
SUMMARY:Minneapolis and Online - Westminster Town Hall Forum: Our Hidden Conversations
DESCRIPTION:In her brand-new book\, Peabody Award–winning journalist and Minneapolis native Michele Norris offers a transformative dialogue on race and identity in America\, unearthed through her decade-long work at The Race Card Project. \nMore than half-a-million stories have been submitted. The results\, collected in this new book\, are shocking in their depth and candor\, spanning the full spectrum of race\, ethnicity\, identity\, and class. \nAt this first-of-its kind Forum\, a cast of diverse readers will help bring a collection of those stories to the stage. Following this dramatic reading\, Ms. Norris will sit down for an in-depth conversation about her work with the Race Card Project. She’ll discuss how even during times of great division\, honesty\, grace\, and a willing ear can provide a bridge toward empathy and maybe even understanding. \nAbout Michele Norris\nMinneapolis native Michele Norris is one of America’s most trusted voices in journalism\, earning several honors over a long career\, including Peabody\, Emmy\, Dupont\, and Goldsmith awards. She is a columnist for The Washington Post Opinion Section\, the host of the Audible Original Podcast\, Your Mama’s Kitchen\, and from and from 2002 to 2012 she was a cohost of NPR’s All Things Considered. Norris is also the founding director of The Race Card Project\, a Peabody Award–winning narrative archive where people around the world share their reflections on identity—in just six words. Her first book\, The Grace of Silence\, was named one of the best books of the year by the San Francisco Chronicle\, The Christian Science Monitor\, and The Kansas City Star. Before joining NPR\, Norris spent almost ten years as a reporter for ABC News covering politics\, policy\, and the dynamics of social change. Early in her career\, she also worked as a staff writer for The Washington Post\, Chicago Tribune\, and the Los Angeles Times. \nLivestream\nThis event will be available via livestream on May 20 on the Westminster Town Hall Forum website and Facebook page. \nRegistration\nThis event is free and open to all. \nThere is no ticketing or registration. Seating at Westminster is on a first-come\, first seated basis. Doors will open at 5:00 p.m. Music by T. Mychael Rambo at 5:30 p.m. Forum will begin at 6:00 p.m.
URL:https://www.mnhum.org/event/our-hidden-conversations/
LOCATION:Westminster Presbyterian Church\, 1200 Marquette Avenue\, Minneapolis\, MN\, 55403\, United States
CATEGORIES:Free,Online,Public Programs
ATTACH;FMTTYPE=image/png:https://www.mnhum.org/wp-content/uploads/2024/01/wthf_michele_norris.png
END:VEVENT
BEGIN:VEVENT
DTSTART;TZID=America/Chicago:20240204T130000
DTEND;TZID=America/Chicago:20240204T150000
DTSTAMP:20260422T030523
CREATED:20231117T195323Z
LAST-MODIFIED:20231120T165159Z
UID:10000396-1707051600-1707058800@www.mnhum.org
SUMMARY:The Great Northern Festival - Learning from Place: Bdote
DESCRIPTION:Learning from Place: Bdote is an immersive experience offered by the Minnesota Humanities Center that invites participants to visit\, inhabit\, and expand their understanding of Twin Cities sites with deep significance to Dakota people. Participants learn from Dakota community members to reconsider their relationship to land\, water\, sky\, and all life—including other humans—through stories and perspectives that are often left out of our state’s history.  \nBdote is a Dakota word that generally means “where two waters come together.” The bdote where Ȟaȟáwakpa (Mississippi River) and the Mnísota Wakpá (Minnesota River) come together is central to Dakota spirituality and history. Participants will leave with a deeper understanding about Dakota people’s relationship to the place we now call Minnesota and will be encouraged to put newfound knowledge into action and further learning. \nPlease note: This event will primarily be outdoors so dress accordingly. A Minnesota state parks vehicle permit is required (one-day permits are available for $7 and can be purchased online or at any Minnesota state park office). \nRegistration\nRegistration for this event must be made through the Great Northern Festival website. \nRegister Now
URL:https://www.mnhum.org/event/great-northern-bdote-february/
LOCATION:Fort Snelling State Park\, 101 Snelling Lake Road\, St. Paul\, MN\, 55111\, United States
CATEGORIES:Immersive Experiences,Learning from Place,Public Programs
ATTACH;FMTTYPE=image/jpeg:https://www.mnhum.org/wp-content/uploads/2023/11/2024_great_northern_lfp_bdote.jpg
ORGANIZER;CN="Eden Bart":MAILTO:eden@mnhum.org
END:VEVENT
BEGIN:VEVENT
DTSTART;TZID=America/Chicago:20240208T180000
DTEND;TZID=America/Chicago:20240208T200000
DTSTAMP:20260422T030523
CREATED:20240104T165814Z
LAST-MODIFIED:20240122T195921Z
UID:10000342-1707415200-1707422400@www.mnhum.org
SUMMARY:St. Paul - Feeding Our Souls: The Essence of Black Joy
DESCRIPTION:Minnesota Humanities Center is excited to host\, “Feeding Our Souls\, the Essence of Cultural Joy\,” food series. Food has always played a pivotal role in shaping our identities and communities. It binds families\, showcases heritage\, and promotes understanding. Our program delves into this unique intersection of food and culture\, inviting participants to explore the rich narratives behind every dish. Join us at the Minnesota Humanities Center\, where beloved local chefs and cooks will showcase dishes that speak about their cultural backgrounds. Through interactive “taste circles” attendees will be encouraged to share their own memories and traditions related to food\, further enriching a collective experience. \nOur first event in recognition of Black History Month is Feeding Our Souls\, the Essence of Black Joy. Participants will engage in the cultural richness of food\, music\, and historical research that defines the essence of Black joy.  \nFeatured Chef – Chef Gerard Klass’ culinary expertise is inspired by the richness of his Caribbean and African American heritage. Prior to co-founding Soul Bowl with his wife Brittney\, he had over 10 years of experience at Kaskaid Hospitality as Executive Chef where he opened new restaurant concepts in the South\, East Coast and Midwest. Soul Bowl has been featured in a number of local\, regional and national publications and was awarded one of the top 50 restaurants in Minnesota by Minneapolis Saint Paul Magazine two years in a row. \nFood Commentary – Steven Montomery is a social studies/ethnic studies content lead for the Minneapolis Public Schools and designed lessons for educators with a creative approach to teaching the richness and history of Black cuisine. Steven’s family upbringing influenced his interest in food stories that led to his passion for finding ways to inspire students to expand their own pride\, self-identity and confidence in themselves. \nSpecial Performance – Ginger Commodore is a singer\, songwriter\, & actress. She performs jazz\, blues\, rhythm and blues\, contemporary\, and gospel music and regularly appears at local club venues The Dakota Jazz Club & Crooners Supper Club. Ginger is also currently a Teaching Artist with the Vocal Essence Witness Program. \nRegistration\nRegistration Questions: registrations@mnhum.org \nRegister Now
URL:https://www.mnhum.org/event/feeding-our-souls-the-essence-of-black-joy/
LOCATION:Minnesota Humanities Event Center\, 987 Ivy Avenue East\, Saint Paul\, MN\, 55106\, United States
CATEGORIES:Cultural Harmony,Feeding Our Souls,Public Programs
ATTACH;FMTTYPE=image/png:https://www.mnhum.org/wp-content/uploads/2024/01/event_feeding_souls_black_joy-1.png
ORGANIZER;CN="Rose McGee":MAILTO:rose@mnhum.org
END:VEVENT
BEGIN:VEVENT
DTSTART;TZID=America/Chicago:20240213T180000
DTEND;TZID=America/Chicago:20240213T200000
DTSTAMP:20260422T030523
CREATED:20231220T202205Z
LAST-MODIFIED:20240209T224407Z
UID:10000335-1707847200-1707854400@www.mnhum.org
SUMMARY:Online - Refraction: A Gender and Sexuality Discussion Series
DESCRIPTION:Session 1: Book Bans and the Freedom to Read\nIssues related to gender and sexuality continue to be paramount in many areas\, including politics\, law\, health care\, parenting\, identity\, and social justice. In this three-part discussion series\, we will consider how gender and sexuality are refracted\, or how their meaning and social expression are changing and moving as we think through the topics of book bans\, transgender rights\, and masculinity. \nBooks continue to be banned or challenged across the nation\, and Minnesota is not exempt in that respect. Book bans have risen by a third over the past year in public schools\, and many of these bans are targeting LGBTQ+ characters\, themes\, and intersectional identities. This session of Refraction: A Gender and Sexuality Discussion Series will examine the controversy over sexuality and book bans and provide an opportunity to hear directly from authors whose work has been challenged. Quatrefoil Library\, a library and queer gathering space in the Twin Cities\, will be in conversation with J.J. Austrian\, author of Worm Loves Worm\, Trung Le Nguyen\, author of The Magic Fish\, and Junauda Petrus\, author of The Stars and the Blackness Between Them. \nWhat you can expect from this series: \n\nScholars\, experts\, community members\, and authors will share what the landscape looks like nationally and in Minnesota\, as well as talk about their personal experiences and perspectives.		\nEach session will have a resource list of articles\, books\, and organizations to help you gain a deeper understanding of the issues at hand.\nEngage in small and large group discussions as well as exploring ways to effect change and take action.\n\nRegistration\nRegistration is required. There is no cost to attend; sign up for one or all three sessions. Each session will take place virtually; a zoom link will be sent closer to the date of the session.  \nEducators can receive CEU’s for attending. \nRegistration Questions: registrations@mnhum.org \nREGISTRATION FOR THIS EVENT HAS CLOSED
URL:https://www.mnhum.org/event/gender-sexuality-session-one/
LOCATION:Online
CATEGORIES:Books, Poetry, and Literature,Online,Online,Professional Development,Public Programs
ATTACH;FMTTYPE=image/png:https://www.mnhum.org/wp-content/uploads/2023/12/event_refraction_gender_sexuality.png
ORGANIZER;CN="Corey China":MAILTO:corey@mnhum.org
END:VEVENT
END:VCALENDAR