BEGIN:VCALENDAR
VERSION:2.0
PRODID:-//Minnesota Humanities Center - ECPv6.15.20//NONSGML v1.0//EN
CALSCALE:GREGORIAN
METHOD:PUBLISH
X-WR-CALNAME:Minnesota Humanities Center
X-ORIGINAL-URL:https://www.mnhum.org
X-WR-CALDESC:Events for Minnesota Humanities Center
REFRESH-INTERVAL;VALUE=DURATION:PT1H
X-Robots-Tag:noindex
X-PUBLISHED-TTL:PT1H
BEGIN:VTIMEZONE
TZID:America/Chicago
BEGIN:DAYLIGHT
TZOFFSETFROM:-0600
TZOFFSETTO:-0500
TZNAME:CDT
DTSTART:20230312T080000
END:DAYLIGHT
BEGIN:STANDARD
TZOFFSETFROM:-0500
TZOFFSETTO:-0600
TZNAME:CST
DTSTART:20231105T070000
END:STANDARD
BEGIN:DAYLIGHT
TZOFFSETFROM:-0600
TZOFFSETTO:-0500
TZNAME:CDT
DTSTART:20240310T080000
END:DAYLIGHT
BEGIN:STANDARD
TZOFFSETFROM:-0500
TZOFFSETTO:-0600
TZNAME:CST
DTSTART:20241103T070000
END:STANDARD
BEGIN:DAYLIGHT
TZOFFSETFROM:-0600
TZOFFSETTO:-0500
TZNAME:CDT
DTSTART:20250309T080000
END:DAYLIGHT
BEGIN:STANDARD
TZOFFSETFROM:-0500
TZOFFSETTO:-0600
TZNAME:CST
DTSTART:20251102T070000
END:STANDARD
END:VTIMEZONE
BEGIN:VEVENT
DTSTART;TZID=America/Chicago:20241102T093000
DTEND;TZID=America/Chicago:20241102T120000
DTSTAMP:20260421T200905
CREATED:20230817T135111Z
LAST-MODIFIED:20240920T214004Z
UID:10000380-1730539800-1730548800@www.mnhum.org
SUMMARY:Online - Teaching Bdote: Tools for Teaching Dakota Content
DESCRIPTION:Teaching Bdote: Tools for Teaching Dakota Content is designed for educators who have attended\, or are planning to attend\, Learning from Place: Bdote. This workshop is especially useful for developing unique classroom content to align with Minnesota State Social Studies Standards. \nOffered in collaboration with Saint Paul Public Schools\, this online workshop will address the concerns and anxieties that non-Indigenous educators may have around teaching Dakota history. Educators will leave with new resources and content\, deeper understanding\, and ideas for how to lead a Bdote trip or to bring the experience into the classroom. \nTeaching Bdote will be facilitated and presented by Ramona Kitto Stately\, Ethan Neerdaels\, and the Saint Paul Public Schools Office of Teaching and Learning. \nRegistration\nIf cost is a concern\, we have a limited number of complimentary spaces available for Minnesota residents. To request a complimentary spot\, please register with Discount Code WAIVE24. \nThrough our partnership with Saint Paul Public Schools\, the fee is waived for all SPPS educators. Please register with Discount Code SPPS24. \nRegistration Questions: registrations@mnhum.org | MHC Cancellation Policy \nRegister Now
URL:https://www.mnhum.org/event/online-teaching-bdote/
LOCATION:Online
CATEGORIES:K-12 Education,Online,Professional Development
ATTACH;FMTTYPE=image/jpeg:https://www.mnhum.org/wp-content/uploads/2023/08/event_teaching_bdote_2024.jpg
ORGANIZER;CN="Eden Bart":MAILTO:eden@mnhum.org
END:VEVENT
BEGIN:VEVENT
DTSTART;TZID=America/Chicago:20241102T130000
DTEND;TZID=America/Chicago:20241102T150000
DTSTAMP:20260421T200905
CREATED:20241010T230801Z
LAST-MODIFIED:20250418T142451Z
UID:10000456-1730552400-1730559600@www.mnhum.org
SUMMARY:Winona - Examining Military Service From the Margins
DESCRIPTION:Session 1: Introduction/What motivates people to serve?\nVeterans\, active service members\, and civilians are invited to contribute to the “Examining Military Service From the Margins” discussion series. Facilitated by pairs of Discussion Leaders\, each session will use guiding questions\, and a set of core-shared resources like oral histories and films\, to better understand how race\, class\, gender\, sexuality\, religion\, and other factors have caused the military service of some individuals to be devalued or limited in some capacity. All Discussion Leaders are either active service members or Veterans.  \nConsideration of central topics and themes\, and discussion of key moments from military history\, such as self-emancipation among the U.S. Colored Troops members in the Civil War\, or the repeal of Don’t Ask Don’t Tell more recently\, will spark greater conversations about service\, democracy\, citizenship\, equality and more. Additional resources will be offered for those with extra time wanting to explore even further. \nSession One of “Examining Military Service From the Margins” will introduce participants to core concepts of the discussion series and consider the guiding questions\, “What do we mean by ‘Examining Military Service From the Margins?’” and “What motivates people to serve?”  \nWhat you can expect from this series:\n\nDiscussion Leaders\, Veterans\, active service members\, and civilians will share information on military service\, as well as talk about their personal experiences and perspectives.\nEach session will have a resource list of articles\, books\, and organizations to help you gain a deeper understanding of the issues at hand.\nEngage in small and large group discussions.\n\nRegistration\nRegistration is required. There is no cost to attend; sign up for one or two sessions. \nRegistration Questions: registrations@mnhum.org \nRegister Now
URL:https://www.mnhum.org/event/winona-examining-military-service-from-the-margins-session-1/
LOCATION:Winona County Historical Society\, 160 Johnson Street\, Winona\, MN\, 55987\, United States
CATEGORIES:Free,Greater Minnesota,Many Fronts,Public Programming,Veterans
ATTACH;FMTTYPE=image/png:https://www.mnhum.org/wp-content/uploads/2024/03/event_examining_military_service_margins.png
ORGANIZER;CN="Colin Nelson-Dusek":MAILTO:colin@mnhum.org
END:VEVENT
BEGIN:VEVENT
DTSTART;TZID=America/Chicago:20241106T180000
DTEND;TZID=America/Chicago:20241106T200000
DTSTAMP:20260421T200905
CREATED:20241015T200425Z
LAST-MODIFIED:20250418T142510Z
UID:10000458-1730916000-1730923200@www.mnhum.org
SUMMARY:Minneapolis - Examining Military Service From the Margins
DESCRIPTION:Session 1: Introduction/What motivates people to serve?\nVeterans\, active service members\, and civilians are invited to contribute to the “Examining Military Service From the Margins” discussion series. Facilitated by pairs of Discussion Leaders\, each session will use guiding questions\, and a set of core-shared resources like oral histories and films\, to better understand how race\, class\, gender\, sexuality\, religion\, and other factors have caused the military service of some individuals to be devalued or limited in some capacity. All Discussion Leaders are either active service members or Veterans.  \nConsideration of central topics and themes\, and discussion of key moments from military history\, such as self-emancipation among the U.S. Colored Troops members in the Civil War\, or the repeal of Don’t Ask Don’t Tell more recently\, will spark greater conversations about service\, democracy\, citizenship\, equality and more. Additional resources will be offered for those with extra time wanting to explore even further. \nSession One of “Examining Military Service From the Margins” will introduce participants to core concepts of the discussion series and consider the guiding questions\, “What do we mean by ‘Examining Military Service From the Margins?’” and “What motivates people to serve?”  \nWhat you can expect from this series:\n\nDiscussion Leaders\, Veterans\, active service members\, and civilians will share information on military service\, as well as talk about their personal experiences and perspectives.\nEach session will have a resource list of articles\, books\, and organizations to help you gain a deeper understanding of the issues at hand.\nEngage in small and large group discussions.\n\nRegistration\nRegistration is required. There is no cost to attend; sign up for one or two sessions. \nRegistration Questions: registrations@mnhum.org \nRegister Now
URL:https://www.mnhum.org/event/minneapolis-examining-military-service-from-the-margins-session-1/
LOCATION:Urban Research and Outreach-Engagement Center (UROC)\, 2001 Plymouth Avenue\, Minneapolis\, MN\, 55411\, United States
CATEGORIES:Free,Many Fronts,Public Programming,Veterans
ATTACH;FMTTYPE=image/png:https://www.mnhum.org/wp-content/uploads/2024/03/event_examining_military_service_margins.png
ORGANIZER;CN="Colin Nelson-Dusek":MAILTO:colin@mnhum.org
END:VEVENT
BEGIN:VEVENT
DTSTART;TZID=America/Chicago:20241107T123000
DTEND;TZID=America/Chicago:20241107T150000
DTSTAMP:20260421T200905
CREATED:20240920T214615Z
LAST-MODIFIED:20241031T175330Z
UID:10000444-1730982600-1730991600@www.mnhum.org
SUMMARY:Online - Beyond Learning from Place: Bdote - Action Planning & Engagement for Accomplices
DESCRIPTION:Since 2013\, the Minnesota Humanities Center has collaborated with Dakota community members to offer Learning from Place: Bdote\, an immersive experience that brings people to sites of significance to Dakota people in the Twin Cities. Over 3\,400 people have participated in this transformative offering\, leaving many wanting to learn and do more.  We are excited to partner with Native Governance Center to host the first of our Beyond Learning from Place: Bdote online workshops.  \nWorkshop Overview:\nAction Planning and Engagement for Accomplices\nPresented by Native Governance Center – nativegov.org \nAre you interested in taking action to support Native communities? Do you feel unsure about how to get started on building relationships and potential partnerships with Native nations? Join Native Governance Center\, a Native-led nonprofit organization\, for a deep dive into best practices for meaningful engagement. This interactive presentation will equip participants with tools for creating supportive action steps using Native Governance Center’s action planning framework. Attendees will also learn how to get into a good headspace and understand protocol before partnering with Native nations. Expect content grounded in real-life examples and ample opportunities to engage with presenters and fellow attendees in a welcoming\, beginner-friendly environment. This presentation is perfect for those wondering “what’s next” after attending a Bdote tour. \nNative Governance Center Presenters: \n\nCree Rose Dueker (Chippewa Cree Tribe): Program Manager for Community Engagement\nSage Phillips (Penobscot Nation): Program Coordinator for Community Engagement\n\nRegistration\nRegistration Questions: registrations@mnhum.org \nRegister Now
URL:https://www.mnhum.org/event/online-beyond-learning-from-place-bdote-action-planning-engagement-for-accomplices/
LOCATION:Online
CATEGORIES:Immersive Experiences,Learning from Place
ATTACH;FMTTYPE=image/png:https://www.mnhum.org/wp-content/uploads/2024/02/event_beyond_lfp_bdote.png
ORGANIZER;CN="Eden Bart":MAILTO:eden@mnhum.org
END:VEVENT
BEGIN:VEVENT
DTSTART;TZID=America/Chicago:20241109T130000
DTEND;TZID=America/Chicago:20241109T150000
DTSTAMP:20260421T200905
CREATED:20241003T124218Z
LAST-MODIFIED:20241003T124321Z
UID:10000454-1731157200-1731164400@www.mnhum.org
SUMMARY:Duluth - Reckoning With Slavery: MN African American History Film Screening & “Where Do We Go From Here?” Community Talk
DESCRIPTION:Award-Winning MN African American History Film Announces Fall 2024 Tour\n“Best Short Documentary” (Santa Barbara International Movie Awards) and “Best Producer” (Hollywood Discovery Awards) film\, Juneteenth Reckoning with Slavery: MN African American History\, announces a 5-city tour happening this Fall. \nAbout the Film\nThis documentary challenges our understanding of slavery\, its impact on Minnesota\, and how we reconcile our past by taking viewers on a present-day journey to Ghana\, to the quarters of Harriet and Dred Scott at Fort Snelling\, and into conversations with current and future scholars about where we go from here. \nCo-produced by: OMG Studios and Minnesota Humanities Center Featuring: King Odeneho Kwafo Akoto\, III & Queen Mother Nana Afrakoma\, II (Akwamu Traditional Area\, Ghana\, AF); Melvin Carter\, III (Mayor\, St. Paul); Kevin Lindsey (CEO\, Minnesota Humanities Center); Dr. Christopher Lehman (Ethnic Studies Chair\, Ethnic\, Gender\, and Women’s Studies\, St. Cloud State University); T. Mychael Rambo; Thomasina Petrus; and Voices from Black Youth Healing Arts Center \nAbout OMG Studios\nOMG Studios is a multidisciplinary media and production studio located in the Raymond-University district of Saint Paul. Our mission is to build cultural sustainability and community\, where music and art are essential to human survival and development. We are driven by love for humanity and a desire to empower\, nurture\, and improve the health and wellness of youth and families in under-invested communities. \nAbout Minnesota Humanities Center\nThe Minnesota Humanities Center (MHC) collaborates with individuals\, organizations\, and communities to bring transformational humanities programming into the lives of Minnesotans throughout the state. \nRegistration\nAdmission is free. This screening features a post-screening discussion with appearances by those featured in the film. \nRegister Now
URL:https://www.mnhum.org/event/duluth-reckoning-with-slavery/
LOCATION:Marcus Duluth Cinema\, 300 Harbor Dr\, Duluth\, MN\, 55802\, United States
CATEGORIES:Free,Greater Minnesota,Public Programming
ATTACH;FMTTYPE=image/jpeg:https://www.mnhum.org/wp-content/uploads/2024/04/event_juneteenth_reckoning_slavery.jpg
ORGANIZER;CN="Casey DeMarais":MAILTO:casey@mnhum.org
END:VEVENT
END:VCALENDAR